BEGIN:VCALENDAR
VERSION:2.0
PRODID:-//Desert Mountain - ECPv6.15.20//NONSGML v1.0//EN
CALSCALE:GREGORIAN
METHOD:PUBLISH
X-ORIGINAL-URL:https://www.desertmountains.org
X-WR-CALDESC:Events for Desert Mountain
REFRESH-INTERVAL;VALUE=DURATION:PT1H
X-Robots-Tag:noindex
X-PUBLISHED-TTL:PT1H
BEGIN:VTIMEZONE
TZID:UTC
BEGIN:STANDARD
TZOFFSETFROM:+0000
TZOFFSETTO:+0000
TZNAME:UTC
DTSTART:20240101T000000
END:STANDARD
END:VTIMEZONE
BEGIN:VEVENT
DTSTART;TZID=UTC:20250719T083000
DTEND;TZID=UTC:20250719T093000
DTSTAMP:20260425T205038
CREATED:20250427T074433Z
LAST-MODIFIED:20250427T074433Z
UID:10000563-1752913800-1752917400@www.desertmountains.org
SUMMARY:Tortoise Chat
DESCRIPTION:Have questions about desert tortoises? Come visit our desert tortoise enclosure and learn about conservation efforts to study and protect our wild desert tortoise population in the Monument. Also\, great opportunity to meet Bowser\, our adopted Mojave desert tortoise who lives on site. \nMeet at the tortoise enclosure any time between 8:30am – 9:30am. (Note: times may be reduced due to heat.) \nNO RESERVATION REQUIRED. \nFor more information call the Visitor Center at 760-862-9984. \nSponsored by the Bureau of Land Management in partnership with Friends of the Desert Mountains.
URL:https://www.desertmountains.org/event/tortoise-chat-3/2025-07-19/
LOCATION:Santa Rosa & San Jacinto Mountains National Monument\, 51500 Highway 74\, Palm Desert\, CA\, 92260\, United States
ATTACH;FMTTYPE=image/jpeg:https://www.desertmountains.org/wp-content/uploads/2025/04/tortoise-talk1.jpg
END:VEVENT
BEGIN:VEVENT
DTSTART;TZID=UTC:20250719T200000
DTEND;TZID=UTC:20250719T220000
DTSTAMP:20260425T205038
CREATED:20241128T221703Z
LAST-MODIFIED:20241128T221703Z
UID:10000164-1752955200-1752962400@www.desertmountains.org
SUMMARY:Star Party in the Mountains
DESCRIPTION:Join members of the Astronomical Society of the Desert for fun “sky tours” and direct observations of the night sky through telescopes and binoculars. \nThis is a family event. Minors must be accompanied by parent or guardian. For more information call 760-862-9984. \nEtiquette: please do not touch equipment unless requested. No white lights near telescope field. \nNOTE: OVERCAST SKIES AND HIGH WINDS CANCEL THIS EVENT. \nView map & UTM coordinates for the Sawmill Parking Lot: 33.57995\, -116.45056
URL:https://www.desertmountains.org/event/star-party-in-the-mountains-10/
LOCATION:Sawmill Trailhead Parking Lot\, HGHX+XQG\, Pinyon Pines\, CA
ATTACH;FMTTYPE=image/jpeg:https://www.desertmountains.org/wp-content/uploads/2024/09/star-party-fullmoon-ribbonwood-scaled.jpg
END:VEVENT
END:VCALENDAR