BEGIN:VCALENDAR
VERSION:2.0
PRODID:-//Desert Mountain - ECPv6.15.20//NONSGML v1.0//EN
CALSCALE:GREGORIAN
METHOD:PUBLISH
X-ORIGINAL-URL:https://www.desertmountains.org
X-WR-CALDESC:Events for Desert Mountain
REFRESH-INTERVAL;VALUE=DURATION:PT1H
X-Robots-Tag:noindex
X-PUBLISHED-TTL:PT1H
BEGIN:VTIMEZONE
TZID:UTC
BEGIN:STANDARD
TZOFFSETFROM:+0000
TZOFFSETTO:+0000
TZNAME:UTC
DTSTART:20240101T000000
END:STANDARD
END:VTIMEZONE
BEGIN:VTIMEZONE
TZID:America/Los_Angeles
BEGIN:DAYLIGHT
TZOFFSETFROM:-0800
TZOFFSETTO:-0700
TZNAME:PDT
DTSTART:20240310T100000
END:DAYLIGHT
BEGIN:STANDARD
TZOFFSETFROM:-0700
TZOFFSETTO:-0800
TZNAME:PST
DTSTART:20241103T090000
END:STANDARD
BEGIN:DAYLIGHT
TZOFFSETFROM:-0800
TZOFFSETTO:-0700
TZNAME:PDT
DTSTART:20250309T100000
END:DAYLIGHT
BEGIN:STANDARD
TZOFFSETFROM:-0700
TZOFFSETTO:-0800
TZNAME:PST
DTSTART:20251102T090000
END:STANDARD
BEGIN:DAYLIGHT
TZOFFSETFROM:-0800
TZOFFSETTO:-0700
TZNAME:PDT
DTSTART:20260308T100000
END:DAYLIGHT
BEGIN:STANDARD
TZOFFSETFROM:-0700
TZOFFSETTO:-0800
TZNAME:PST
DTSTART:20261101T090000
END:STANDARD
END:VTIMEZONE
BEGIN:VEVENT
DTSTART;TZID=UTC:20251001T080000
DTEND;TZID=UTC:20251001T103000
DTSTAMP:20260425T160435
CREATED:20250905T020847Z
LAST-MODIFIED:20250909T080623Z
UID:10000699-1759305600-1759314600@www.desertmountains.org
SUMMARY:Carrizo Canyon Opening Day
DESCRIPTION:The Carrizo Canyon Ecological Preserve opens for the season on October 1st. This docent led hike takes you into a canyon that provides a chance to see the endangered Peninsular Bighorn Sheep and other desert critters\, learn about the geology of the area and a great outdoor experience close to downtown Palm Desert. \nThis trail is in a sandy wash with uneven terrain. As the canyon narrows there will be some rocks and small boulders to hike around and step over. Hike rating is easy\, approximately 3 miles round trip. Elevation gain is approximately 350 feet. Bring snacks and 2 liters of water per person. Wear closed-toed shoes\, sun hat and sunscreen. Sorry no dogs are allowed. \nRSVP is required. Check-in 15 minutes prior to departure time. \nPlease note: We will meet at the Art Smith Trailhead parking lot located just past the driveway for the Visitor Center approximately 100 feet on the southwest side of Highway 74. View map/UTM coordinates directions for trailhead location: 33.667957\, -116.407666 \nFor more information contact Friends of the Desert Mountains 760-568-9918 or the Visitor Center at 760-862-9984.  \nA suggested non-refundable donation of $5.00 per person is appreciated and encouraged to support our volunteer programs. \nTicket reservations begin 2 weeks prior to the event and will be published at that time. Your optional non-refundable donation is not a ticket to attend.  \n 
URL:https://www.desertmountains.org/event/carrizo-canyon-opening-day/
LOCATION:Art Smith Trail Parking Lot\, Art Smith Trailhead\, Highway 74\, Palm Desert\, CA\, 92260\, United States
ATTACH;FMTTYPE=image/jpeg:https://www.desertmountains.org/wp-content/uploads/2025/09/Carrizo-Cyn-scaled.jpg
END:VEVENT
BEGIN:VEVENT
DTSTART;TZID=America/Los_Angeles:20251001T080000
DTEND;TZID=America/Los_Angeles:20251001T103000
DTSTAMP:20260425T160435
CREATED:20250908T003952Z
LAST-MODIFIED:20250921T230419Z
UID:10000706-1759305600-1759314600@www.desertmountains.org
SUMMARY:CANCELLED-Dead Indian Canyon Interpretative Hike
DESCRIPTION:Dead Indian canyon is only open from October through December and provides wonderful opportunities to see the endangered Peninsular Bighorn Sheep and many other desert critters. You will learn about the geology of the area and a great outdoor experience close to downtown Palm Desert. \nThis trail traverses a sandy wash with uneven terrain with cobble (small rocks). Hike rating is easy\, approximately 2 miles round trip. Elevation gain is approximately 200 feet. Sorry no dogs allowed on this trail. Bring snacks and 2 liters of water per person. Wear close-toed shoes\, sun hat and sunscreen. \nRSVP is required. Check-in 15 minutes prior to start time. \nPlease note: We will meet at the Art Smith Trailhead parking lot located just past the driveway for the Visitor Center approximately 100 feet on the southwest side of Highway 74.View map/UTM coordinates for trailhead location: 33.667957\, -116.407666 \nFor more information contact Friends of the Desert Mountains 760-568-9918 or the Visitor Center at 760-862-9984. \nA suggested non-refundable donation of $5.00 per person is appreciated and encouraged to support our volunteer programs. \nTicket reservations begin 2 weeks prior to the event and will be published at that time. Your optional non-refundable donation is not a ticket to attend.  \n\n 
URL:https://www.desertmountains.org/event/dead-indian-canyon-interpretative-hike-16/
LOCATION:Art Smith Trail Parking Lot\, Art Smith Trailhead\, Highway 74\, Palm Desert\, CA\, 92260\, United States
ATTACH;FMTTYPE=image/jpeg:https://www.desertmountains.org/wp-content/uploads/2024/11/5948bad4bf565dd3fe0856fdc59fdbdf-fBVcjg.tmp_.jpg
END:VEVENT
BEGIN:VEVENT
DTSTART;TZID=UTC:20251001T170000
DTEND;TZID=UTC:20251001T180000
DTSTAMP:20260425T160435
CREATED:20250905T092554Z
LAST-MODIFIED:20250909T063433Z
UID:10000700-1759338000-1759341600@www.desertmountains.org
SUMMARY:Native Planting Lecture at the Coachella Library
DESCRIPTION:Join Us for a Community Event on Rebuilding Our Natural Habitat. \nCome learn how to restore our natural environment in our neighborhoods. Enjoy complimentary food and receive free native trees and shrubs!   \nReservation is required. \nFor more information contact Edeli R. Gonzalez at egonzalez@desertmountains.org or at Friends of the Desert Mountains 760-568-9918.  \n 
URL:https://www.desertmountains.org/event/native-planting-lecture/
LOCATION:Coachella Library\, 1500 6th Street\, Coachella\, 92236\, United States
ATTACH;FMTTYPE=image/jpeg:https://www.desertmountains.org/wp-content/uploads/2025/09/Native-Plants-scaled.jpg
END:VEVENT
END:VCALENDAR