BEGIN:VCALENDAR
VERSION:2.0
PRODID:-//Desert Mountain - ECPv6.15.20//NONSGML v1.0//EN
CALSCALE:GREGORIAN
METHOD:PUBLISH
X-WR-CALNAME:Desert Mountain
X-ORIGINAL-URL:https://www.desertmountains.org
X-WR-CALDESC:Events for Desert Mountain
REFRESH-INTERVAL;VALUE=DURATION:PT1H
X-Robots-Tag:noindex
X-PUBLISHED-TTL:PT1H
BEGIN:VTIMEZONE
TZID:America/Los_Angeles
BEGIN:DAYLIGHT
TZOFFSETFROM:-0800
TZOFFSETTO:-0700
TZNAME:PDT
DTSTART:20240310T100000
END:DAYLIGHT
BEGIN:STANDARD
TZOFFSETFROM:-0700
TZOFFSETTO:-0800
TZNAME:PST
DTSTART:20241103T090000
END:STANDARD
BEGIN:DAYLIGHT
TZOFFSETFROM:-0800
TZOFFSETTO:-0700
TZNAME:PDT
DTSTART:20250309T100000
END:DAYLIGHT
BEGIN:STANDARD
TZOFFSETFROM:-0700
TZOFFSETTO:-0800
TZNAME:PST
DTSTART:20251102T090000
END:STANDARD
BEGIN:DAYLIGHT
TZOFFSETFROM:-0800
TZOFFSETTO:-0700
TZNAME:PDT
DTSTART:20260308T100000
END:DAYLIGHT
BEGIN:STANDARD
TZOFFSETFROM:-0700
TZOFFSETTO:-0800
TZNAME:PST
DTSTART:20261101T090000
END:STANDARD
END:VTIMEZONE
BEGIN:VEVENT
DTSTART;TZID=America/Los_Angeles:20251016T140000
DTEND;TZID=America/Los_Angeles:20251016T150000
DTSTAMP:20260425T155852
CREATED:20250912T062008Z
LAST-MODIFIED:20251006T142100Z
UID:10000731-1760623200-1760626800@www.desertmountains.org
SUMMARY:Lecture: Native Planting in the Coachella Valley
DESCRIPTION:Join Friends of the Desert Mountains for a lecture at the Rancho Mirage Library on the amazing native plants found in our Coachella Valley. Native plants can enhance any landscape while also providing many benefits\, from increasing local biodiversity to saving water and saving you money on your utility bills. \nCome learn more about our native plants\, such as the blue palo verde and the honey mesquite\, and how you can start adding native plants to your garden at home! \nNo reservations required for this free lecture\, view event at Rancho Mirage Library. \nFor more information contact Friends of the Desert Mountains  760-568-9918. \nHosted by the Rancho Mirage Library. Co-sponsored by Friends of the Desert Mountains. \n  \n  \n 
URL:https://www.desertmountains.org/event/lecture-native-planting-in-the-coachella-library/
LOCATION:Rancho Mirage Library\, 71100 CA-111\, Rancho Mirage\, CA\, 92270\, United States
ATTACH;FMTTYPE=image/jpeg:https://www.desertmountains.org/wp-content/uploads/2025/09/Native-Plants-scaled.jpg
END:VEVENT
END:VCALENDAR