BEGIN:VCALENDAR
VERSION:2.0
PRODID:-//Desert Mountain - ECPv6.15.20//NONSGML v1.0//EN
CALSCALE:GREGORIAN
METHOD:PUBLISH
X-WR-CALNAME:Desert Mountain
X-ORIGINAL-URL:https://www.desertmountains.org
X-WR-CALDESC:Events for Desert Mountain
REFRESH-INTERVAL;VALUE=DURATION:PT1H
X-Robots-Tag:noindex
X-PUBLISHED-TTL:PT1H
BEGIN:VTIMEZONE
TZID:America/Los_Angeles
BEGIN:DAYLIGHT
TZOFFSETFROM:-0800
TZOFFSETTO:-0700
TZNAME:PDT
DTSTART:20240310T100000
END:DAYLIGHT
BEGIN:STANDARD
TZOFFSETFROM:-0700
TZOFFSETTO:-0800
TZNAME:PST
DTSTART:20241103T090000
END:STANDARD
BEGIN:DAYLIGHT
TZOFFSETFROM:-0800
TZOFFSETTO:-0700
TZNAME:PDT
DTSTART:20250309T100000
END:DAYLIGHT
BEGIN:STANDARD
TZOFFSETFROM:-0700
TZOFFSETTO:-0800
TZNAME:PST
DTSTART:20251102T090000
END:STANDARD
BEGIN:DAYLIGHT
TZOFFSETFROM:-0800
TZOFFSETTO:-0700
TZNAME:PDT
DTSTART:20260308T100000
END:DAYLIGHT
BEGIN:STANDARD
TZOFFSETFROM:-0700
TZOFFSETTO:-0800
TZNAME:PST
DTSTART:20261101T090000
END:STANDARD
END:VTIMEZONE
BEGIN:VEVENT
DTSTART;TZID=America/Los_Angeles:20251018T083000
DTEND;TZID=America/Los_Angeles:20251018T093000
DTSTAMP:20260425T155852
CREATED:20251005T230651Z
LAST-MODIFIED:20251005T230652Z
UID:10000846-1760776200-1760779800@www.desertmountains.org
SUMMARY:Tortoise Chat (cancelled during government shut-down)
DESCRIPTION:WHILE THE GOVERNMENT IS SHUT-DOWN\, THIS EVENT IS CANCELLED. \n  \nHave questions about desert tortoises? Come visit our desert tortoise enclosure and learn about conservation efforts to study and protect our wild desert tortoise population in the Monument. Also\, great opportunity to meet Bowser\, our adopted Mojave desert tortoise who lives on site. \nMeet at the tortoise enclosure any time between 8:30am – 9:30am. (Note: times may be reduced due to heat.) \nNO RESERVATION REQUIRED. \nFor more information call the Visitor Center at 760-862-9984. \nSponsored by the Bureau of Land Management in partnership with Friends of the Desert Mountains.
URL:https://www.desertmountains.org/event/tortoise-chat-3-3-2-2-2/2025-10-18/
LOCATION:Santa Rosa & San Jacinto Mountains National Monument\, 51500 Highway 74\, Palm Desert\, CA\, 92260\, United States
ATTACH;FMTTYPE=image/jpeg:https://www.desertmountains.org/wp-content/uploads/2025/04/tortoise-talk1.jpg
END:VEVENT
BEGIN:VEVENT
DTSTART;TZID=America/Los_Angeles:20251018T180000
DTEND;TZID=America/Los_Angeles:20251018T210000
DTSTAMP:20260425T155852
CREATED:20241128T221925Z
LAST-MODIFIED:20251006T142835Z
UID:10000167-1760810400-1760821200@www.desertmountains.org
SUMMARY:Star Party in the Mountains
DESCRIPTION:Join members of the Astronomical Society of the Desert for fun “sky tours” and direct observations of the night sky through telescopes and binoculars. \nThis is a family event. Minors must be accompanied by parent or guardian. \nThis event is wheelchair accessible with asphalt surfaces. \nEtiquette: please do not touch equipment unless requested. No white lights near telescope field. \nNOTE: OVERCAST SKIES AND HIGH WINDS CANCEL THIS EVENT. \nView map & UTM coordinates for the Sawmill Parking Lot: 33.57995\, -116.45056 \nFor more information contact Friends of the Desert Mountains 760-598-9918. \nRSVP is not required.
URL:https://www.desertmountains.org/event/star-party-in-the-mountains-13/
LOCATION:Sawmill Trailhead Parking Lot\, HGHX+XQG\, Pinyon Pines\, CA
ATTACH;FMTTYPE=image/jpeg:https://www.desertmountains.org/wp-content/uploads/2024/09/star-party-fullmoon-ribbonwood-scaled.jpg
END:VEVENT
END:VCALENDAR