BEGIN:VCALENDAR
VERSION:2.0
PRODID:-//Desert Mountain - ECPv6.15.20//NONSGML v1.0//EN
CALSCALE:GREGORIAN
METHOD:PUBLISH
X-WR-CALNAME:Desert Mountain
X-ORIGINAL-URL:https://www.desertmountains.org
X-WR-CALDESC:Events for Desert Mountain
REFRESH-INTERVAL;VALUE=DURATION:PT1H
X-Robots-Tag:noindex
X-PUBLISHED-TTL:PT1H
BEGIN:VTIMEZONE
TZID:America/Los_Angeles
BEGIN:DAYLIGHT
TZOFFSETFROM:-0800
TZOFFSETTO:-0700
TZNAME:PDT
DTSTART:20240310T100000
END:DAYLIGHT
BEGIN:STANDARD
TZOFFSETFROM:-0700
TZOFFSETTO:-0800
TZNAME:PST
DTSTART:20241103T090000
END:STANDARD
BEGIN:DAYLIGHT
TZOFFSETFROM:-0800
TZOFFSETTO:-0700
TZNAME:PDT
DTSTART:20250309T100000
END:DAYLIGHT
BEGIN:STANDARD
TZOFFSETFROM:-0700
TZOFFSETTO:-0800
TZNAME:PST
DTSTART:20251102T090000
END:STANDARD
BEGIN:DAYLIGHT
TZOFFSETFROM:-0800
TZOFFSETTO:-0700
TZNAME:PDT
DTSTART:20260308T100000
END:DAYLIGHT
BEGIN:STANDARD
TZOFFSETFROM:-0700
TZOFFSETTO:-0800
TZNAME:PST
DTSTART:20261101T090000
END:STANDARD
END:VTIMEZONE
BEGIN:VEVENT
DTSTART;TZID=America/Los_Angeles:20251019T050000
DTEND;TZID=America/Los_Angeles:20251025T210000
DTSTAMP:20260425T155852
CREATED:20250913T234342Z
LAST-MODIFIED:20251016T220349Z
UID:10000732-1760850000-1761426000@www.desertmountains.org
SUMMARY:Fall Bioblitz: Santa Rosa & San Jacinto Mountains National Monument
DESCRIPTION:WHILE THE GOVERNMENT IS SHUT-DOWN\, THE SPECIAL ONE DAY EVENT TO GO OUT WITH OUR RESEARCHERS WILL BE CANCELLED. YOU ARE FREE TO BIOBLITZ ON YOUR OWN DURING THIS WEEK. \nThe Santa Rosa and San Jacinto Mountains is a hotspot for biodiversity with over 3\,100 species. Help us find and document more species by participating in this year-long bioblitz event to keep identifying new species. \nAnyone can participate by going outside and exploring any of the over 280+ miles of designated trails in the Monument and identifying any plants or animals you see using the iNaturalist app on your phone. Be sure to add the Santa Rosa and San Jacinto Mountains National Monument project to your iNaturalist account to participate. Learn more about iNaturalist here. \nParticipants are encouraged to explore the trails and record as many species as they can using the iNaturalist app. There will be one day that week that participants can participate in a special bioblitz event with other participants and local researchers and specialists. Info can be requested by calling the Friends of the Desert Mountains at 760-568-9918 or the Visitor Center (760) 862-9984 a week prior to the start of the event. \nLocation: Special one day event with researchers and specialists is To Be Determined. Otherwise\, participants can explore any of the Monument trails on their own at any time. \nGuides: Various Santa Rosa and San Jacinto Mountains National Monument staff and research partners \nTHE REGISTRATION HERE IS TO PARTICIPATE IN THE WEEK-LONG EVENT. REGISTRATION FOR A DAY OUT WITH OUR RESEARCHERS WILL BE POSTED THE WEEK PRIOR. We will send an email to registered participants to advise when sign-ups are ready for this special research activity. Space will be limited\, so sign up ASAP after receiving notice. This is a free event. \nSponsored by the Bureau of Land Management and the U.S. Forest Service in collaboration with the Friends of the Desert Mountains.
URL:https://www.desertmountains.org/event/fall-bioblitz-santa-rosa-san-jacinto-mountains-national-monument-2/
LOCATION:Santa Rosa & San Jacinto Mountains National Monument\, 51500 Highway 74\, Palm Desert\, CA\, 92260\, United States
ATTACH;FMTTYPE=image/jpeg:https://www.desertmountains.org/wp-content/uploads/2025/08/dc3e44d0b6184dd146817e7704b5917e-bY1gDH.tmp_.jpg
END:VEVENT
BEGIN:VEVENT
DTSTART;TZID=America/Los_Angeles:20251024T083000
DTEND;TZID=America/Los_Angeles:20251024T130000
DTSTAMP:20260425T155852
CREATED:20250903T034808Z
LAST-MODIFIED:20251016T222056Z
UID:10000698-1761294600-1761310800@www.desertmountains.org
SUMMARY:25th Anniversary Hike - SRSJM National Monument (cancelled if government shut down)
DESCRIPTION:IF THE GOVERNMENT IS SHUT-DOWN\, THIS EVENT IS CANCELLED.   \nCome out to celebrate the Santa Rosa and San Jacinto Mountains National Monument 25th anniversary with a special hike lead by the Monument Manager. \nJoin us for a hike on the spectacular Pacific Crest National Scenic Trail and learn about some of the epic resources unique to the Monument! This is a moderate hike through desert wash\, 300-foot elevation gain\, 5-miles round trip. Bring 2 liters of water\, snack\, sun protection. \nMeet at Pacific Crest Trail\, about a mile south on Snow Creek Road off Highway 111 west of Windy Point near the Interstate 10 and Highway 111 intersection. Do Not enter the private residential area. Check-in begins 15 minutes prior to your departure time. \nClick here to view map/UTM coordinates for trailhead location: 33.89374\, -116.68297 \nFor more information contact Friends of the Desert Mountains at 760-568-9918 or the Visitor Center at 760-862-9984. \nSponsored by the Bureau of Land Management in partnership with Friends of the Desert Mountains. \nRSVP required. Reservations begin 2 weeks prior to the event.
URL:https://www.desertmountains.org/event/25th-anniversary-hike-santa-rosa-san-jacinto-mountains-national-monument/
LOCATION:Pacific Crest Trail Snow Creek\, Snow Creek Canyon Road and PCT\, Whitewater\, CA\, 92282\, United States
ATTACH;FMTTYPE=image/jpeg:https://www.desertmountains.org/wp-content/uploads/2025/03/dd0e0de645397169217e735b222a8807-u4wq6v.tmp_.jpg
END:VEVENT
END:VCALENDAR