BEGIN:VCALENDAR
VERSION:2.0
PRODID:-//Desert Mountain - ECPv6.15.20//NONSGML v1.0//EN
CALSCALE:GREGORIAN
METHOD:PUBLISH
X-ORIGINAL-URL:https://www.desertmountains.org
X-WR-CALDESC:Events for Desert Mountain
REFRESH-INTERVAL;VALUE=DURATION:PT1H
X-Robots-Tag:noindex
X-PUBLISHED-TTL:PT1H
BEGIN:VTIMEZONE
TZID:America/Los_Angeles
BEGIN:DAYLIGHT
TZOFFSETFROM:-0800
TZOFFSETTO:-0700
TZNAME:PDT
DTSTART:20240310T100000
END:DAYLIGHT
BEGIN:STANDARD
TZOFFSETFROM:-0700
TZOFFSETTO:-0800
TZNAME:PST
DTSTART:20241103T090000
END:STANDARD
BEGIN:DAYLIGHT
TZOFFSETFROM:-0800
TZOFFSETTO:-0700
TZNAME:PDT
DTSTART:20250309T100000
END:DAYLIGHT
BEGIN:STANDARD
TZOFFSETFROM:-0700
TZOFFSETTO:-0800
TZNAME:PST
DTSTART:20251102T090000
END:STANDARD
BEGIN:DAYLIGHT
TZOFFSETFROM:-0800
TZOFFSETTO:-0700
TZNAME:PDT
DTSTART:20260308T100000
END:DAYLIGHT
BEGIN:STANDARD
TZOFFSETFROM:-0700
TZOFFSETTO:-0800
TZNAME:PST
DTSTART:20261101T090000
END:STANDARD
END:VTIMEZONE
BEGIN:VEVENT
DTSTART;TZID=America/Los_Angeles:20251031T083000
DTEND;TZID=America/Los_Angeles:20251031T123000
DTSTAMP:20260425T143035
CREATED:20250910T075734Z
LAST-MODIFIED:20250910T084437Z
UID:10000719-1761899400-1761913800@www.desertmountains.org
SUMMARY:Willis Palms Oasis Loop Trail
DESCRIPTION:You will be hiking on the San Andreas fault and experiencing all the beauty and adventure it delivers on this unique trail. During the hike we will discuss the incredible biodiversity as we explore 3 different desert habitats; examine the complex geology in and around the oasis and hike through the middle of the 4th largest desert oasis in the Coachella Valley.The hike is a 4.7 mile loop trail with over 500 feet of elevation gain. \nBring snacks\, 2 liters of water per person and your hiking poles. Wear close-toed shoes\, sun hat and sunscreen. Sorry no dogs are allowed on this trail. \nRSVP is required. Check-in begins 15 minutes prior to start time. \nView map/UTM coordinates directions for trailhead location: 33.822404\, -116.323454  \nFor more information contact Friends of the Desert Mountains 760-568-9918 or the Visitor Center at 760-862-9984. \nA suggested non-refundable donation of $5.00 per person is appreciated and encouraged to support our volunteer programs. \n Ticket reservations begin 2 weeks prior to the event and will be published at that time. Your optional non-refundable donation is not a ticket to attend.\n 
URL:https://www.desertmountains.org/event/willis-palms-oasis-loop-trail/
LOCATION:Willis Palm Trailhead\, 29200 Thousand Palms Canyon Road\, Thousand Palms\, CA\, 92276\, United States
ATTACH;FMTTYPE=image/jpeg:https://www.desertmountains.org/wp-content/uploads/2025/09/willis-palms-people-scaled.jpg
END:VEVENT
END:VCALENDAR