BEGIN:VCALENDAR
VERSION:2.0
PRODID:-//Desert Mountain - ECPv6.15.20//NONSGML v1.0//EN
CALSCALE:GREGORIAN
METHOD:PUBLISH
X-WR-CALNAME:Desert Mountain
X-ORIGINAL-URL:https://www.desertmountains.org
X-WR-CALDESC:Events for Desert Mountain
REFRESH-INTERVAL;VALUE=DURATION:PT1H
X-Robots-Tag:noindex
X-PUBLISHED-TTL:PT1H
BEGIN:VTIMEZONE
TZID:America/Los_Angeles
BEGIN:DAYLIGHT
TZOFFSETFROM:-0800
TZOFFSETTO:-0700
TZNAME:PDT
DTSTART:20240310T100000
END:DAYLIGHT
BEGIN:STANDARD
TZOFFSETFROM:-0700
TZOFFSETTO:-0800
TZNAME:PST
DTSTART:20241103T090000
END:STANDARD
BEGIN:DAYLIGHT
TZOFFSETFROM:-0800
TZOFFSETTO:-0700
TZNAME:PDT
DTSTART:20250309T100000
END:DAYLIGHT
BEGIN:STANDARD
TZOFFSETFROM:-0700
TZOFFSETTO:-0800
TZNAME:PST
DTSTART:20251102T090000
END:STANDARD
BEGIN:DAYLIGHT
TZOFFSETFROM:-0800
TZOFFSETTO:-0700
TZNAME:PDT
DTSTART:20260308T100000
END:DAYLIGHT
BEGIN:STANDARD
TZOFFSETFROM:-0700
TZOFFSETTO:-0800
TZNAME:PST
DTSTART:20261101T090000
END:STANDARD
END:VTIMEZONE
BEGIN:VEVENT
DTSTART;TZID=America/Los_Angeles:20251101T083000
DTEND;TZID=America/Los_Angeles:20251101T110000
DTSTAMP:20260425T143426
CREATED:20251005T165450Z
LAST-MODIFIED:20251030T230427Z
UID:10000864-1761985800-1761994800@www.desertmountains.org
SUMMARY:Tortoise Chat and Storytime - Cancelled due to government shut down
DESCRIPTION:IF THE GOVERNMENT IS SHUT-DOWN\, THIS EVENT IS CANCELLED. \nCome visit our adopted desert tortoise and get answers to your questions about our charming state reptile. \nWe will also be hosting a story time nearby and reading the bi-lingual book\, “The Tortoise and the Jackrabbit”; the first 70 visitors each day will even get a free copy of the book to take home in honor of Desert Tortoise Week. \nBring 1 liter of water\, a sun hat\, sunscreen and wear close-toed shoes. We will be meeting at the Desert Tortoise Enclosure. \nView map/UTM coordinates for visitor center:  33.67149\, -116.40839 \nFor more information contact Friends of the Desert Mountains 760-598-9918 or the Visitor Center at 760-862-9984. \nSponsored by the Bureau of Land Management in partnership with Friends of the Desert Mountains. \nNO RSVP REQUIRED.
URL:https://www.desertmountains.org/event/tortoise-chat_and_storytime/
LOCATION:Santa Rosa & San Jacinto Mountains National Monument Visitor Center\, 51500 Highway 74\, Palm Desert\, CA\, 92260\, United States
ATTACH;FMTTYPE=image/jpeg:https://www.desertmountains.org/wp-content/uploads/2025/08/tortoise-storytime.jpeg
END:VEVENT
BEGIN:VEVENT
DTSTART;TZID=America/Los_Angeles:20251101T090000
DTEND;TZID=America/Los_Angeles:20251101T153000
DTSTAMP:20260425T143426
CREATED:20250917T082621Z
LAST-MODIFIED:20251030T230227Z
UID:10000733-1761987600-1762011000@www.desertmountains.org
SUMMARY:Desert Mountains Art Fair - Cancelled due to government shut down
DESCRIPTION:IF THE GOVERNMENT IS SHUT-DOWN\, THIS EVENT IS CANCELLED.  \nJoin us at our monthly Desert Mountains Art Fair! Mediums may include photography\, paintings\, ceramics\, hand painted silks\, and more. \nSupport local artists and find beautiful and unique gifts and desert mementos\, all while enjoying the natural beauty of our desert mountains! \nFor more information contact the Visitor Center at 760-862-9984 or Friends of the Desert Mountains at 760-568-9918. \nSponsored by the Santa Rosa & San Jacinto Mountains National Monument Visitor Center in partnership with Friends of the Desert Mountains.
URL:https://www.desertmountains.org/event/desert-mountains-art-fair-7/
LOCATION:Santa Rosa & San Jacinto Mountains National Monument Visitor Center\, 51500 Highway 74\, Palm Desert\, CA\, 92260\, United States
ATTACH;FMTTYPE=image/jpeg:https://www.desertmountains.org/wp-content/uploads/2024/11/art-fair-1-scaled.jpg
END:VEVENT
BEGIN:VEVENT
DTSTART;TZID=America/Los_Angeles:20251101T103000
DTEND;TZID=America/Los_Angeles:20251101T120000
DTSTAMP:20260425T143426
CREATED:20250903T002041Z
LAST-MODIFIED:20251030T230156Z
UID:10000697-1761993000-1761998400@www.desertmountains.org
SUMMARY:Monumental Jeopardy: Fall Edition - Cancelled due to government shut down
DESCRIPTION:IF THE GOVERNMENT IS SHUT-DOWN\, THIS EVENT IS CANCELLED.  \nCelebrate the Santa Rosa and San Jacinto Mountains National Monument’s 25th with this fun and interactive program to learn and test your knowledge on this special place here in the Coachella Valley. \nEach season brings a new set of trivia questions that highlights all the Resources\, Objectives and Values that this Monument was designated for. How well do you think you know the Santa Rosa and San Jacinto Mountains National Monument? \nRSVP required as space is limited to 40 participants. \nView map/UTM coordinates for the visitor center: 33.67149\, -116.40839 \nFor more information contact Friends of the Desert Mountains at 760-568-9918 or the Visitor Center at 760-862-9984. \nSponsored by the Bureau of Land Management in partnership with Friends of the Desert Mountains. \nTicket reservations begin 2 weeks prior to the event.
URL:https://www.desertmountains.org/event/monumental-jeopardy-fall-edition/
LOCATION:Santa Rosa & San Jacinto Mountains National Monument Visitor Center\, 51500 Highway 74\, Palm Desert\, CA\, 92260\, United States
ATTACH;FMTTYPE=image/jpeg:https://www.desertmountains.org/wp-content/uploads/2025/09/0e8711918f19cde2818a7f3ab35c803e-Fz6VqM.tmp_.jpg
END:VEVENT
BEGIN:VEVENT
DTSTART;TZID=America/Los_Angeles:20251101T183000
DTEND;TZID=America/Los_Angeles:20251101T203000
DTSTAMP:20260425T143426
CREATED:20250824T055039Z
LAST-MODIFIED:20251030T230251Z
UID:10000695-1762021800-1762029000@www.desertmountains.org
SUMMARY:Bat Walk Night Adventure - Cancelled due to government shut down
DESCRIPTION:IF THE GOVERNMENT IS SHUT-DOWN\, THIS EVENT IS CANCELLED.  \nBe a Bat Hero\, Super Hero Bat Walk! Explore the desert and learn about the super powers of bats! We will be checking the desert for all creatures large and small. \nBring a flashlight\, a blacklight (if you have one) and water for an easy walk. The best super hero bat costume gets a prize! \nEasy hike through desert wash\, 20 feet elevation gain\, 1-mile round trip. \nCheck-in begins 15 minutes prior to start time. Space is limited\, must RSVP. \nFor more information contact the Visitor Center at 760-862-9984 \nWe will meet at the Art Smith Trailhead parking lot located just past the driveway for the Visitor Center approximately 100 feet on the southwest side of Highway 74. Click here for map/UTM coordinates: 33.66797\, -116.40766 \nHosted by the Santa Rosa & San Jacinto Mountains National Monument Visitor Center. Co-sponsored by Friends of the Desert Mountains. \nReservations begin 14 days prior to the event.
URL:https://www.desertmountains.org/event/bat-walk-night-adventure/
LOCATION:Art Smith Trail Parking Lot\, Art Smith Trailhead\, Highway 74\, Palm Desert\, CA\, 92260\, United States
ATTACH;FMTTYPE=image/jpeg:https://www.desertmountains.org/wp-content/uploads/2025/08/4be78e4dee76665108eca51a1d0c67f7-z3nlZp.tmp_.jpg
END:VEVENT
END:VCALENDAR