BEGIN:VCALENDAR
VERSION:2.0
PRODID:-//Desert Mountain - ECPv6.15.20//NONSGML v1.0//EN
CALSCALE:GREGORIAN
METHOD:PUBLISH
X-WR-CALNAME:Desert Mountain
X-ORIGINAL-URL:https://www.desertmountains.org
X-WR-CALDESC:Events for Desert Mountain
REFRESH-INTERVAL;VALUE=DURATION:PT1H
X-Robots-Tag:noindex
X-PUBLISHED-TTL:PT1H
BEGIN:VTIMEZONE
TZID:America/Los_Angeles
BEGIN:DAYLIGHT
TZOFFSETFROM:-0800
TZOFFSETTO:-0700
TZNAME:PDT
DTSTART:20240310T100000
END:DAYLIGHT
BEGIN:STANDARD
TZOFFSETFROM:-0700
TZOFFSETTO:-0800
TZNAME:PST
DTSTART:20241103T090000
END:STANDARD
BEGIN:DAYLIGHT
TZOFFSETFROM:-0800
TZOFFSETTO:-0700
TZNAME:PDT
DTSTART:20250309T100000
END:DAYLIGHT
BEGIN:STANDARD
TZOFFSETFROM:-0700
TZOFFSETTO:-0800
TZNAME:PST
DTSTART:20251102T090000
END:STANDARD
BEGIN:DAYLIGHT
TZOFFSETFROM:-0800
TZOFFSETTO:-0700
TZNAME:PDT
DTSTART:20260308T100000
END:DAYLIGHT
BEGIN:STANDARD
TZOFFSETFROM:-0700
TZOFFSETTO:-0800
TZNAME:PST
DTSTART:20261101T090000
END:STANDARD
END:VTIMEZONE
BEGIN:VEVENT
DTSTART;TZID=America/Los_Angeles:20251122T083000
DTEND;TZID=America/Los_Angeles:20251122T113000
DTSTAMP:20260425T143426
CREATED:20251027T101036Z
LAST-MODIFIED:20251118T181519Z
UID:10000871-1763800200-1763811000@www.desertmountains.org
SUMMARY:CANCELLED: Tortoise Chat
DESCRIPTION:THIS EVENT HAS BEEN CANCELLED. \nHave questions about desert tortoises? Come visit our desert tortoise enclosure and learn about conservation efforts to study and protect our wild desert tortoise population in the Monument. \nMeet at the tortoise enclosure any time between 8:30am – 11:30am. \nNO RESERVATION REQUIRED. \nFor more information contact Friends of the Desert Mountains 760-568-9918 or the Visitor Center at 760-862-9984. \nSponsored by the Bureau of Land Management in partnership with Friends of the Desert Mountains.
URL:https://www.desertmountains.org/event/tortoise_chat-4/
LOCATION:Santa Rosa & San Jacinto Mountains National Monument\, 51500 Highway 74\, Palm Desert\, CA\, 92260\, United States
ATTACH;FMTTYPE=image/jpeg:https://www.desertmountains.org/wp-content/uploads/2025/04/tortoise-talk2.jpg
END:VEVENT
BEGIN:VEVENT
DTSTART;TZID=America/Los_Angeles:20251122T100000
DTEND;TZID=America/Los_Angeles:20251122T120000
DTSTAMP:20260425T143426
CREATED:20250928T004506Z
LAST-MODIFIED:20251111T151702Z
UID:10000823-1763805600-1763812800@www.desertmountains.org
SUMMARY:New Volunteer Orientation
DESCRIPTION:Calling All Nature Lovers & Community Champions! \nAre you passionate about protecting our beautiful desert landscapes? Do you love hiking\, wildlife\, or simply giving back to your community? Friends of the Desert Mountains needs YOU!We’re looking for enthusiastic\, dedicated volunteers to help us preserve the natural wonders of the Coachella Valley. Whether you’re a trail enthusiast\, wildlife watcher\, environmental educator\, or just someone who wants to make a difference\, there’s a place for you here! No experience? No problem! We provide training and a supportive team that shares your love for the desert. \nQuestions? Contact Allison Strong at 760 568-9918 or email astrong@desertmountains.org \nPlease register.
URL:https://www.desertmountains.org/event/new-volunteer-orientation-2/
LOCATION:Santa Rosa & San Jacinto Mountains National Monument Visitor Center\, 51500 Highway 74\, Palm Desert\, CA\, 92260\, United States
ATTACH;FMTTYPE=image/jpeg:https://www.desertmountains.org/wp-content/uploads/2025/09/ce8c6165b1a3c0b00b416f6c34dae849-TcfdFH.tmp_.jpg
END:VEVENT
BEGIN:VEVENT
DTSTART;TZID=America/Los_Angeles:20251122T130000
DTEND;TZID=America/Los_Angeles:20251122T140000
DTSTAMP:20260425T143426
CREATED:20250928T010149Z
LAST-MODIFIED:20251111T151641Z
UID:10000825-1763816400-1763820000@www.desertmountains.org
SUMMARY:Returning Volunteer Orientation
DESCRIPTION:Welcome Back\, Volunteers! \nAs we gear up for another amazing season\, we’re inviting all returning Friends of the Desert Mountains volunteers to join us for a mandatory orientation session.Why Attend?- Get the latest updates on our programs and projects- Brush up on best practices and volunteer guidelines- Sign your updated volunteer paperwork for the new season- Share your ideas and enthusiasm!This orientation is your opportunity to get back in the loop and ready to hit the ground running as we continue our mission to protect and celebrate our incredible desert environment. \nQuestions? Contact Allison Strong at 760 568-9918 or email astrong@desertmountains.org \nVOLUNTEERS: Please register. \nREGISTER HERE
URL:https://www.desertmountains.org/event/returning-volunteer-orientation-3/
LOCATION:Santa Rosa & San Jacinto Mountains National Monument Visitor Center\, 51500 Highway 74\, Palm Desert\, CA\, 92260\, United States
ATTACH;FMTTYPE=image/jpeg:https://www.desertmountains.org/wp-content/uploads/2025/09/Allison.jpg
END:VEVENT
BEGIN:VEVENT
DTSTART;TZID=America/Los_Angeles:20251122T170000
DTEND;TZID=America/Los_Angeles:20251122T210000
DTSTAMP:20260425T143426
CREATED:20241129T033115Z
LAST-MODIFIED:20251121T201435Z
UID:10000207-1763830800-1763845200@www.desertmountains.org
SUMMARY:CANCELLED: Star Party at the Art Smith Trailhead
DESCRIPTION:THIS EVENT HAS BEEN CANCELLED DUE TO ANTICIPATED CLOUD COVER.\n\n  \nJoin members of the Astronomical Society of the Desert for fun “sky tours” and direct observations of the night sky through telescopes and binoculars. \nThis is a family event. Minors must be accompanied by parent or guardian. \nThis event is wheelchair accessible with asphalt surfaces. \nEtiquette: please do not touch equipment unless requested. No white lights near telescope field. \nNOTE: OVERCAST SKIES CANCELS THIS EVENT. \nPlease note: We will meet at the Art Smith Trailhead parking lot located just past the driveway for the Visitor Center approximately 100 feet on the southwest side of Highway 74. View map/UTM coordinates directions for trailhead location: 33.667957\, -116.407666\nFor more information contact Friends of the Desert Mountains 760-598-9918. \nA suggested nonrefundable donation of $5.00 per person is appreciated and encouraged to support our volunteer programs. \nRegistration begins 2 weeks prior to the event.
URL:https://www.desertmountains.org/event/star-party-at-art-smith/
LOCATION:Art Smith Trailhead Parking Lot\, MH9R+7Q\, Palm Desert\, CA\, United States
ATTACH;FMTTYPE=image/jpeg:https://www.desertmountains.org/wp-content/uploads/2024/11/03f8c33ffa9659e6772084884c314010-ahlHel.tmp_.jpg
END:VEVENT
END:VCALENDAR