BEGIN:VCALENDAR
VERSION:2.0
PRODID:-//Desert Mountain - ECPv6.15.20//NONSGML v1.0//EN
CALSCALE:GREGORIAN
METHOD:PUBLISH
X-ORIGINAL-URL:https://www.desertmountains.org
X-WR-CALDESC:Events for Desert Mountain
REFRESH-INTERVAL;VALUE=DURATION:PT1H
X-Robots-Tag:noindex
X-PUBLISHED-TTL:PT1H
BEGIN:VTIMEZONE
TZID:America/Los_Angeles
BEGIN:DAYLIGHT
TZOFFSETFROM:-0800
TZOFFSETTO:-0700
TZNAME:PDT
DTSTART:20240310T100000
END:DAYLIGHT
BEGIN:STANDARD
TZOFFSETFROM:-0700
TZOFFSETTO:-0800
TZNAME:PST
DTSTART:20241103T090000
END:STANDARD
BEGIN:DAYLIGHT
TZOFFSETFROM:-0800
TZOFFSETTO:-0700
TZNAME:PDT
DTSTART:20250309T100000
END:DAYLIGHT
BEGIN:STANDARD
TZOFFSETFROM:-0700
TZOFFSETTO:-0800
TZNAME:PST
DTSTART:20251102T090000
END:STANDARD
BEGIN:DAYLIGHT
TZOFFSETFROM:-0800
TZOFFSETTO:-0700
TZNAME:PDT
DTSTART:20260308T100000
END:DAYLIGHT
BEGIN:STANDARD
TZOFFSETFROM:-0700
TZOFFSETTO:-0800
TZNAME:PST
DTSTART:20261101T090000
END:STANDARD
END:VTIMEZONE
BEGIN:VEVENT
DTSTART;TZID=America/Los_Angeles:20251128T100000
DTEND;TZID=America/Los_Angeles:20251128T110000
DTSTAMP:20260425T143440
CREATED:20251101T004456Z
LAST-MODIFIED:20251111T151514Z
UID:10000886-1764324000-1764327600@www.desertmountains.org
SUMMARY:Ed Hastey Garden Walk
DESCRIPTION:Enjoy strolling the Ed Hastey Garden Walk led by Friends’ volunteer docent. It is a great introduction to learn about native plants and animals that inhabit our desert\, and the value of urban conservation. This short\, easy walk is suitable for persons of all ages and abilities with a paved 3-foot-wide path. All topics are open for conversation such as climate change\, ancestors of the Cahuilla\, geology\, and early history of the foothills of the Santa Rosa Mountains. \nSorry\, no dogs are allowed on this trail. Recommend one 1 liter of water per person\, sun hat and sunscreen. \nRSVP required. Check-in 15 minutes prior to start time. \nView UTM/Map coordinates: 33.67149\, -116.40839  \nFor more information contact Friends of the Desert Mountains 760-568-9918 or the Visitor Center at 760-862-9984. \nA suggested non-refundable donation of $5.00 per person is appreciated and encouraged to support our volunteer programs. \nTicket reservations begin 2 weeks prior to the event and will be published at that time. Your optional non-refundable donation is not a ticket to attend.
URL:https://www.desertmountains.org/event/ed-hastey-garden_walk/
LOCATION:Santa Rosa & San Jacinto Mountains National Monument Visitor Center\, 51500 Highway 74\, Palm Desert\, CA\, 92260\, United States
ATTACH;FMTTYPE=image/jpeg:https://www.desertmountains.org/wp-content/uploads/2024/11/Ed-Hastey-TH.jpg
END:VEVENT
END:VCALENDAR