BEGIN:VCALENDAR
VERSION:2.0
PRODID:-//Desert Mountain - ECPv6.15.20//NONSGML v1.0//EN
CALSCALE:GREGORIAN
METHOD:PUBLISH
X-ORIGINAL-URL:https://www.desertmountains.org
X-WR-CALDESC:Events for Desert Mountain
REFRESH-INTERVAL;VALUE=DURATION:PT1H
X-Robots-Tag:noindex
X-PUBLISHED-TTL:PT1H
BEGIN:VTIMEZONE
TZID:America/Los_Angeles
BEGIN:DAYLIGHT
TZOFFSETFROM:-0800
TZOFFSETTO:-0700
TZNAME:PDT
DTSTART:20240310T100000
END:DAYLIGHT
BEGIN:STANDARD
TZOFFSETFROM:-0700
TZOFFSETTO:-0800
TZNAME:PST
DTSTART:20241103T090000
END:STANDARD
BEGIN:DAYLIGHT
TZOFFSETFROM:-0800
TZOFFSETTO:-0700
TZNAME:PDT
DTSTART:20250309T100000
END:DAYLIGHT
BEGIN:STANDARD
TZOFFSETFROM:-0700
TZOFFSETTO:-0800
TZNAME:PST
DTSTART:20251102T090000
END:STANDARD
BEGIN:DAYLIGHT
TZOFFSETFROM:-0800
TZOFFSETTO:-0700
TZNAME:PDT
DTSTART:20260308T100000
END:DAYLIGHT
BEGIN:STANDARD
TZOFFSETFROM:-0700
TZOFFSETTO:-0800
TZNAME:PST
DTSTART:20261101T090000
END:STANDARD
END:VTIMEZONE
BEGIN:VEVENT
DTSTART;TZID=America/Los_Angeles:20251202T090000
DTEND;TZID=America/Los_Angeles:20251202T120000
DTSTAMP:20260425T130745
CREATED:20250927T234908Z
LAST-MODIFIED:20251005T053124Z
UID:10000806-1764666000-1764676800@www.desertmountains.org
SUMMARY:Earl Henderson Trail Hike
DESCRIPTION:Enjoy this easy hike along the hillside above Araby Wash. Explore the wonders of this critical habitat area to learn about the endangered Casey’s June Beetle and fire ecology in this sensitive habitat area. On our return loop\, we will wander down into the wash to checkout a few desert plants. Sorry\, no dogs allowed on this trail. This is an easy hiking trail. Distance will be about 3 miles. Elevation gain of 100 feet. Bring 2 liters of water\, snacks\, wear closed-toed shoes\, sun hat and sunscreen. \nRSVP required. Check-in 15 minutes prior to start time. \nWe will meet at the trailhead located off Bogert Trail at Barona Road. View map & UTM coordinates: 33.77621\, -116.53132 \nFor more information contact Friends of the Desert Mountains 760-568-9918 or the Visitor Center at 760-862-9984. \nA suggested non-refundable donation of $5.00 per person is appreciated and encouraged to support our volunteer programs. \nTicket reservations begin 2 weeks prior to the event and will be published at that time. Your optional non-refundable donation is not a ticket to attend.
URL:https://www.desertmountains.org/event/earl-henderson-trail-hike-12/
LOCATION:Earl Henderson Trail\, Bogert Trail at Barona Rd\, Palm Springs\, CA\, 92264\, United States
ATTACH;FMTTYPE=image/jpeg:https://www.desertmountains.org/wp-content/uploads/2025/09/Earl-Henderson-Trl-scaled.jpg
END:VEVENT
BEGIN:VEVENT
DTSTART;TZID=America/Los_Angeles:20251202T133000
DTEND;TZID=America/Los_Angeles:20251202T143000
DTSTAMP:20260425T130745
CREATED:20251121T185835Z
LAST-MODIFIED:20251121T214334Z
UID:10000890-1764682200-1764685800@www.desertmountains.org
SUMMARY:Volunteer Lecture Series: A Look at Friends' Land Acquisition & Stewardship
DESCRIPTION:We invite you to join us for an upcoming lecture exploring the Friends of the Desert Mountains’ history of land transactions and conservation efforts. Our guest speaker\, Tommy Texeira\, Land Administrator with Friends\, will explain how the organization has acquired land over the years\, including the strategies and partnerships that make these purchases possible. He will also share how our team monitors and manages these protected lands today\, providing a behind-the-scenes look at the stewardship practices that help preserve the desert’s natural resources. This is a great opportunity to learn more about the work that goes into safeguarding the landscapes we all care about. \nThe lecture will be held in the FODM Conference Room. \nYou must be a current volunteer to attend. \nQuestions? Contact Allison at astrong@desertmountains.org \n\n 
URL:https://www.desertmountains.org/event/friends-land-acquisition/
LOCATION:Friends of the Desert Mountains\, 51500 California 74\, Palm Desert\, CA\, 92260\, United States
ATTACH;FMTTYPE=image/jpeg:https://www.desertmountains.org/wp-content/uploads/2025/10/IMG_6840-scaled.jpg
END:VEVENT
END:VCALENDAR