BEGIN:VCALENDAR
VERSION:2.0
PRODID:-//Desert Mountain - ECPv6.15.20//NONSGML v1.0//EN
CALSCALE:GREGORIAN
METHOD:PUBLISH
X-ORIGINAL-URL:https://www.desertmountains.org
X-WR-CALDESC:Events for Desert Mountain
REFRESH-INTERVAL;VALUE=DURATION:PT1H
X-Robots-Tag:noindex
X-PUBLISHED-TTL:PT1H
BEGIN:VTIMEZONE
TZID:America/Los_Angeles
BEGIN:DAYLIGHT
TZOFFSETFROM:-0800
TZOFFSETTO:-0700
TZNAME:PDT
DTSTART:20240310T100000
END:DAYLIGHT
BEGIN:STANDARD
TZOFFSETFROM:-0700
TZOFFSETTO:-0800
TZNAME:PST
DTSTART:20241103T090000
END:STANDARD
BEGIN:DAYLIGHT
TZOFFSETFROM:-0800
TZOFFSETTO:-0700
TZNAME:PDT
DTSTART:20250309T100000
END:DAYLIGHT
BEGIN:STANDARD
TZOFFSETFROM:-0700
TZOFFSETTO:-0800
TZNAME:PST
DTSTART:20251102T090000
END:STANDARD
BEGIN:DAYLIGHT
TZOFFSETFROM:-0800
TZOFFSETTO:-0700
TZNAME:PDT
DTSTART:20260308T100000
END:DAYLIGHT
BEGIN:STANDARD
TZOFFSETFROM:-0700
TZOFFSETTO:-0800
TZNAME:PST
DTSTART:20261101T090000
END:STANDARD
END:VTIMEZONE
BEGIN:VEVENT
DTSTART;TZID=America/Los_Angeles:20251204T083000
DTEND;TZID=America/Los_Angeles:20251204T110000
DTSTAMP:20260425T130704
CREATED:20250928T000029Z
LAST-MODIFIED:20251005T231323Z
UID:10000810-1764837000-1764846000@www.desertmountains.org
SUMMARY:Carrizo Canyon Hike
DESCRIPTION:Carrizo Canyon is open October through December and provides wonderful opportunities to see the endangered Peninsular Bighorn Sheep and many other desert critters. You will learn about the geology of the area and a great outdoor experience close to downtown Palm Desert. This trail is in a sandy wash with uneven terrain. As the canyon narrows there will be some rocks and small boulders to hike around and step over. \nHike rating is easy\, approximately 3 miles round trip. Elevation gain is approximately 350 feet. Sorry no dogs are allowed on this trail. Bring snacks and 2 liters of water per person. Wear close-toed shoes\, sun hat and sunscreen. \nRSVP required. Check-in begins 15 minutes prior to start time. \nPlease note: We will meet at the Art Smith Trailhead parking lot located just past the driveway for the Visitor Center approximately 100 feet on the southwest side of Highway 74. View map/UTM coordinates directions for trailhead location: 33.667957\, -116.407666 \nFor more information contact Friends of the Desert Mountains 760-568-9918 or the Visitor Center at 760-862-9984.  \nA suggested non-refundable donation of $5.00 per person is appreciated and encouraged to support our volunteer programs. \nTicket reservations begin 2 weeks prior to the event and will be published at that time. Your optional non-refundable donation is not a ticket to attend.  \n 
URL:https://www.desertmountains.org/event/carrizo-canyon-hike-11/
LOCATION:Art Smith Trail Parking Lot\, Art Smith Trailhead\, Highway 74\, Palm Desert\, CA\, 92260\, United States
ATTACH;FMTTYPE=image/jpeg:https://www.desertmountains.org/wp-content/uploads/2024/11/carrizo-c.jpg
END:VEVENT
BEGIN:VEVENT
DTSTART;TZID=America/Los_Angeles:20251204T083000
DTEND;TZID=America/Los_Angeles:20251204T110000
DTSTAMP:20260425T130704
CREATED:20251005T045530Z
LAST-MODIFIED:20251005T045530Z
UID:10000830-1764837000-1764846000@www.desertmountains.org
SUMMARY:Dead Indian Canyon Hike
DESCRIPTION:Dead Indian canyon is only open from October through December and provides wonderful opportunities to see the endangered Peninsular Bighorn Sheep and many other desert critters. You will learn about the geology of the area and a great outdoor experience close to downtown Palm Desert. \nThis trail traverses a sandy wash with uneven terrain with cobble (small rocks). Hike rating is easy\, approximately 2 miles round trip. Elevation gain is approximately 250 feet. Sorry no dogs are allowed on this trail. \nBring snacks and 1 liter of water per person. Wear close-toed shoes\, sun hat and sunscreen. \nRSVP is required. Check-in 15 minutes prior to start time. \nPlease note: We will meet at the Art Smith Trailhead parking lot located just past the driveway for the Visitor Center approximately 100 feet on the southwest side of Highway 74.\nView map/UTM coordinates for trailhead location: 33.667957\, -116.407666 \nFor more information contact Friends of the Desert Mountains 760-568-9918 or the Visitor Center at 760-862-9984. \nA suggested non-refundable donation of $5.00 per person is appreciated and encouraged to support our volunteer programs. \nTicket reservations begin 2 weeks prior to the event and will be published at that time. Your optional non-refundable donation is not a ticket to attend.  \n\n 
URL:https://www.desertmountains.org/event/dead-indian-canyon-hike-4/
LOCATION:Art Smith Trail Parking Lot\, Art Smith Trailhead\, Highway 74\, Palm Desert\, CA\, 92260\, United States
ATTACH;FMTTYPE=image/jpeg:https://www.desertmountains.org/wp-content/uploads/2024/09/bighorn-h-scaled.jpg
END:VEVENT
BEGIN:VEVENT
DTSTART;TZID=America/Los_Angeles:20251204T090000
DTEND;TZID=America/Los_Angeles:20251204T100000
DTSTAMP:20260425T130704
CREATED:20250923T031440Z
LAST-MODIFIED:20250923T031738Z
UID:10000765-1764838800-1764842400@www.desertmountains.org
SUMMARY:Yoga with a Ranger
DESCRIPTION:Join a National Monument park ranger for an outdoor fun yoga flow for all skill levels. Connect with the landscape through a sequence of physical postures\, movements\, and breathing techniques that also strengthen your body and mind. Poses commonly mimic Earth\, animals and trees. This outdoor activity is routinely performed barefoot. \nBring a yoga mat or towel\, water\, and sunscreen. Limited to 15 participants. Meet on the Visitor Center patio. \nView map/UTM Coordinates for the Visitor Center: 33.67149\, -116.40839 \nFor more information contact Friends of the Desert Mountains at 760-568-9918 or the Visitor Center at 760-862-9984. \nSponsored by the Bureau of Land Management in partnership with Friends of the Desert Mountains. \nRSVP required. Reservations begin 2 weeks prior to the event.
URL:https://www.desertmountains.org/event/yoga-with-a-ranger-19/
LOCATION:Santa Rosa & San Jacinto Mountains National Monument Visitor Center\, 51500 Highway 74\, Palm Desert\, CA\, 92260\, United States
ATTACH;FMTTYPE=image/jpeg:https://www.desertmountains.org/wp-content/uploads/2025/08/fe6edc4d323951bc0259434669bf1a66-dI1ybm.tmp_.jpg
END:VEVENT
BEGIN:VEVENT
DTSTART;TZID=America/Los_Angeles:20251204T190000
DTEND;TZID=America/Los_Angeles:20251204T210000
DTSTAMP:20260425T130704
CREATED:20250928T001052Z
LAST-MODIFIED:20251122T184236Z
UID:10000816-1764874800-1764882000@www.desertmountains.org
SUMMARY:Rancho Mirage-Chuckwalla Trail Full Moon Hike
DESCRIPTION:Grab your hiking boots and join Friends of the Desert Mountains volunteer docents on a full moon hike on the lower portion of the Chuckwalla Trail. You will experience the views of our desert mountains in the amazing wash of moonlight and shadows\, as well as the urban night lights of the Coachella Valley. \nThis is a family friendly easy 2-mile hike with 350 feet of elevation gain. The trail is narrow\, 2 feet wide and has 1-steep incline with cobbled desert terrain. Bring 1-2 liters of water per person\, headlamp or flashlight and wear close-toed shoes. No dogs allowed for this event. \nRSVP is required. Check-in begins 15 minutes prior to departure time. \nView map/UTM coordinates: 33.771071\, -116.448379 \nFor more information contact Friends of the Desert Mountains at 760-568-9918 or the Visitor Center at 760-862-9984. \nA suggested non-refundable donation of $5.00 per person is appreciated and encouraged to support our volunteer programs. \nTicket reservations begin 1 week prior to the event and will be published at that time. Your optional non-refundable donation is not a ticket to attend. \n  
URL:https://www.desertmountains.org/event/rancho-mirage-chuckwalla-trail-full-moon-hike-8/
LOCATION:Rancho Mirage City Hall Parking Lot\, 69825 California 111\, Rancho Mirage\, CA\, 92270\, United States
ATTACH;FMTTYPE=image/jpeg:https://www.desertmountains.org/wp-content/uploads/2024/11/a3f92c8d2e3aa2917dd2cfb83ffbb809-QEpL4K.tmp_.jpg
END:VEVENT
BEGIN:VEVENT
DTSTART;TZID=America/Los_Angeles:20251204T191500
DTEND;TZID=America/Los_Angeles:20251204T201500
DTSTAMP:20260425T130704
CREATED:20250928T001138Z
LAST-MODIFIED:20250928T001138Z
UID:10000817-1764875700-1764879300@www.desertmountains.org
SUMMARY:Rancho Mirage-Jackrabbit/Bighorn Overlook Trail Full Moon Hike
DESCRIPTION:Join Friends of the Desert Mountains volunteer docents on a full moon hike on the Jackrabbit/Bighorn Overlook trail loop. You will experience the views of our desert mountains in the amazing wash of moonlight and shadows\, as well as the urban night lights of the Coachella Valley. \nThis is a family friendly easy 1-mile hike with 200 feet of elevation gain (approx. 1 hour duration). The trail is narrow\, 2 feet wide and on cobbled desert terrain. Bring 1 liter of water per person\, headlamp or flashlight and wear close-toed shoes. No dogs allowed for this event. \nRSVP is required. Check-in begins 15 minutes prior to your group’s departure time. \nView map/UTM coordinates: 33.771071\, -116.448379 \nFor more information contact Friends of the Desert Mountains at 760-568-9918 or the Visitor Center at 760-862-9984. \nA suggested non-refundable donation of $5.00 per person is appreciated and encouraged to support our volunteer programs. \nTicket reservations begin 1 week prior to the event and will be published at that time. Your optional non-refundable donation is not a ticket to attend. \n 
URL:https://www.desertmountains.org/event/rancho-mirage-jackrabbit-bighorn-overlook-trail-full-moon-hike-3/
LOCATION:Rancho Mirage City Hall Parking Lot\, 69825 California 111\, Rancho Mirage\, CA\, 92270\, United States
ATTACH;FMTTYPE=image/jpeg:https://www.desertmountains.org/wp-content/uploads/2024/11/869d72ae1e564997261619c752f7cdb3-LONrLV.tmp_.jpg
END:VEVENT
END:VCALENDAR