BEGIN:VCALENDAR
VERSION:2.0
PRODID:-//Desert Mountain - ECPv6.15.20//NONSGML v1.0//EN
CALSCALE:GREGORIAN
METHOD:PUBLISH
X-WR-CALNAME:Desert Mountain
X-ORIGINAL-URL:https://www.desertmountains.org
X-WR-CALDESC:Events for Desert Mountain
REFRESH-INTERVAL;VALUE=DURATION:PT1H
X-Robots-Tag:noindex
X-PUBLISHED-TTL:PT1H
BEGIN:VTIMEZONE
TZID:America/Los_Angeles
BEGIN:DAYLIGHT
TZOFFSETFROM:-0800
TZOFFSETTO:-0700
TZNAME:PDT
DTSTART:20240310T100000
END:DAYLIGHT
BEGIN:STANDARD
TZOFFSETFROM:-0700
TZOFFSETTO:-0800
TZNAME:PST
DTSTART:20241103T090000
END:STANDARD
BEGIN:DAYLIGHT
TZOFFSETFROM:-0800
TZOFFSETTO:-0700
TZNAME:PDT
DTSTART:20250309T100000
END:DAYLIGHT
BEGIN:STANDARD
TZOFFSETFROM:-0700
TZOFFSETTO:-0800
TZNAME:PST
DTSTART:20251102T090000
END:STANDARD
BEGIN:DAYLIGHT
TZOFFSETFROM:-0800
TZOFFSETTO:-0700
TZNAME:PDT
DTSTART:20260308T100000
END:DAYLIGHT
BEGIN:STANDARD
TZOFFSETFROM:-0700
TZOFFSETTO:-0800
TZNAME:PST
DTSTART:20261101T090000
END:STANDARD
END:VTIMEZONE
BEGIN:VEVENT
DTSTART;TZID=America/Los_Angeles:20251207T083000
DTEND;TZID=America/Los_Angeles:20251207T110000
DTSTAMP:20260425T130607
CREATED:20250928T000110Z
LAST-MODIFIED:20251005T231403Z
UID:10000811-1765096200-1765105200@www.desertmountains.org
SUMMARY:Carrizo Canyon Hike
DESCRIPTION:Carrizo Canyon is open October through December and provides wonderful opportunities to see the endangered Peninsular Bighorn Sheep and many other desert critters. You will learn about the geology of the area and a great outdoor experience close to downtown Palm Desert. This trail is in a sandy wash with uneven terrain. As the canyon narrows there will be some rocks and small boulders to hike around and step over. \nHike rating is easy\, approximately 3 miles round trip. Elevation gain is approximately 350 feet. Sorry no dogs are allowed on this trail. Bring snacks and 2 liters of water per person. Wear close-toed shoes\, sun hat and sunscreen. \nRSVP required. Check-in begins 15 minutes prior to start time. \nPlease note: We will meet at the Art Smith Trailhead parking lot located just past the driveway for the Visitor Center approximately 100 feet on the southwest side of Highway 74. View map/UTM coordinates directions for trailhead location: 33.667957\, -116.407666 \nFor more information contact Friends of the Desert Mountains 760-568-9918 or the Visitor Center at 760-862-9984.  \nA suggested non-refundable donation of $5.00 per person is appreciated and encouraged to support our volunteer programs. \nTicket reservations begin 2 weeks prior to the event and will be published at that time. Your optional non-refundable donation is not a ticket to attend.  \n 
URL:https://www.desertmountains.org/event/carrizo-canyon-hike-12/
LOCATION:Art Smith Trail Parking Lot\, Art Smith Trailhead\, Highway 74\, Palm Desert\, CA\, 92260\, United States
ATTACH;FMTTYPE=image/jpeg:https://www.desertmountains.org/wp-content/uploads/2024/11/carrizo-c.jpg
END:VEVENT
BEGIN:VEVENT
DTSTART;TZID=America/Los_Angeles:20251207T090000
DTEND;TZID=America/Los_Angeles:20251207T103000
DTSTAMP:20260425T130607
CREATED:20251121T192840Z
LAST-MODIFIED:20251121T192840Z
UID:10000892-1765098000-1765103400@www.desertmountains.org
SUMMARY:Birding Walk-About at the Monument Visitor Center
DESCRIPTION:Our experienced Friends’ birding volunteer docent will share interesting facts about the Coachella Valley native species and other migratory birds found in the National Monument. We begin the search for our feathered friends in their native desert habitat at the new observation area. Then onto the Ed Hastey Garden Walk (paved) and tortoise habitat areas. From the parking area\, we will take a short walk on the Randall Henderson Trail to check out the lower sandy wash area where other birds may be found. Total walking distance about 1.0 mile. \nBring your binoculars\, 1 liter of water\, sun hat\, sunscreen\, and camera. Sorry\, no dogs are allowed for this event. \nRSVP required. Check-in 15 minutes prior to start time. \nView UTM/Map coordinates: 33.67149\, -116.40839  \nFor more information contact Friends of the Desert Mountains 760-568-9918 or the Visitor Center at 760-862-9984. \nA suggested non-refundable donation of $5.00 per person is appreciated and encouraged to support our volunteer programs. \nTicket reservations begin 2 weeks prior to the event and will be published at that time. Your optional non-refundable donation is not a ticket to attend.\n 
URL:https://www.desertmountains.org/event/birding-walk-about-at-the-monument-visitor-center/
LOCATION:Santa Rosa & San Jacinto Mountains National Monument Visitor Center\, 51500 Highway 74\, Palm Desert\, CA\, 92260\, United States
ATTACH;FMTTYPE=image/jpeg:https://www.desertmountains.org/wp-content/uploads/2025/11/BirdWatch-DianeSusan-scaled.jpg
END:VEVENT
END:VCALENDAR