BEGIN:VCALENDAR
VERSION:2.0
PRODID:-//Desert Mountain - ECPv6.15.20//NONSGML v1.0//EN
CALSCALE:GREGORIAN
METHOD:PUBLISH
X-WR-CALNAME:Desert Mountain
X-ORIGINAL-URL:https://www.desertmountains.org
X-WR-CALDESC:Events for Desert Mountain
REFRESH-INTERVAL;VALUE=DURATION:PT1H
X-Robots-Tag:noindex
X-PUBLISHED-TTL:PT1H
BEGIN:VTIMEZONE
TZID:America/Los_Angeles
BEGIN:DAYLIGHT
TZOFFSETFROM:-0800
TZOFFSETTO:-0700
TZNAME:PDT
DTSTART:20240310T100000
END:DAYLIGHT
BEGIN:STANDARD
TZOFFSETFROM:-0700
TZOFFSETTO:-0800
TZNAME:PST
DTSTART:20241103T090000
END:STANDARD
BEGIN:DAYLIGHT
TZOFFSETFROM:-0800
TZOFFSETTO:-0700
TZNAME:PDT
DTSTART:20250309T100000
END:DAYLIGHT
BEGIN:STANDARD
TZOFFSETFROM:-0700
TZOFFSETTO:-0800
TZNAME:PST
DTSTART:20251102T090000
END:STANDARD
BEGIN:DAYLIGHT
TZOFFSETFROM:-0800
TZOFFSETTO:-0700
TZNAME:PDT
DTSTART:20260308T100000
END:DAYLIGHT
BEGIN:STANDARD
TZOFFSETFROM:-0700
TZOFFSETTO:-0800
TZNAME:PST
DTSTART:20261101T090000
END:STANDARD
END:VTIMEZONE
BEGIN:VEVENT
DTSTART;TZID=America/Los_Angeles:20251208T110000
DTEND;TZID=America/Los_Angeles:20251208T130000
DTSTAMP:20260425T130607
CREATED:20251114T003846Z
LAST-MODIFIED:20251121T182919Z
UID:10000889-1765191600-1765198800@www.desertmountains.org
SUMMARY:Friends & Volunteers Holiday Party
DESCRIPTION:Hey amazing volunteers! It’s time to trade in your work gloves for some holiday cheer — you’ve earned it! \nJoin us for our Annual Volunteer Holiday Party\, a festive evening packed with laughter\, good food\, twinkling lights\, and plenty of merry mischief. Come celebrate the season and the incredible difference you’ve made. We can’t wait to toast you\, our holiday heroes! Fun and festive attire is encouraged! \nBring a dish or dessert to share – drinks will be provided by Friends. Purchase a unisex gift for $20 to participate in the Christmas gift exchange game. \nThe event will take place on the patio by the Friends of the Desert Mountains office. \nQuestions? Contact Allison Strong at 760 568-9918 or email astrong@desertmountains.org \nPlease register so we know how many will be attending. \n\n 
URL:https://www.desertmountains.org/event/fodm-holiday-party/
LOCATION:Friends of the Desert Mountains\, 51500 California 74\, Palm Desert\, CA\, 92260\, United States
ATTACH;FMTTYPE=image/jpeg:https://www.desertmountains.org/wp-content/uploads/2025/11/ChristmasGifts-c.jpg
END:VEVENT
END:VCALENDAR