BEGIN:VCALENDAR
VERSION:2.0
PRODID:-//Desert Mountain - ECPv6.15.20//NONSGML v1.0//EN
CALSCALE:GREGORIAN
METHOD:PUBLISH
X-ORIGINAL-URL:https://www.desertmountains.org
X-WR-CALDESC:Events for Desert Mountain
REFRESH-INTERVAL;VALUE=DURATION:PT1H
X-Robots-Tag:noindex
X-PUBLISHED-TTL:PT1H
BEGIN:VTIMEZONE
TZID:America/Los_Angeles
BEGIN:DAYLIGHT
TZOFFSETFROM:-0800
TZOFFSETTO:-0700
TZNAME:PDT
DTSTART:20250309T100000
END:DAYLIGHT
BEGIN:STANDARD
TZOFFSETFROM:-0700
TZOFFSETTO:-0800
TZNAME:PST
DTSTART:20251102T090000
END:STANDARD
BEGIN:DAYLIGHT
TZOFFSETFROM:-0800
TZOFFSETTO:-0700
TZNAME:PDT
DTSTART:20260308T100000
END:DAYLIGHT
BEGIN:STANDARD
TZOFFSETFROM:-0700
TZOFFSETTO:-0800
TZNAME:PST
DTSTART:20261101T090000
END:STANDARD
BEGIN:DAYLIGHT
TZOFFSETFROM:-0800
TZOFFSETTO:-0700
TZNAME:PDT
DTSTART:20270314T100000
END:DAYLIGHT
BEGIN:STANDARD
TZOFFSETFROM:-0700
TZOFFSETTO:-0800
TZNAME:PST
DTSTART:20271107T090000
END:STANDARD
END:VTIMEZONE
BEGIN:VEVENT
DTSTART;TZID=America/Los_Angeles:20260103T090000
DTEND;TZID=America/Los_Angeles:20260103T153000
DTSTAMP:20260425T114324
CREATED:20251124T151645Z
LAST-MODIFIED:20251124T151645Z
UID:10000916-1767430800-1767454200@www.desertmountains.org
SUMMARY:Desert Mountains Art Fair
DESCRIPTION:Join us at our monthly Desert Mountains Art Fair! Mediums may include photography\, paintings\, ceramics\, hand painted silks\, and more. \nSupport local artists and find beautiful and unique gifts and desert mementos\, all while enjoying the natural beauty of our desert mountains! \nFor more information contact the Visitor Center at 760-862-9984 or Friends of the Desert Mountains at 760-568-9918. \nSponsored by the Santa Rosa & San Jacinto Mountains National Monument Visitor Center in partnership with Friends of the Desert Mountains.
URL:https://www.desertmountains.org/event/desert-mountains-art-fair-9/
LOCATION:Santa Rosa & San Jacinto Mountains National Monument Visitor Center\, 51500 Highway 74\, Palm Desert\, CA\, 92260\, United States
ATTACH;FMTTYPE=image/jpeg:https://www.desertmountains.org/wp-content/uploads/2024/11/art-fair-bc.jpg
END:VEVENT
BEGIN:VEVENT
DTSTART;TZID=America/Los_Angeles:20260103T190000
DTEND;TZID=America/Los_Angeles:20260103T210000
DTSTAMP:20260425T114324
CREATED:20251122T134513Z
LAST-MODIFIED:20260102T171812Z
UID:10000905-1767466800-1767474000@www.desertmountains.org
SUMMARY:CANCELLED: Indio Badlands Trail Full Moon Hike
DESCRIPTION:CANCELLED FOR TRAIL SAFETY REASONS AFTER THE STORM.\nStrap on your hiking boots for a full moon hike on the first mile of the Indio Badlands Trail. As we embark on this hike\, the moonlight casts enchanting shadows on the desert terrain. The sky will be brilliantly lit up for the desert creatures to be scurrying about. \nThis family-friendly adventure offers a manageable 2-mile out and back hike with minimal elevation gain. Bring your hiking poles for stability getting up to the ridge\, and\, of course\, 1-2 liters of water for each family member. \nThe astronomers will set up their telescopes for star gazing\, adding an extra layer of magic to your night experience in the desert. \nRSVP is required. Check-in 15 minutes prior to your group’s departure time. \nVIEW MAP/UTM coordinates: 33.744235\, -116.199386 \nFor more information contact the Friends of the Desert Mountains at 760-568-9918. \nA suggested non-refundable donation of $5.00 per person is appreciated and encouraged to support our volunteer programs. \nTicket reservations begin 1 week prior to the event and will be published at that time. Your optional non-refundable donation is not a ticket to attend.
URL:https://www.desertmountains.org/event/indio-badlands-trail-full-moon-hike-4/
LOCATION:Indio Hills Badlands Trail\, Golf Center Parkway\, Indio\, CA\, 92203\, United States
ATTACH;FMTTYPE=image/jpeg:https://www.desertmountains.org/wp-content/uploads/2024/11/aad43f29cfe69039cb9e3024d6f1db94-Uu95Ey.tmp_.jpg
END:VEVENT
BEGIN:VEVENT
DTSTART;TZID=America/Los_Angeles:20260103T190000
DTEND;TZID=America/Los_Angeles:20260103T213000
DTSTAMP:20260425T114324
CREATED:20251122T134229Z
LAST-MODIFIED:20251216T181309Z
UID:10000904-1767466800-1767475800@www.desertmountains.org
SUMMARY:CANCELLED: Night Sky Star Observations in Indio Hills -  CANCELADO: Vistazo de Estrellas en Indio
DESCRIPTION:THIS EVENT HAS BEEN CANCELLED – ESTE EVENTO HA SIDO CANCELADO. \nA Friends of the Desert Mountains volunteer astronomer will be setting up a telescope and is inviting you to a “star party”. A clear night sky offers an ever-changing display of fascinating objects to see — stars\, constellations\, bright planets\, a full moon\, and sometimes special events like meteor showers or an eclipse. While observing the night sky\, occasionally we might see the international space station moving over the Coachella Valley. \nThis event is wheelchair accessible with compacted dirt surfaces. \nStop by any time between 7:00pm and 9:00pm. \nNOTE: CHECK WEATHER BEFORE DEPARTING\, THIS EVENT WILL BE CANCELED FOR HEAVY CLOUD COVER\, WIND OR RAIN. \nVIEW MAP/UTM coordinates: 33.744235\, -116.199386 \nFor more information contact the Friends of the Desert Mountains at 760-568-9918. \nA suggested non-refundable donation of $5.00 per person is appreciated and encouraged to support our volunteer programs. \n——————————— \nLos astrónomos instalarán telescopios y lo invitan a una “fiesta de estrellas”. Un cielo nocturno despejado ofrece una exhibición de objetos fascinantes para ver: estrellas\, constelaciones\, planetas brillantes\, una luna llena y\, a veces\, eventos especiales como lluvias de meteoritos o un eclipse. Mientras observamos el cielo nocturno\, ocasionalmente podemos ver la estación espacial internacional moviéndose sobre el valle de Coachella. \nEste evento es accesible en silla de ruedas con superficies de tierra compactada. \nVisite en cualquier momento entre las 7:00 p.m. y las 9:00 p.m. \nNOTA: CONSULTE EL CLIMA ANTES DE SALIR\, ESTE EVENTO SE CANCELARÁ SI ESTA NUBLANDO\, HAY VIENTO O LLUVIA. \nHaga clic aquí para ver el mapa/las coordenadas UTM: 33.744235\, -116.199386 \nPara obtener más información\, comuníquese con Friends of the Desert Mountains al 760-568-9918. \nSe agradece y sugiere una donación no reembolsable de $5.00 por persona para apoyar nuestros programas voluntariados. \n  \n—–NOTES FOR REGISTRATION—–NOTAS PARA EL REGISTRO—– \nTicket reservations begin 1 week prior to the event and will be published at that time. Your optional non-refundable donation is not a ticket to attend. \nLas reservas de boletos comienzan una semana antes del evento y se publicará en ese momento. Su donación opcional no reembolsable no es un boleto para asistir. \n 
URL:https://www.desertmountains.org/event/night-sky-star-observations-in-indio-hills-vistazo-de-estrellas-en-indio-16/
LOCATION:Indio Hills Badlands Trail\, Golf Center Parkway\, Indio\, CA\, 92203\, United States
ATTACH;FMTTYPE=image/jpeg:https://www.desertmountains.org/wp-content/uploads/2024/11/74c43cdcc4a63649940192dc967ad9a5.jpg
END:VEVENT
BEGIN:VEVENT
DTSTART;TZID=America/Los_Angeles:20260103T193000
DTEND;TZID=America/Los_Angeles:20260103T213000
DTSTAMP:20260425T114324
CREATED:20251122T134612Z
LAST-MODIFIED:20260102T172457Z
UID:10000906-1767468600-1767475800@www.desertmountains.org
SUMMARY:CANCELADO: Excursión Bajo la Luna Llena en el Sendero Indio Hills
DESCRIPTION:CANCELADO POR RAZONES DE SEGURIDAD EN EL SENDERO DESPUÉS DE LA TORMENTA.\nPóngase las botas de montaña para una caminata bajo la luna llena en el sendero Indio Hills. Mientras nos embarcamos en esta caminata\, la luz de la luna proyecta sombras encantadoras sobre el terreno desértico. El cielo estará brillantemente iluminado para que las criaturas del desierto puedan corretear. \nEsta aventura familiar ofrece una caminata manejable de 2 millas ida y vuelta con un desnivel mínimo. Traiga sus bastones de senderismo para tener estabilidad al subir a la cresta y\, por supuesto\, mucha agua para cada miembro de la familia. \nLos astrónomos instalarán sus telescopios para observar las estrellas\, añadiendo un toque extra de magia a su experiencia nocturna en el desierto. \nSe requiere confirmación. Regístrese 15 minutos antes de la hora de salida. \nHaga clic aquí para ver el mapa/coordenadas UTM: 33.744235\, -116.199386 \nPara obtener más información\, comuníquese con Friends al 760-568-9918. \nSe agradece y sugiere una donación no reembolsable de $5.00 por persona para apoyar nuestros programas voluntariados. \nLas reservas de boletos comienzan una semana antes del evento y se publicará en ese momento. Su donación opcional no reembolsable no es un boleto para asistir.
URL:https://www.desertmountains.org/event/excursion-bajo-la-luna-llena-en-el-sendero-indio-hills-9/
LOCATION:Indio Hills Badlands Trail\, Golf Center Parkway\, Indio\, CA\, 92203\, United States
ATTACH;FMTTYPE=image/jpeg:https://www.desertmountains.org/wp-content/uploads/2025/09/IMG_8472-scaled.jpg
END:VEVENT
END:VCALENDAR