BEGIN:VCALENDAR
VERSION:2.0
PRODID:-//Desert Mountain - ECPv6.15.20//NONSGML v1.0//EN
CALSCALE:GREGORIAN
METHOD:PUBLISH
X-ORIGINAL-URL:https://www.desertmountains.org
X-WR-CALDESC:Events for Desert Mountain
REFRESH-INTERVAL;VALUE=DURATION:PT1H
X-Robots-Tag:noindex
X-PUBLISHED-TTL:PT1H
BEGIN:VTIMEZONE
TZID:America/Los_Angeles
BEGIN:DAYLIGHT
TZOFFSETFROM:-0800
TZOFFSETTO:-0700
TZNAME:PDT
DTSTART:20250309T100000
END:DAYLIGHT
BEGIN:STANDARD
TZOFFSETFROM:-0700
TZOFFSETTO:-0800
TZNAME:PST
DTSTART:20251102T090000
END:STANDARD
BEGIN:DAYLIGHT
TZOFFSETFROM:-0800
TZOFFSETTO:-0700
TZNAME:PDT
DTSTART:20260308T100000
END:DAYLIGHT
BEGIN:STANDARD
TZOFFSETFROM:-0700
TZOFFSETTO:-0800
TZNAME:PST
DTSTART:20261101T090000
END:STANDARD
BEGIN:DAYLIGHT
TZOFFSETFROM:-0800
TZOFFSETTO:-0700
TZNAME:PDT
DTSTART:20270314T100000
END:DAYLIGHT
BEGIN:STANDARD
TZOFFSETFROM:-0700
TZOFFSETTO:-0800
TZNAME:PST
DTSTART:20271107T090000
END:STANDARD
END:VTIMEZONE
BEGIN:VEVENT
DTSTART;TZID=America/Los_Angeles:20260116T083000
DTEND;TZID=America/Los_Angeles:20260116T113000
DTSTAMP:20260425T114301
CREATED:20251218T033207Z
LAST-MODIFIED:20251218T033207Z
UID:10000944-1768552200-1768563000@www.desertmountains.org
SUMMARY:Hidden Palms Trail Hike
DESCRIPTION:During the springtime this wash area usually has abundant wildflowers. You leave the wash and climb the mud hill. At the top it opens to a spectacular view of Salton Sea. The trail is flat until you reach the ravine and hike down into the oasis. Along the way you will find many blooming shrubs. You will enter the oasis to enjoy the many California fan palms and wildlife habitat. You will exit Hidden Palm oasis and follow the sandy wash towards Horseshoe oasis. \nThe trail leads up a steep incline and loops back to the trail. The distance is 3.0 miles with an elevation gain of 400-feet. Sorry\, no dogs are allowed on this trail. Bring 2 liters of water\, snacks\, wear closed-toed shoes\, sun hat and sunscreen. \nRSVP is required. Check-in begins 15 minutes prior to start time. \nView map at UTM coordinates: 33.835341\, -116.306906  \nFor more information contact Friends of the Desert Mountains 760-568-9918 or the Visitor Center at 760-862-9984. \nA suggested non-refundable donation of $5.00 per person is appreciated and encouraged to support our volunteer programs. \nTicket reservations begin 2 weeks prior to the event and will be published at that time. Your optional non-refundable donation is not a ticket to attend.
URL:https://www.desertmountains.org/event/hidden_palms-trail-hike/
LOCATION:Pushawalla Palms Trailhead\, Thousand Palms Canyon Road\, Desert Hot Springs\, CA\, 92241\, United States
ATTACH;FMTTYPE=image/jpeg:https://www.desertmountains.org/wp-content/uploads/2024/11/Hidden-Palms-2.jpg
END:VEVENT
BEGIN:VEVENT
DTSTART;TZID=America/Los_Angeles:20260116T100000
DTEND;TZID=America/Los_Angeles:20260116T110000
DTSTAMP:20260425T114301
CREATED:20251122T130518Z
LAST-MODIFIED:20251221T005855Z
UID:10000898-1768557600-1768561200@www.desertmountains.org
SUMMARY:Ed Hastey Garden Walk
DESCRIPTION:Enjoy strolling the Ed Hastey Garden Walk led by Friends’ volunteer docent. It is a great introduction to learn about native plants and animals that inhabit our desert\, and the value of urban conservation. This short\, easy walk is suitable for persons of all ages and abilities with a paved 3-foot-wide path. All topics are open for conversation such as climate change\, ancestors of the Cahuilla\, geology\, and early history of the foothills of the Santa Rosa Mountains. \nSorry\, no dogs are allowed on this trail. Recommend one 1 liter of water per person\, sun hat and sunscreen. \nRSVP required. Check-in 15 minutes prior to start time. \nView UTM/Map coordinates: 33.67149\, -116.40839  \nFor more information contact Friends of the Desert Mountains 760-568-9918 or the Visitor Center at 760-862-9984. \nA suggested non-refundable donation of $5.00 per person is appreciated and encouraged to support our volunteer programs. \nTicket reservations begin 2 weeks prior to the event and will be published at that time. Your optional non-refundable donation is not a ticket to attend.
URL:https://www.desertmountains.org/event/ed-hastey-garden-walk-16/
LOCATION:Santa Rosa & San Jacinto Mountains National Monument Visitor Center\, 51500 Highway 74\, Palm Desert\, CA\, 92260\, United States
ATTACH;FMTTYPE=image/jpeg:https://www.desertmountains.org/wp-content/uploads/2025/11/edhastey.jpeg
END:VEVENT
END:VCALENDAR