BEGIN:VCALENDAR
VERSION:2.0
PRODID:-//Desert Mountain - ECPv6.15.20//NONSGML v1.0//EN
CALSCALE:GREGORIAN
METHOD:PUBLISH
X-WR-CALNAME:Desert Mountain
X-ORIGINAL-URL:https://www.desertmountains.org
X-WR-CALDESC:Events for Desert Mountain
REFRESH-INTERVAL;VALUE=DURATION:PT1H
X-Robots-Tag:noindex
X-PUBLISHED-TTL:PT1H
BEGIN:VTIMEZONE
TZID:America/Los_Angeles
BEGIN:DAYLIGHT
TZOFFSETFROM:-0800
TZOFFSETTO:-0700
TZNAME:PDT
DTSTART:20250309T100000
END:DAYLIGHT
BEGIN:STANDARD
TZOFFSETFROM:-0700
TZOFFSETTO:-0800
TZNAME:PST
DTSTART:20251102T090000
END:STANDARD
BEGIN:DAYLIGHT
TZOFFSETFROM:-0800
TZOFFSETTO:-0700
TZNAME:PDT
DTSTART:20260308T100000
END:DAYLIGHT
BEGIN:STANDARD
TZOFFSETFROM:-0700
TZOFFSETTO:-0800
TZNAME:PST
DTSTART:20261101T090000
END:STANDARD
BEGIN:DAYLIGHT
TZOFFSETFROM:-0800
TZOFFSETTO:-0700
TZNAME:PDT
DTSTART:20270314T100000
END:DAYLIGHT
BEGIN:STANDARD
TZOFFSETFROM:-0700
TZOFFSETTO:-0800
TZNAME:PST
DTSTART:20271107T090000
END:STANDARD
END:VTIMEZONE
BEGIN:VEVENT
DTSTART;TZID=America/Los_Angeles:20260118T050000
DTEND;TZID=America/Los_Angeles:20260124T210000
DTSTAMP:20260425T114202
CREATED:20251125T022837Z
LAST-MODIFIED:20251125T023205Z
UID:10000919-1768712400-1769288400@www.desertmountains.org
SUMMARY:Winter Bioblitz: Santa Rosa & San Jacinto Mountains National Monument
DESCRIPTION:Join us for a week of recording observations in the SRSJM National Monument’s desert\, foothills and mountains. \nThe Santa Rosa and San Jacinto Mountains is a hotspot for biodiversity with over 3\,100 species. Help us find and document more species by participating in this year-long bioblitz event to keep identifying new species. \nAnyone can participate by going outside and exploring any of the over 280+ miles of designated trails in the Monument and identifying any plants or animals you see using the iNaturalist app on your phone. Be sure to add the Santa Rosa and San Jacinto Mountains National Monument project to your iNaturalist account to participate. Learn more about iNaturalist here. \nParticipants are encouraged to explore the trails and record as many species as they can using the iNaturalist app. There will be one day that week that participants can participate in a special bioblitz event with other participants and local researchers and specialists. Info can be requested by calling the Friends of the Desert Mountains at 760-568-9918 or the Visitor Center (760) 862-9984 a week prior to the start of the event. \nLocation: Special one day event with researchers and specialists is To Be Determined. Otherwise\, participants can explore any of the Monument trails on their own at any time. \nGuides: Various Santa Rosa and San Jacinto Mountains National Monument staff and research partners \nTHE REGISTRATION HERE IS TO PARTICIPATE IN THE WEEK-LONG EVENT. REGISTRATION FOR A DAY OUT WITH OUR RESEARCHERS WILL BE POSTED THE WEEK PRIOR. We will send an email to registered participants to advise when sign-ups are ready for this special research activity. Space will be limited\, so sign up ASAP after receiving notice. This is a free event. \nSponsored by the Bureau of Land Management and the U.S. Forest Service in collaboration with the Friends of the Desert Mountains.
URL:https://www.desertmountains.org/event/winter-bioblitz-santa-rosa-san-jacinto-mountains-national-monument-2/
LOCATION:Santa Rosa & San Jacinto Mountains National Monument\, 51500 Highway 74\, Palm Desert\, CA\, 92260\, United States
ATTACH;FMTTYPE=image/jpeg:https://www.desertmountains.org/wp-content/uploads/2025/11/ca706bdaec1264f64bc14ee1aa8e0eff-j6eA9c.tmp_.jpg
END:VEVENT
BEGIN:VEVENT
DTSTART;TZID=America/Los_Angeles:20260122T083000
DTEND;TZID=America/Los_Angeles:20260122T110000
DTSTAMP:20260425T114202
CREATED:20251122T133255Z
LAST-MODIFIED:20251122T133255Z
UID:10000902-1769070600-1769079600@www.desertmountains.org
SUMMARY:Randall Henderson Interpretative Hike - Full Trail
DESCRIPTION:Our Friends’ volunteer docent will take you on a guided hike through the Santa Rosa & San Jacinto Mountains National Monument! You will see excellent views of the Coachella Valley and learn the history of the area. You will see many unique desert plants and learn how they survive the long hot summers. There are lizards and animals on the trail including a chance to see the endangered desert tortoises. This trail is in a sandy wash and portions can be on narrow uneven desert terrain. \nWe will hike all 3 loops of the trail approximately 2.5-miles round trip. The elevation gain is approximately 350 feet. This hike is considered easy. Sorry\, no dogs allowed on this trail. Bring 2 liters of water\, snacks\, wear closed-toed shoes\, a sun hat and sunscreen. \nRSVP is required. Check-in begins 15 minutes prior to start time. \nPlease note: We will meet at the Randall Henderson Trailhead parking lot located at the Visitor Center. View map/UTM coordinates directions for trailhead location: 33.670193\, -116.406895  \nFor more information contact Friends of the Desert Mountains 760-568-9918 or the Visitor Center at 760-862-9984. \nA suggested non-refundable donation of $5.00 per person is appreciated and encouraged to support our volunteer programs. \nTicket reservations begin 2 weeks prior to the event and will be published at that time. Your optional non-refundable donation is not a ticket to attend.
URL:https://www.desertmountains.org/event/randall-henderson-interpretative-hike-full-trail-14/
LOCATION:Randall Henderson Trailhead\, 51500 Highway 74\, Palm Desert\, CA\, 92260\, United States
ATTACH;FMTTYPE=image/jpeg:https://www.desertmountains.org/wp-content/uploads/2024/11/Randall-Henderson-Canyon-Loop-Scenic-2.jpg
END:VEVENT
END:VCALENDAR