BEGIN:VCALENDAR
VERSION:2.0
PRODID:-//Desert Mountain - ECPv6.15.20//NONSGML v1.0//EN
CALSCALE:GREGORIAN
METHOD:PUBLISH
X-WR-CALNAME:Desert Mountain
X-ORIGINAL-URL:https://www.desertmountains.org
X-WR-CALDESC:Events for Desert Mountain
REFRESH-INTERVAL;VALUE=DURATION:PT1H
X-Robots-Tag:noindex
X-PUBLISHED-TTL:PT1H
BEGIN:VTIMEZONE
TZID:America/Los_Angeles
BEGIN:DAYLIGHT
TZOFFSETFROM:-0800
TZOFFSETTO:-0700
TZNAME:PDT
DTSTART:20250309T100000
END:DAYLIGHT
BEGIN:STANDARD
TZOFFSETFROM:-0700
TZOFFSETTO:-0800
TZNAME:PST
DTSTART:20251102T090000
END:STANDARD
BEGIN:DAYLIGHT
TZOFFSETFROM:-0800
TZOFFSETTO:-0700
TZNAME:PDT
DTSTART:20260308T100000
END:DAYLIGHT
BEGIN:STANDARD
TZOFFSETFROM:-0700
TZOFFSETTO:-0800
TZNAME:PST
DTSTART:20261101T090000
END:STANDARD
BEGIN:DAYLIGHT
TZOFFSETFROM:-0800
TZOFFSETTO:-0700
TZNAME:PDT
DTSTART:20270314T100000
END:DAYLIGHT
BEGIN:STANDARD
TZOFFSETFROM:-0700
TZOFFSETTO:-0800
TZNAME:PST
DTSTART:20271107T090000
END:STANDARD
END:VTIMEZONE
BEGIN:VEVENT
DTSTART;TZID=America/Los_Angeles:20260118T050000
DTEND;TZID=America/Los_Angeles:20260124T210000
DTSTAMP:20260425T114201
CREATED:20251125T022837Z
LAST-MODIFIED:20251125T023205Z
UID:10000919-1768712400-1769288400@www.desertmountains.org
SUMMARY:Winter Bioblitz: Santa Rosa & San Jacinto Mountains National Monument
DESCRIPTION:Join us for a week of recording observations in the SRSJM National Monument’s desert\, foothills and mountains. \nThe Santa Rosa and San Jacinto Mountains is a hotspot for biodiversity with over 3\,100 species. Help us find and document more species by participating in this year-long bioblitz event to keep identifying new species. \nAnyone can participate by going outside and exploring any of the over 280+ miles of designated trails in the Monument and identifying any plants or animals you see using the iNaturalist app on your phone. Be sure to add the Santa Rosa and San Jacinto Mountains National Monument project to your iNaturalist account to participate. Learn more about iNaturalist here. \nParticipants are encouraged to explore the trails and record as many species as they can using the iNaturalist app. There will be one day that week that participants can participate in a special bioblitz event with other participants and local researchers and specialists. Info can be requested by calling the Friends of the Desert Mountains at 760-568-9918 or the Visitor Center (760) 862-9984 a week prior to the start of the event. \nLocation: Special one day event with researchers and specialists is To Be Determined. Otherwise\, participants can explore any of the Monument trails on their own at any time. \nGuides: Various Santa Rosa and San Jacinto Mountains National Monument staff and research partners \nTHE REGISTRATION HERE IS TO PARTICIPATE IN THE WEEK-LONG EVENT. REGISTRATION FOR A DAY OUT WITH OUR RESEARCHERS WILL BE POSTED THE WEEK PRIOR. We will send an email to registered participants to advise when sign-ups are ready for this special research activity. Space will be limited\, so sign up ASAP after receiving notice. This is a free event. \nSponsored by the Bureau of Land Management and the U.S. Forest Service in collaboration with the Friends of the Desert Mountains.
URL:https://www.desertmountains.org/event/winter-bioblitz-santa-rosa-san-jacinto-mountains-national-monument-2/
LOCATION:Santa Rosa & San Jacinto Mountains National Monument\, 51500 Highway 74\, Palm Desert\, CA\, 92260\, United States
ATTACH;FMTTYPE=image/jpeg:https://www.desertmountains.org/wp-content/uploads/2025/11/ca706bdaec1264f64bc14ee1aa8e0eff-j6eA9c.tmp_.jpg
END:VEVENT
BEGIN:VEVENT
DTSTART;TZID=America/Los_Angeles:20260123T080000
DTEND;TZID=America/Los_Angeles:20260123T100000
DTSTAMP:20260425T114201
CREATED:20251218T202842Z
LAST-MODIFIED:20251218T202842Z
UID:10000947-1769155200-1769162400@www.desertmountains.org
SUMMARY:Birding Walk-About\, Desert Willow
DESCRIPTION:Grab your binoculars and join a Friends’ volunteer docent birding expert to look for our feathered desert residents. In this unique urban area\, we are still able to find a little native desert environment surrounded by local trees and shrubs that many of our feathered friends call home. As you walk the perimeter of an open desert property adjacent to the golf course\, you will find approximately 25-30 different species on your 1-mile walk-about. This is truly a “jewel in the desert” location to be enjoyed. \nBring your binoculars\, 1 liter of water\, a sun hat\, sunscreen and wear close-toed shoes. Sorry\, no dogs are allowed for this event. \nRSVP required. Check-in begins 15 minutes prior to start time. \nNote: We will meet in the parking lot on the right side of Desert Willow Drive just before entering the golf club. View UTM/Map coordinates: 33.76560\, -116.36554  \nFor more information contact Friends of the Desert Mountains 760-568-9918. \nA suggested non-refundable donation of $5.00 per person is appreciated and encouraged to support our volunteer programs. \nTicket reservations begin 2 weeks prior to the event and will be published at that time. Your optional non-refundable donation is not a ticket to attend. \n 
URL:https://www.desertmountains.org/event/birding-walk-about-desert-willow-30/
LOCATION:Desert Willow Golf Resort\, 38-995 Desert Willow Drive\, Palm Desert\, CA\, 92260\, United States
ATTACH;FMTTYPE=image/jpeg:https://www.desertmountains.org/wp-content/uploads/2024/09/Bird-1.jpg
END:VEVENT
BEGIN:VEVENT
DTSTART;TZID=America/Los_Angeles:20260123T083000
DTEND;TZID=America/Los_Angeles:20260123T120000
DTSTAMP:20260425T114201
CREATED:20251218T034001Z
LAST-MODIFIED:20251218T034103Z
UID:10000945-1769157000-1769169600@www.desertmountains.org
SUMMARY:Art Smith Trail Hike
DESCRIPTION:Join a guided hike through the Santa Rosa & San Jacinto Mountains National Monument! You will have excellent views of the Coachella Valley and learn some of the local history. You will see many unique desert plants and learn how they survive the long hot summers. There are lizards and animals on the trail including a chance to see the endangered Peninsular bighorn sheep with one of their newborn lambs. \nThe trail is about 2 feet wide with some cobble. The distance may be 3-4 miles with elevation gain of 500 to 950 feet. This hike is considered strenuous as there are a few steep inclines. Sorry\, no dogs allowed on this trail. \nBring 2 liters of water and snacks. Wear closed-toed hiking boots\, a sun hat and sunscreen. Hiking poles are suggested. \nRSVP required. Check-in begins 15 minutes prior to start time. \nPlease note: We will meet at the Art Smith Trailhead parking lot located just past the driveway for the Visitor Center approximately 100 feet on the southwest side of Highway 74. View map/UTM coordinates directions for trailhead location: 33.667957\, -116.407666 \nFor more information contact Friends of the Desert Mountains 760-568-9918 or the Visitor Center at 760-862-9984.  \nA suggested non-refundable donation of $5.00 per person is appreciated and encouraged to support our volunteer programs. \nTicket reservations begin 2 weeks prior to the event and will be published at that time. Your optional non-refundable donation is not a ticket to attend.  \n 
URL:https://www.desertmountains.org/event/art-smith-trail-hike-2/
LOCATION:Art Smith Trail Parking Lot\, Art Smith Trailhead\, Highway 74\, Palm Desert\, CA\, 92260\, United States
ATTACH;FMTTYPE=image/jpeg:https://www.desertmountains.org/wp-content/uploads/2025/12/art-smith-sheep3.jpeg
END:VEVENT
END:VCALENDAR