BEGIN:VCALENDAR
VERSION:2.0
PRODID:-//Desert Mountain - ECPv6.15.20//NONSGML v1.0//EN
CALSCALE:GREGORIAN
METHOD:PUBLISH
X-ORIGINAL-URL:https://www.desertmountains.org
X-WR-CALDESC:Events for Desert Mountain
REFRESH-INTERVAL;VALUE=DURATION:PT1H
X-Robots-Tag:noindex
X-PUBLISHED-TTL:PT1H
BEGIN:VTIMEZONE
TZID:America/Los_Angeles
BEGIN:DAYLIGHT
TZOFFSETFROM:-0800
TZOFFSETTO:-0700
TZNAME:PDT
DTSTART:20250309T100000
END:DAYLIGHT
BEGIN:STANDARD
TZOFFSETFROM:-0700
TZOFFSETTO:-0800
TZNAME:PST
DTSTART:20251102T090000
END:STANDARD
BEGIN:DAYLIGHT
TZOFFSETFROM:-0800
TZOFFSETTO:-0700
TZNAME:PDT
DTSTART:20260308T100000
END:DAYLIGHT
BEGIN:STANDARD
TZOFFSETFROM:-0700
TZOFFSETTO:-0800
TZNAME:PST
DTSTART:20261101T090000
END:STANDARD
BEGIN:DAYLIGHT
TZOFFSETFROM:-0800
TZOFFSETTO:-0700
TZNAME:PDT
DTSTART:20270314T100000
END:DAYLIGHT
BEGIN:STANDARD
TZOFFSETFROM:-0700
TZOFFSETTO:-0800
TZNAME:PST
DTSTART:20271107T090000
END:STANDARD
END:VTIMEZONE
BEGIN:VEVENT
DTSTART;TZID=America/Los_Angeles:20260127T080000
DTEND;TZID=America/Los_Angeles:20260127T100000
DTSTAMP:20260425T114637
CREATED:20251125T025534Z
LAST-MODIFIED:20251125T025713Z
UID:10000925-1769500800-1769508000@www.desertmountains.org
SUMMARY:Birding Walk-About\, Desert Willow
DESCRIPTION:Grab your binoculars and join a Friends’ volunteer docent birding expert to look for our feathered desert residents. In this unique urban area\, we are still able to find a little native desert environment surrounded by local trees and shrubs that many of our feathered friends call home. As you walk the perimeter of an open desert property adjacent to the golf course\, you will find approximately 25-30 different species on your 1-mile walk-about. This is truly a “jewel in the desert” location to be enjoyed. \nBring your binoculars\, 1 liter of water\, a sun hat\, sunscreen and wear close-toed shoes. Sorry\, no dogs are allowed for this event. \nRSVP required. Check-in begins 15 minutes prior to start time. \nNote: We will meet in the parking lot on the right side of Desert Willow Drive just before entering the golf club. View UTM/Map coordinates: 33.76560\, -116.36554  \nFor more information contact Friends of the Desert Mountains 760-568-9918. \nA suggested non-refundable donation of $5.00 per person is appreciated and encouraged to support our volunteer programs. \nTicket reservations begin 2 weeks prior to the event and will be published at that time. Your optional non-refundable donation is not a ticket to attend. \n 
URL:https://www.desertmountains.org/event/birding-walk-about-desert-willow-29/
LOCATION:Desert Willow Golf Resort\, 38-995 Desert Willow Drive\, Palm Desert\, CA\, 92260\, United States
ATTACH;FMTTYPE=image/jpeg:https://www.desertmountains.org/wp-content/uploads/2025/11/bird-oriole-scaled.jpg
END:VEVENT
BEGIN:VEVENT
DTSTART;TZID=America/Los_Angeles:20260127T090000
DTEND;TZID=America/Los_Angeles:20260127T120000
DTSTAMP:20260425T114637
CREATED:20251216T193106Z
LAST-MODIFIED:20251216T193106Z
UID:10000935-1769504400-1769515200@www.desertmountains.org
SUMMARY:Earl Henderson Trail Hike
DESCRIPTION:Enjoy this easy hike along the hillside above Araby Wash. Explore the wonders of this critical habitat area to learn about the endangered Casey’s June Beetle and fire ecology in this sensitive habitat area. On our return loop\, we will wander down into the wash to checkout a few desert plants. Sorry\, no dogs allowed on this trail. This is an easy hiking trail. Distance will be about 3 miles. Elevation gain of 100 feet. Bring 2 liters of water\, snacks\, wear closed-toed shoes\, sun hat and sunscreen. \nRSVP required. Check-in 15 minutes prior to start time. \nWe will meet at the trailhead located off Bogert Trail at Barona Road. View map & UTM coordinates: 33.77621\, -116.53132 \nFor more information contact Friends of the Desert Mountains 760-568-9918 or the Visitor Center at 760-862-9984. \nA suggested non-refundable donation of $5.00 per person is appreciated and encouraged to support our volunteer programs. \nTicket reservations begin 2 weeks prior to the event and will be published at that time. Your optional non-refundable donation is not a ticket to attend.
URL:https://www.desertmountains.org/event/earl-henderson-trail-hike-14/
LOCATION:Earl Henderson Trail\, Bogert Trail at Barona Rd\, Palm Springs\, CA\, 92264\, United States
ATTACH;FMTTYPE=image/jpeg:https://www.desertmountains.org/wp-content/uploads/2025/09/Earl-Henderson-Trl-scaled.jpg
END:VEVENT
END:VCALENDAR