BEGIN:VCALENDAR
VERSION:2.0
PRODID:-//Desert Mountain - ECPv6.15.20//NONSGML v1.0//EN
CALSCALE:GREGORIAN
METHOD:PUBLISH
X-ORIGINAL-URL:https://www.desertmountains.org
X-WR-CALDESC:Events for Desert Mountain
REFRESH-INTERVAL;VALUE=DURATION:PT1H
X-Robots-Tag:noindex
X-PUBLISHED-TTL:PT1H
BEGIN:VTIMEZONE
TZID:America/Los_Angeles
BEGIN:DAYLIGHT
TZOFFSETFROM:-0800
TZOFFSETTO:-0700
TZNAME:PDT
DTSTART:20250309T100000
END:DAYLIGHT
BEGIN:STANDARD
TZOFFSETFROM:-0700
TZOFFSETTO:-0800
TZNAME:PST
DTSTART:20251102T090000
END:STANDARD
BEGIN:DAYLIGHT
TZOFFSETFROM:-0800
TZOFFSETTO:-0700
TZNAME:PDT
DTSTART:20260308T100000
END:DAYLIGHT
BEGIN:STANDARD
TZOFFSETFROM:-0700
TZOFFSETTO:-0800
TZNAME:PST
DTSTART:20261101T090000
END:STANDARD
BEGIN:DAYLIGHT
TZOFFSETFROM:-0800
TZOFFSETTO:-0700
TZNAME:PDT
DTSTART:20270314T100000
END:DAYLIGHT
BEGIN:STANDARD
TZOFFSETFROM:-0700
TZOFFSETTO:-0800
TZNAME:PST
DTSTART:20271107T090000
END:STANDARD
END:VTIMEZONE
BEGIN:VEVENT
DTSTART;TZID=America/Los_Angeles:20260129T083000
DTEND;TZID=America/Los_Angeles:20260129T110000
DTSTAMP:20260425T114301
CREATED:20251122T133334Z
LAST-MODIFIED:20251122T133334Z
UID:10000903-1769675400-1769684400@www.desertmountains.org
SUMMARY:Randall Henderson Interpretative Hike - Full Trail
DESCRIPTION:Our Friends’ volunteer docent will take you on a guided hike through the Santa Rosa & San Jacinto Mountains National Monument! You will see excellent views of the Coachella Valley and learn the history of the area. You will see many unique desert plants and learn how they survive the long hot summers. There are lizards and animals on the trail including a chance to see the endangered desert tortoises. This trail is in a sandy wash and portions can be on narrow uneven desert terrain. \nWe will hike all 3 loops of the trail approximately 2.5-miles round trip. The elevation gain is approximately 350 feet. This hike is considered easy. Sorry\, no dogs allowed on this trail. Bring 2 liters of water\, snacks\, wear closed-toed shoes\, a sun hat and sunscreen. \nRSVP is required. Check-in begins 15 minutes prior to start time. \nPlease note: We will meet at the Randall Henderson Trailhead parking lot located at the Visitor Center. View map/UTM coordinates directions for trailhead location: 33.670193\, -116.406895  \nFor more information contact Friends of the Desert Mountains 760-568-9918 or the Visitor Center at 760-862-9984. \nA suggested non-refundable donation of $5.00 per person is appreciated and encouraged to support our volunteer programs. \nTicket reservations begin 2 weeks prior to the event and will be published at that time. Your optional non-refundable donation is not a ticket to attend.
URL:https://www.desertmountains.org/event/randall-henderson-interpretative-hike-full-trail-15/
LOCATION:Randall Henderson Trailhead\, 51500 Highway 74\, Palm Desert\, CA\, 92260\, United States
ATTACH;FMTTYPE=image/jpeg:https://www.desertmountains.org/wp-content/uploads/2024/11/Randall-Henderson-Canyon-Loop-Scenic-2.jpg
END:VEVENT
BEGIN:VEVENT
DTSTART;TZID=America/Los_Angeles:20260129T120000
DTEND;TZID=America/Los_Angeles:20260129T140000
DTSTAMP:20260425T114301
CREATED:20260106T204220Z
LAST-MODIFIED:20260109T180452Z
UID:10000954-1769688000-1769695200@www.desertmountains.org
SUMMARY:Friends & Volunteers 2026 Kick-Off BBQ
DESCRIPTION:We’re excited to kick off the year by gathering together with our amazing volunteer crew for some good food\, great company\, and plenty of laughs! Let’s celebrate all that’s ahead and enjoy a relaxed BBQ together. We’ll be providing hot dogs\, hamburgers\, and veggie burgers—just bring your favorite side dish to share and your appetite! \nThe event will take place on the patio by the Friends of the Desert Mountains office. \nQuestions? Contact Allison at astrong@desertmountains.org \n\n 
URL:https://www.desertmountains.org/event/volunteer-bbq/
LOCATION:Friends of the Desert Mountains\, 51500 California 74\, Palm Desert\, CA\, 92260\, United States
ATTACH;FMTTYPE=image/jpeg:https://www.desertmountains.org/wp-content/uploads/2026/01/volunteer-appreciation-1.jpg
END:VEVENT
END:VCALENDAR