BEGIN:VCALENDAR
VERSION:2.0
PRODID:-//Desert Mountain - ECPv6.15.20//NONSGML v1.0//EN
CALSCALE:GREGORIAN
METHOD:PUBLISH
X-WR-CALNAME:Desert Mountain
X-ORIGINAL-URL:https://www.desertmountains.org
X-WR-CALDESC:Events for Desert Mountain
REFRESH-INTERVAL;VALUE=DURATION:PT1H
X-Robots-Tag:noindex
X-PUBLISHED-TTL:PT1H
BEGIN:VTIMEZONE
TZID:America/Los_Angeles
BEGIN:DAYLIGHT
TZOFFSETFROM:-0800
TZOFFSETTO:-0700
TZNAME:PDT
DTSTART:20250309T100000
END:DAYLIGHT
BEGIN:STANDARD
TZOFFSETFROM:-0700
TZOFFSETTO:-0800
TZNAME:PST
DTSTART:20251102T090000
END:STANDARD
BEGIN:DAYLIGHT
TZOFFSETFROM:-0800
TZOFFSETTO:-0700
TZNAME:PDT
DTSTART:20260308T100000
END:DAYLIGHT
BEGIN:STANDARD
TZOFFSETFROM:-0700
TZOFFSETTO:-0800
TZNAME:PST
DTSTART:20261101T090000
END:STANDARD
BEGIN:DAYLIGHT
TZOFFSETFROM:-0800
TZOFFSETTO:-0700
TZNAME:PDT
DTSTART:20270314T100000
END:DAYLIGHT
BEGIN:STANDARD
TZOFFSETFROM:-0700
TZOFFSETTO:-0800
TZNAME:PST
DTSTART:20271107T090000
END:STANDARD
END:VTIMEZONE
BEGIN:VEVENT
DTSTART;TZID=America/Los_Angeles:20260201T080000
DTEND;TZID=America/Los_Angeles:20260201T113000
DTSTAMP:20260425T101223
CREATED:20250831T030942Z
LAST-MODIFIED:20251224T010331Z
UID:10000696-1769932800-1769945400@www.desertmountains.org
SUMMARY:Public Lands Day with City of Palm Desert
DESCRIPTION:Roll up your sleeves and make a difference with Friends of the Desert Mountains and the City of Palm Desert at a community cleanup you won’t want to miss! \nWe’ll kick things off at 8 AM with a special bench dedication in loving memory of Buford Crites. \nThen it’s time to get our hands dirty (in a good way!) with cleanup activities like:\nRemoving dead plants\nTrimming bushes and trees\nHauling off odds and ends like concrete and tiles\nLight grading to beautify the area \nWrap up the morning with a FREE lite lunch to celebrate our hard work! \nGrab your friends\, bring your energy\, and let’s give Homme Adams Park a glow-up together!\nSign up today – let’s clean\, green\, and make it a scene! \n 
URL:https://www.desertmountains.org/event/public-lands-day-with-city-of-palm-desert/
LOCATION:Homme Adams Park\, 72500 Thrush Road\, Palm Desert\, CA\, 92260\, United States
ATTACH;FMTTYPE=image/jpeg:https://www.desertmountains.org/wp-content/uploads/2025/08/Homme-Adams-Sign-scaled.jpg
END:VEVENT
BEGIN:VEVENT
DTSTART;TZID=America/Los_Angeles:20260201T083000
DTEND;TZID=America/Los_Angeles:20260201T110000
DTSTAMP:20260425T101223
CREATED:20260110T004614Z
LAST-MODIFIED:20260110T004614Z
UID:10000961-1769934600-1769943600@www.desertmountains.org
SUMMARY:Who Made That Hole? Randall Henderson Interpretative Hike
DESCRIPTION:As you walk the desert trails\, have you noticed the holes and wondered who made them? Explore the Randall Henderson Trail with our volunteer docent leaders to learn the difference between burrows and holes\, and the importance of these to the delicate balance of the environment. We will be looking for clues as to the inhabitants as we hike. \nHike rating is easy for both the 3 loops/2.5 miles OR the 2 loops/1.5 miles of trail. Elevation gain for the 3 loops is 350 feet. While elevation gain for 2 loops is 250 feet. Sorry no dogs are allowed on this trail. Bring snacks and 2 liters of water per person. Wear close-toed shoes\, sun hat and sunscreen. \nRSVP is required. Check-in begins 15 minutes prior to start time. \nPlease note: We will meet at the Randall Henderson Trailhead parking lot located at the Visitor Center. View map/UTM coordinates directions for trailhead location: 33.670193\, -116.406895  \nFor more information contact Friends of the Desert Mountains 760-568-9918 or the Visitor Center at 760-862-9984. \nA suggested non-refundable donation of $5.00 per person is appreciated and encouraged to support our volunteer programs. \nTicket reservations begin 2 weeks prior to the event and will be published at that time. Your optional non-refundable donation is not a ticket to attend.\n 
URL:https://www.desertmountains.org/event/who-made-that-hole-randall-henderson-interpretative-hike/
LOCATION:Randall Henderson Trailhead\, 51500 Highway 74\, Palm Desert\, CA\, 92260\, United States
ATTACH;FMTTYPE=image/jpeg:https://www.desertmountains.org/wp-content/uploads/2025/11/Randall-Henderson-1st-Loop.jpg
END:VEVENT
BEGIN:VEVENT
DTSTART;TZID=America/Los_Angeles:20260201T190000
DTEND;TZID=America/Los_Angeles:20260201T210000
DTSTAMP:20260425T101223
CREATED:20260110T005424Z
LAST-MODIFIED:20260110T005424Z
UID:10000962-1769972400-1769979600@www.desertmountains.org
SUMMARY:La Quinta Full Moon Hike
DESCRIPTION:Experience a hike by moonlight! See the beauty of the shadows and wash of moonlight over our mountains. We will be looking for all types of night creatures along the trail. Our astronomers will have their telescope set-up to view the night sky. \nThis is a family friendly easy 3-mile loop hike with 150 feet elevation gain. The trail is 6 feet wide at the beginning and narrows to 2 feet wide with cobbled\, uneven desert terrain. Bring 1 liter of water per person\, headlamp or flashlight and wear closed-toed shoes. Sorry\, no dogs allowed on this trail. \nRSVP required. Check-in begins 15 minutes prior to your group’s departure time. \nView map/UTM coordinates: 33.648969\, -116.309324 \nFor more information contact the Friends of the Desert Mountains at 760-568-9918 or the National Monument Visitor Center at 760-862-9984. \nA suggested non-refundable donation of $5.00 per person is appreciated and encouraged to support our volunteer programs. \nTicket reservations begin 1 week prior to the event and will be published at that time. Your optional non-refundable donation is not a ticket to attend. \n 
URL:https://www.desertmountains.org/event/la-quinta-full-moon-hike-5/
LOCATION:La Quinta Cove Trails Parking Lot\, Calle Tecate & Avenida Bermudas\, La Quinta\, CA\, 92253\, United States
ATTACH;FMTTYPE=image/jpeg:https://www.desertmountains.org/wp-content/uploads/2025/01/45be75f162644c42950e36dd3f49a1cd-kR7UZL.tmp_.jpg
END:VEVENT
BEGIN:VEVENT
DTSTART;TZID=America/Los_Angeles:20260201T193000
DTEND;TZID=America/Los_Angeles:20260201T213000
DTSTAMP:20260425T101223
CREATED:20260110T005613Z
LAST-MODIFIED:20260110T005613Z
UID:10000963-1769974200-1769981400@www.desertmountains.org
SUMMARY:Night Sky Star Observations - La Quinta
DESCRIPTION:Friends of the Desert Mountains volunteer astronomers will be setting up their telescopes and are inviting you to their “star party”. A clear night sky offers an ever-changing display of fascinating objects to see — stars\, constellations\, bright planets\, a full moon\, and sometimes special events like meteor showers or an eclipse. While observing the night sky\, occasionally we might see the international space station moving over the Coachella Valley. \nThis event is wheelchair accessible with compacted dirt surfaces. \nStop by any time between 7:30pm and 9:30pm. \nNOTE: CHECK WEATHER BEFORE DEPARTING\, THIS EVENT WILL BE CANCELED FOR HEAVY CLOUD COVER\, WIND OR RAIN. \nView map/UTM coordinates: 33.648969\, -116.309324 \nFor more information contact the Friends of the Desert Mountains at 760-568-9918 or the National Monument Visitor Center at 760-862-9984. \nA suggested non-refundable donation of $5.00 per person is appreciated and encouraged to support our volunteer programs. \nTicket reservations begin 1 week prior to the event and will be published at that time. Your optional non-refundable donation is not a ticket to attend.
URL:https://www.desertmountains.org/event/night-sky-star-observations-la-quinta-11/
LOCATION:La Quinta Cove Trails Parking Lot\, Calle Tecate & Avenida Bermudas\, La Quinta\, CA\, 92253\, United States
ATTACH;FMTTYPE=image/jpeg:https://www.desertmountains.org/wp-content/uploads/2024/11/25e12f773a4175e26118bbef1fbff09b-uomRDw.tmp_.jpg
END:VEVENT
END:VCALENDAR