BEGIN:VCALENDAR
VERSION:2.0
PRODID:-//Desert Mountain - ECPv6.15.20//NONSGML v1.0//EN
CALSCALE:GREGORIAN
METHOD:PUBLISH
X-WR-CALNAME:Desert Mountain
X-ORIGINAL-URL:https://www.desertmountains.org
X-WR-CALDESC:Events for Desert Mountain
REFRESH-INTERVAL;VALUE=DURATION:PT1H
X-Robots-Tag:noindex
X-PUBLISHED-TTL:PT1H
BEGIN:VTIMEZONE
TZID:America/Los_Angeles
BEGIN:DAYLIGHT
TZOFFSETFROM:-0800
TZOFFSETTO:-0700
TZNAME:PDT
DTSTART:20250309T100000
END:DAYLIGHT
BEGIN:STANDARD
TZOFFSETFROM:-0700
TZOFFSETTO:-0800
TZNAME:PST
DTSTART:20251102T090000
END:STANDARD
BEGIN:DAYLIGHT
TZOFFSETFROM:-0800
TZOFFSETTO:-0700
TZNAME:PDT
DTSTART:20260308T100000
END:DAYLIGHT
BEGIN:STANDARD
TZOFFSETFROM:-0700
TZOFFSETTO:-0800
TZNAME:PST
DTSTART:20261101T090000
END:STANDARD
BEGIN:DAYLIGHT
TZOFFSETFROM:-0800
TZOFFSETTO:-0700
TZNAME:PDT
DTSTART:20270314T100000
END:DAYLIGHT
BEGIN:STANDARD
TZOFFSETFROM:-0700
TZOFFSETTO:-0800
TZNAME:PST
DTSTART:20271107T090000
END:STANDARD
END:VTIMEZONE
BEGIN:VEVENT
DTSTART;TZID=America/Los_Angeles:20260214T130000
DTEND;TZID=America/Los_Angeles:20260214T150000
DTSTAMP:20260425T101221
CREATED:20260129T032001Z
LAST-MODIFIED:20260129T032210Z
UID:10001008-1771074000-1771081200@www.desertmountains.org
SUMMARY:Junior Ranger Day at the National Monument
DESCRIPTION:Learn about our desert through hands-on activities that explore the land\, animals\, and plants. After completing six challenges\, you’ll earn your Junior Ranger Badge! \nThis program is suited for ages 8 to 18\, and tickets should be in the youths’ name. For more information contact Friends of the Desert Mountains 760-568-9918 or the Visitor Center at 760-862-9984. \nSponsored by the Bureau of Land Management in partnership with Friends of the Desert Mountains.
URL:https://www.desertmountains.org/event/junior-ranger-day-at-the-national-monument-2/
LOCATION:Santa Rosa & San Jacinto Mountains National Monument Visitor Center\, 51500 Highway 74\, Palm Desert\, CA\, 92260\, United States
ATTACH;FMTTYPE=image/jpeg:https://www.desertmountains.org/wp-content/uploads/2026/01/e7892706d137b0e7b01c1a4395053be4-ElMKG3.tmp_.jpg
END:VEVENT
BEGIN:VEVENT
DTSTART;TZID=America/Los_Angeles:20260214T173000
DTEND;TZID=America/Los_Angeles:20260214T210000
DTSTAMP:20260425T101221
CREATED:20260110T003053Z
LAST-MODIFIED:20260110T003053Z
UID:10000960-1771090200-1771102800@www.desertmountains.org
SUMMARY:Star Party in the Mountains
DESCRIPTION:Join members of the Astronomical Society of the Desert for fun “sky tours” and direct observations of the night sky through telescopes and binoculars. \nThis is a family event. Minors must be accompanied by parent or guardian. \nThis event is wheelchair accessible with asphalt surfaces. \nEtiquette: please do not touch equipment unless requested. No white lights near telescope field. \nNOTE: OVERCAST SKIES AND HIGH WINDS CANCEL THIS EVENT. \nView map & UTM coordinates for the Sawmill Parking Lot: 33.57995\, -116.45056 \nFor more information contact Friends of the Desert Mountains 760-598-9918. RSVP is not required.
URL:https://www.desertmountains.org/event/star-party-in-the-mountains-17/
LOCATION:Sawmill Trailhead Parking Lot\, HGHX+XQG\, Pinyon Pines\, CA
ATTACH;FMTTYPE=image/jpeg:https://www.desertmountains.org/wp-content/uploads/2024/09/star-party-fullmoon-ribbonwood-scaled.jpg
END:VEVENT
END:VCALENDAR