BEGIN:VCALENDAR
VERSION:2.0
PRODID:-//Desert Mountain - ECPv6.15.20//NONSGML v1.0//EN
CALSCALE:GREGORIAN
METHOD:PUBLISH
X-ORIGINAL-URL:https://www.desertmountains.org
X-WR-CALDESC:Events for Desert Mountain
REFRESH-INTERVAL;VALUE=DURATION:PT1H
X-Robots-Tag:noindex
X-PUBLISHED-TTL:PT1H
BEGIN:VTIMEZONE
TZID:America/Los_Angeles
BEGIN:DAYLIGHT
TZOFFSETFROM:-0800
TZOFFSETTO:-0700
TZNAME:PDT
DTSTART:20250309T100000
END:DAYLIGHT
BEGIN:STANDARD
TZOFFSETFROM:-0700
TZOFFSETTO:-0800
TZNAME:PST
DTSTART:20251102T090000
END:STANDARD
BEGIN:DAYLIGHT
TZOFFSETFROM:-0800
TZOFFSETTO:-0700
TZNAME:PDT
DTSTART:20260308T100000
END:DAYLIGHT
BEGIN:STANDARD
TZOFFSETFROM:-0700
TZOFFSETTO:-0800
TZNAME:PST
DTSTART:20261101T090000
END:STANDARD
BEGIN:DAYLIGHT
TZOFFSETFROM:-0800
TZOFFSETTO:-0700
TZNAME:PDT
DTSTART:20270314T100000
END:DAYLIGHT
BEGIN:STANDARD
TZOFFSETFROM:-0700
TZOFFSETTO:-0800
TZNAME:PST
DTSTART:20271107T090000
END:STANDARD
END:VTIMEZONE
BEGIN:VEVENT
DTSTART;TZID=America/Los_Angeles:20260226T080000
DTEND;TZID=America/Los_Angeles:20260226T100000
DTSTAMP:20260425T101335
CREATED:20260112T004640Z
LAST-MODIFIED:20260115T201015Z
UID:10000973-1772092800-1772100000@www.desertmountains.org
SUMMARY:Birding Walk-About\, Desert Willow
DESCRIPTION:Grab your binoculars and join a Friends’ volunteer docent birding expert to look for our feathered desert residents. In this unique urban area\, we are still able to find a little native desert environment surrounded by local trees and shrubs that many of our feathered friends call home. As you walk the perimeter of an open desert property adjacent to the golf course\, you will find approximately 25-30 different species on your 1-mile walk-about. This is truly a “jewel in the desert” location to be enjoyed. \nBring your binoculars\, 1 liter of water\, a sun hat\, sunscreen and wear close-toed shoes. Sorry\, no dogs are allowed for this event. \nRSVP required. Check-in begins 15 minutes prior to start time. \nNote: We will meet in the parking lot on the right side of Desert Willow Drive just before entering the golf club. View UTM/Map coordinates: 33.76560\, -116.36554  \nFor more information contact Friends of the Desert Mountains 760-568-9918. \nA suggested non-refundable donation of $5.00 per person is appreciated and encouraged to support our volunteer programs. \nTicket reservations begin 2 weeks prior to the event and will be published at that time. Your optional non-refundable donation is not a ticket to attend. \n 
URL:https://www.desertmountains.org/event/birding-walk-about-desert-willow-33/
LOCATION:Desert Willow Golf Resort\, 38-995 Desert Willow Drive\, Palm Desert\, CA\, 92260\, United States
ATTACH;FMTTYPE=image/jpeg:https://www.desertmountains.org/wp-content/uploads/2024/09/Bird-1.jpg
END:VEVENT
BEGIN:VEVENT
DTSTART;TZID=America/Los_Angeles:20260226T083000
DTEND;TZID=America/Los_Angeles:20260226T103000
DTSTAMP:20260425T101335
CREATED:20260112T003829Z
LAST-MODIFIED:20260215T182418Z
UID:10000970-1772094600-1772101800@www.desertmountains.org
SUMMARY:Art Smith Trail Hike
DESCRIPTION:Join a guided hike through the Santa Rosa & San Jacinto Mountains National Monument! You will have excellent views of the Coachella Valley and learn some of the local history. You will see many unique desert plants and learn how they survive the long hot summers. There are lizards and animals on the trail including a chance to see the endangered Peninsular bighorn sheep with one of their newborn lambs. \nThe trail is about 2 feet wide with some cobble. The distance may be 3-4 miles with elevation gain of 500 to 950 feet. This hike is considered strenuous as there are a few steep inclines. Sorry\, no dogs allowed on this trail. \nBring 2 liters of water and snacks. Wear closed-toed hiking boots\, a sun hat and sunscreen. Hiking poles are suggested. \nRSVP required. Check-in begins 15 minutes prior to start time. \nPlease note: We will meet at the Randall Henderson Trailhead parking lot located at the Visitor Center. View map/UTM coordinates directions for trailhead location: 33.670193\, -116.406895  \nFor more information contact Friends of the Desert Mountains 760-568-9918 or the Visitor Center at 760-862-9984.  \nA suggested non-refundable donation of $5.00 per person is appreciated and encouraged to support our volunteer programs. \nTicket reservations begin 2 weeks prior to the event and will be published at that time. Your optional non-refundable donation is not a ticket to attend.  \n 
URL:https://www.desertmountains.org/event/art-smith-trail-hike-4/
LOCATION:Randall Henderson Trailhead\, 51500 Highway 74\, Palm Desert\, CA\, 92260\, United States
ATTACH;FMTTYPE=image/jpeg:https://www.desertmountains.org/wp-content/uploads/2025/12/art-smith-sheep3.jpeg
END:VEVENT
BEGIN:VEVENT
DTSTART;TZID=America/Los_Angeles:20260226T083000
DTEND;TZID=America/Los_Angeles:20260226T110000
DTSTAMP:20260425T101335
CREATED:20260112T010900Z
LAST-MODIFIED:20260112T010900Z
UID:10000984-1772094600-1772103600@www.desertmountains.org
SUMMARY:Randall Henderson Interpretative Hike
DESCRIPTION:Our Friends’ volunteer docent will take you on a guided hike through the Santa Rosa & San Jacinto Mountains National Monument! You will see excellent views of the Coachella Valley and learn the history of the area. You will see many unique desert plants and learn how they survive the long hot summers. There are lizards and animals on the trail including a chance to see the endangered desert tortoises. This trail is in a sandy wash and portions can be on narrow uneven desert terrain. \nWe will hike all 3 loops of the trail approximately 2.5-miles round trip. The elevation gain is approximately 350 feet. This hike is considered easy. Sorry\, no dogs allowed on this trail. Bring 2 liters of water\, snacks\, wear closed-toed shoes\, a sun hat and sunscreen. \nRSVP is required. Check-in begins 15 minutes prior to start time. \nPlease note: We will meet at the Randall Henderson Trailhead parking lot located at the Visitor Center. View map/UTM coordinates directions for trailhead location: 33.670193\, -116.406895  \nFor more information contact Friends of the Desert Mountains 760-568-9918 or the Visitor Center at 760-862-9984. \nA suggested non-refundable donation of $5.00 per person is appreciated and encouraged to support our volunteer programs. \nTicket reservations begin 2 weeks prior to the event and will be published at that time. Your optional non-refundable donation is not a ticket to attend.
URL:https://www.desertmountains.org/event/randall-henderson-interpretative-hike-4/
LOCATION:Randall Henderson Trailhead\, 51500 Highway 74\, Palm Desert\, CA\, 92260\, United States
ATTACH;FMTTYPE=image/jpeg:https://www.desertmountains.org/wp-content/uploads/2024/11/Randall-Henderson-Canyon-Loop-Scenic-2.jpg
END:VEVENT
END:VCALENDAR