BEGIN:VCALENDAR
VERSION:2.0
PRODID:-//Desert Mountain - ECPv6.15.20//NONSGML v1.0//EN
CALSCALE:GREGORIAN
METHOD:PUBLISH
X-ORIGINAL-URL:https://www.desertmountains.org
X-WR-CALDESC:Events for Desert Mountain
REFRESH-INTERVAL;VALUE=DURATION:PT1H
X-Robots-Tag:noindex
X-PUBLISHED-TTL:PT1H
BEGIN:VTIMEZONE
TZID:America/Los_Angeles
BEGIN:DAYLIGHT
TZOFFSETFROM:-0800
TZOFFSETTO:-0700
TZNAME:PDT
DTSTART:20250309T100000
END:DAYLIGHT
BEGIN:STANDARD
TZOFFSETFROM:-0700
TZOFFSETTO:-0800
TZNAME:PST
DTSTART:20251102T090000
END:STANDARD
BEGIN:DAYLIGHT
TZOFFSETFROM:-0800
TZOFFSETTO:-0700
TZNAME:PDT
DTSTART:20260308T100000
END:DAYLIGHT
BEGIN:STANDARD
TZOFFSETFROM:-0700
TZOFFSETTO:-0800
TZNAME:PST
DTSTART:20261101T090000
END:STANDARD
BEGIN:DAYLIGHT
TZOFFSETFROM:-0800
TZOFFSETTO:-0700
TZNAME:PDT
DTSTART:20270314T100000
END:DAYLIGHT
BEGIN:STANDARD
TZOFFSETFROM:-0700
TZOFFSETTO:-0800
TZNAME:PST
DTSTART:20271107T090000
END:STANDARD
END:VTIMEZONE
BEGIN:VEVENT
DTSTART;TZID=America/Los_Angeles:20260228T083000
DTEND;TZID=America/Los_Angeles:20260228T103000
DTSTAMP:20260425T101324
CREATED:20260213T212920Z
LAST-MODIFIED:20260213T212920Z
UID:10001017-1772267400-1772274600@www.desertmountains.org
SUMMARY:Wildflower Nature Walk - Bear Creek Wash
DESCRIPTION:Fun for the entire family to explore the Bear Creek Wash searching for wildflowers. Thanks to all the recent rains in December the wildflowers are happy to show off this season. You and your children will learn how to identify the blooms and learn interesting facts. We will begin hiking from the small parking lot to the Oasis and down into the Bear Creek Wash and returning. The walk will be about 2.0 miles. \nSorry no dogs are allowed on this trail. Bring 1 liter of water per person. Wear close-toed shoes\, sunhat\, and sunscreen. \nRSVP required. Check-in begins 15 minutes prior to start time. \nPlease Note: we will meet at the Cove Oasis Trailhead parking lot. View map/UTM coordinates: 33.64875\, -116.31708  \nFor more information contact Friends of the Desert Mountains 760-568-9918 or the Visitor Center at 760-862-9984. \nA suggested non-refundable donation of $5.00 per person is appreciated and encouraged to support our volunteer programs. \nTicket reservations begin 2 weeks prior to the event and will be published at that time. Your optional non-refundable donation is not a ticket to attend. \n 
URL:https://www.desertmountains.org/event/wildflower-nature-walk-bear-creek-wash/
LOCATION:Cove Oasis Trailhead Parking Lot\, Calle Tecate and Avenida Juarez\, La Quinta\, CA\, 92253\, United States
ATTACH;FMTTYPE=image/jpeg:https://www.desertmountains.org/wp-content/uploads/2026/02/wf-chuparosa-LQ-wash.jpg
END:VEVENT
END:VCALENDAR