BEGIN:VCALENDAR
VERSION:2.0
PRODID:-//Desert Mountain - ECPv6.15.20//NONSGML v1.0//EN
CALSCALE:GREGORIAN
METHOD:PUBLISH
X-WR-CALNAME:Desert Mountain
X-ORIGINAL-URL:https://www.desertmountains.org
X-WR-CALDESC:Events for Desert Mountain
REFRESH-INTERVAL;VALUE=DURATION:PT1H
X-Robots-Tag:noindex
X-PUBLISHED-TTL:PT1H
BEGIN:VTIMEZONE
TZID:America/Los_Angeles
BEGIN:DAYLIGHT
TZOFFSETFROM:-0800
TZOFFSETTO:-0700
TZNAME:PDT
DTSTART:20250309T100000
END:DAYLIGHT
BEGIN:STANDARD
TZOFFSETFROM:-0700
TZOFFSETTO:-0800
TZNAME:PST
DTSTART:20251102T090000
END:STANDARD
BEGIN:DAYLIGHT
TZOFFSETFROM:-0800
TZOFFSETTO:-0700
TZNAME:PDT
DTSTART:20260308T100000
END:DAYLIGHT
BEGIN:STANDARD
TZOFFSETFROM:-0700
TZOFFSETTO:-0800
TZNAME:PST
DTSTART:20261101T090000
END:STANDARD
BEGIN:DAYLIGHT
TZOFFSETFROM:-0800
TZOFFSETTO:-0700
TZNAME:PDT
DTSTART:20270314T100000
END:DAYLIGHT
BEGIN:STANDARD
TZOFFSETFROM:-0700
TZOFFSETTO:-0800
TZNAME:PST
DTSTART:20271107T090000
END:STANDARD
END:VTIMEZONE
BEGIN:VEVENT
DTSTART;TZID=America/Los_Angeles:20260302T190000
DTEND;TZID=America/Los_Angeles:20260302T210000
DTSTAMP:20260425T084159
CREATED:20260214T001725Z
LAST-MODIFIED:20260301T013218Z
UID:10001020-1772478000-1772485200@www.desertmountains.org
SUMMARY:La Quinta Full Moon Hike
DESCRIPTION:Experience a hike by moonlight! See the beauty of the shadows and wash of moonlight over our mountains. We will be looking for all types of night creatures along the trail. Our astronomers will have their telescope set-up to view the night sky. \nThis is a family friendly easy 3-mile loop hike with 150 feet elevation gain. The trail is 6 feet wide at the beginning and narrows to 2 feet wide with cobbled\, uneven desert terrain. Bring 1 liter of water per person\, headlamp or flashlight and wear closed-toed shoes. Sorry\, no dogs allowed on this trail. \nRSVP required. Check-in begins 15 minutes prior to your group’s departure time. \nView map/UTM coordinates: 33.648969\, -116.309324 \nFor more information contact the Friends of the Desert Mountains at 760-568-9918 or the National Monument Visitor Center at 760-862-9984. \nA suggested non-refundable donation of $5.00 per person is appreciated and encouraged to support our volunteer programs. \nTicket reservations begin 1 week prior to the event and will be published at that time. Your optional non-refundable donation is not a ticket to attend.  \n7:00PM GROUP – check-in at 6:45pm  SOLD OUT \n7:15PM GROUP – check-in at 7:00pm  SOLD OUT \n7:30PM GROUP – check-in at 7:15pm  SOLD OUT
URL:https://www.desertmountains.org/event/la-quinta-full-moon-hike-6/
LOCATION:La Quinta Cove Trails Parking Lot\, Calle Tecate & Avenida Bermudas\, La Quinta\, CA\, 92253\, United States
ATTACH;FMTTYPE=image/jpeg:https://www.desertmountains.org/wp-content/uploads/2025/01/45be75f162644c42950e36dd3f49a1cd-kR7UZL.tmp_.jpg
END:VEVENT
BEGIN:VEVENT
DTSTART;TZID=America/Los_Angeles:20260302T193000
DTEND;TZID=America/Los_Angeles:20260302T213000
DTSTAMP:20260425T084159
CREATED:20260214T001806Z
LAST-MODIFIED:20260214T001806Z
UID:10001021-1772479800-1772487000@www.desertmountains.org
SUMMARY:Night Sky Star Observations - La Quinta
DESCRIPTION:Friends of the Desert Mountains volunteer astronomers will be setting up their telescopes and are inviting you to their “star party”. A clear night sky offers an ever-changing display of fascinating objects to see — stars\, constellations\, bright planets\, a full moon\, and sometimes special events like meteor showers or an eclipse. While observing the night sky\, occasionally we might see the international space station moving over the Coachella Valley. \nThis event is wheelchair accessible with compacted dirt surfaces. \nStop by any time between 7:30pm and 9:30pm. \nNOTE: CHECK WEATHER BEFORE DEPARTING\, THIS EVENT WILL BE CANCELED FOR HEAVY CLOUD COVER\, WIND OR RAIN. \nView map/UTM coordinates: 33.648969\, -116.309324 \nFor more information contact the Friends of the Desert Mountains at 760-568-9918 or the National Monument Visitor Center at 760-862-9984. \nA suggested non-refundable donation of $5.00 per person is appreciated and encouraged to support our volunteer programs. \nTicket reservations begin 1 week prior to the event and will be published at that time. Your optional non-refundable donation is not a ticket to attend.
URL:https://www.desertmountains.org/event/night-sky-star-observations-la-quinta-12/
LOCATION:La Quinta Cove Trails Parking Lot\, Calle Tecate & Avenida Bermudas\, La Quinta\, CA\, 92253\, United States
ATTACH;FMTTYPE=image/jpeg:https://www.desertmountains.org/wp-content/uploads/2024/11/25e12f773a4175e26118bbef1fbff09b-uomRDw.tmp_.jpg
END:VEVENT
END:VCALENDAR