BEGIN:VCALENDAR
VERSION:2.0
PRODID:-//Desert Mountain - ECPv6.15.20//NONSGML v1.0//EN
CALSCALE:GREGORIAN
METHOD:PUBLISH
X-ORIGINAL-URL:https://www.desertmountains.org
X-WR-CALDESC:Events for Desert Mountain
REFRESH-INTERVAL;VALUE=DURATION:PT1H
X-Robots-Tag:noindex
X-PUBLISHED-TTL:PT1H
BEGIN:VTIMEZONE
TZID:America/Los_Angeles
BEGIN:DAYLIGHT
TZOFFSETFROM:-0800
TZOFFSETTO:-0700
TZNAME:PDT
DTSTART:20250309T100000
END:DAYLIGHT
BEGIN:STANDARD
TZOFFSETFROM:-0700
TZOFFSETTO:-0800
TZNAME:PST
DTSTART:20251102T090000
END:STANDARD
BEGIN:DAYLIGHT
TZOFFSETFROM:-0800
TZOFFSETTO:-0700
TZNAME:PDT
DTSTART:20260308T100000
END:DAYLIGHT
BEGIN:STANDARD
TZOFFSETFROM:-0700
TZOFFSETTO:-0800
TZNAME:PST
DTSTART:20261101T090000
END:STANDARD
BEGIN:DAYLIGHT
TZOFFSETFROM:-0800
TZOFFSETTO:-0700
TZNAME:PDT
DTSTART:20270314T100000
END:DAYLIGHT
BEGIN:STANDARD
TZOFFSETFROM:-0700
TZOFFSETTO:-0800
TZNAME:PST
DTSTART:20271107T090000
END:STANDARD
END:VTIMEZONE
BEGIN:VEVENT
DTSTART;TZID=America/Los_Angeles:20260310T080000
DTEND;TZID=America/Los_Angeles:20260310T100000
DTSTAMP:20260425T084307
CREATED:20260214T005715Z
LAST-MODIFIED:20260214T005715Z
UID:10001029-1773129600-1773136800@www.desertmountains.org
SUMMARY:Birding Walk-About\, Desert Willow
DESCRIPTION:Grab your binoculars and join a Friends’ volunteer docent birding expert to look for our feathered desert residents. In this unique urban area\, we are still able to find a little native desert environment surrounded by local trees and shrubs that many of our feathered friends call home. As you walk the perimeter of an open desert property adjacent to the golf course\, you will find approximately 25-30 different species on your 1-mile walk-about. This is truly a “jewel in the desert” location to be enjoyed. \nBring your binoculars\, 1 liter of water\, a sun hat\, sunscreen and wear close-toed shoes. Sorry\, no dogs are allowed for this event. \nRSVP required. Check-in begins 15 minutes prior to start time. \nNote: We will meet in the parking lot on the right side of Desert Willow Drive just before entering the golf club. View UTM/Map coordinates: 33.76560\, -116.36554  \nFor more information contact Friends of the Desert Mountains 760-568-9918. \nA suggested non-refundable donation of $5.00 per person is appreciated and encouraged to support our volunteer programs. \nTicket reservations begin 2 weeks prior to the event and will be published at that time. Your optional non-refundable donation is not a ticket to attend. \n 
URL:https://www.desertmountains.org/event/birding-walk-about-desert-willow-39/
LOCATION:Desert Willow Golf Resort\, 38-995 Desert Willow Drive\, Palm Desert\, CA\, 92260\, United States
ATTACH;FMTTYPE=image/jpeg:https://www.desertmountains.org/wp-content/uploads/2025/11/bird-oriole-scaled.jpg
END:VEVENT
BEGIN:VEVENT
DTSTART;TZID=America/Los_Angeles:20260310T090000
DTEND;TZID=America/Los_Angeles:20260310T120000
DTSTAMP:20260425T084307
CREATED:20260214T012720Z
LAST-MODIFIED:20260214T012720Z
UID:10001038-1773133200-1773144000@www.desertmountains.org
SUMMARY:Long Canyon Trail Hike
DESCRIPTION:This is one of the newest trails to open in the Coachella Valley. The first mile of the trail is in the Sand to Snow Monument. Beginning at mile two of the trail you will be in Joshua Tree National Park. We will explore the area and learn about the Metropolitan Water District and how water is transported to the Los Angeles area. As we enter the wilderness area\, we will discuss how the low desert plants have adapted to the higher elevation. \nThis trail is mostly level with gradual elevation gain.  Hike rating is easy. We will hike approximately 2 miles and turn back. Sorry\, no dogs allowed in Joshua Tree National Park. Bring 2 liters of water\, snacks\, wear closed-toed shoes\, a sun hat and sunscreen. \nRSVP is required. Check-in begins 15 minutes prior to start time. \nNote: we will meet at the Long Canyon Trailhead parking area in Desert Hot Springs. View Map at UTM coordinates: 33.962520\, -116.443808 \nFor more information contact Friends of the Desert Mountains 760-568-9918 or the Visitor Center at 760-862-9984. \nA suggested non-refundable donation of $5.00 per person is appreciated and encouraged to support our volunteer programs. \nTicket reservations begin 2 weeks prior to the event and will be published at that time. Your optional non-refundable donation is not a ticket to attend. \n 
URL:https://www.desertmountains.org/event/long-canyon-trail-hike/
LOCATION:Long Canyon Trailhead\, XH74+2F\, Desert Hot Springs\, CA
ATTACH;FMTTYPE=image/jpeg:https://www.desertmountains.org/wp-content/uploads/2024/09/Long-Canyon-scaled.jpg
END:VEVENT
END:VCALENDAR