BEGIN:VCALENDAR
VERSION:2.0
PRODID:-//Desert Mountain - ECPv6.15.20//NONSGML v1.0//EN
CALSCALE:GREGORIAN
METHOD:PUBLISH
X-WR-CALNAME:Desert Mountain
X-ORIGINAL-URL:https://www.desertmountains.org
X-WR-CALDESC:Events for Desert Mountain
REFRESH-INTERVAL;VALUE=DURATION:PT1H
X-Robots-Tag:noindex
X-PUBLISHED-TTL:PT1H
BEGIN:VTIMEZONE
TZID:America/Los_Angeles
BEGIN:DAYLIGHT
TZOFFSETFROM:-0800
TZOFFSETTO:-0700
TZNAME:PDT
DTSTART:20250309T100000
END:DAYLIGHT
BEGIN:STANDARD
TZOFFSETFROM:-0700
TZOFFSETTO:-0800
TZNAME:PST
DTSTART:20251102T090000
END:STANDARD
BEGIN:DAYLIGHT
TZOFFSETFROM:-0800
TZOFFSETTO:-0700
TZNAME:PDT
DTSTART:20260308T100000
END:DAYLIGHT
BEGIN:STANDARD
TZOFFSETFROM:-0700
TZOFFSETTO:-0800
TZNAME:PST
DTSTART:20261101T090000
END:STANDARD
BEGIN:DAYLIGHT
TZOFFSETFROM:-0800
TZOFFSETTO:-0700
TZNAME:PDT
DTSTART:20270314T100000
END:DAYLIGHT
BEGIN:STANDARD
TZOFFSETFROM:-0700
TZOFFSETTO:-0800
TZNAME:PST
DTSTART:20271107T090000
END:STANDARD
END:VTIMEZONE
BEGIN:VEVENT
DTSTART;TZID=America/Los_Angeles:20260316T160000
DTEND;TZID=America/Los_Angeles:20260316T180000
DTSTAMP:20260425T084123
CREATED:20260221T000004Z
LAST-MODIFIED:20260221T000004Z
UID:10001066-1773676800-1773684000@www.desertmountains.org
SUMMARY:Volunteer Appreciation Party
DESCRIPTION:You and a guest are cordially invited to gather with all your fellow volunteers\, Friends staff and board members in celebration and appreciation of your many accomplishments during the past few seasons. Please join us for a meal and awards presentation (of course\, the raffle). Thank you for all that you do! \nRSVP below. Please indicate if you will be bringing a guest and provide their name. \nThe event will take place on the patio by the Friends of the Desert Mountains office. \nQuestions? Contact Allison at astrong@desertmountains.org \n\n 
URL:https://www.desertmountains.org/event/volunteer-appreciation-2026/
LOCATION:Friends of the Desert Mountains\, 51500 California 74\, Palm Desert\, CA\, 92260\, United States
ATTACH;FMTTYPE=image/jpeg:https://www.desertmountains.org/wp-content/uploads/2025/02/Volunteer-Appreciation-b-scaled.jpg
END:VEVENT
END:VCALENDAR