BEGIN:VCALENDAR
VERSION:2.0
PRODID:-//Desert Mountain - ECPv6.15.20//NONSGML v1.0//EN
CALSCALE:GREGORIAN
METHOD:PUBLISH
X-WR-CALNAME:Desert Mountain
X-ORIGINAL-URL:https://www.desertmountains.org
X-WR-CALDESC:Events for Desert Mountain
REFRESH-INTERVAL;VALUE=DURATION:PT1H
X-Robots-Tag:noindex
X-PUBLISHED-TTL:PT1H
BEGIN:VTIMEZONE
TZID:America/Los_Angeles
BEGIN:DAYLIGHT
TZOFFSETFROM:-0800
TZOFFSETTO:-0700
TZNAME:PDT
DTSTART:20250309T100000
END:DAYLIGHT
BEGIN:STANDARD
TZOFFSETFROM:-0700
TZOFFSETTO:-0800
TZNAME:PST
DTSTART:20251102T090000
END:STANDARD
BEGIN:DAYLIGHT
TZOFFSETFROM:-0800
TZOFFSETTO:-0700
TZNAME:PDT
DTSTART:20260308T100000
END:DAYLIGHT
BEGIN:STANDARD
TZOFFSETFROM:-0700
TZOFFSETTO:-0800
TZNAME:PST
DTSTART:20261101T090000
END:STANDARD
BEGIN:DAYLIGHT
TZOFFSETFROM:-0800
TZOFFSETTO:-0700
TZNAME:PDT
DTSTART:20270314T100000
END:DAYLIGHT
BEGIN:STANDARD
TZOFFSETFROM:-0700
TZOFFSETTO:-0800
TZNAME:PST
DTSTART:20271107T090000
END:STANDARD
END:VTIMEZONE
BEGIN:VEVENT
DTSTART;TZID=America/Los_Angeles:20260317T080000
DTEND;TZID=America/Los_Angeles:20260317T120000
DTSTAMP:20260425T084044
CREATED:20260214T230945Z
LAST-MODIFIED:20260316T185008Z
UID:10001056-1773734400-1773748800@www.desertmountains.org
SUMMARY:Cancelled - Kim Nicol Trail Hike
DESCRIPTION:The trail is named for Kim Nicol\, who dedicated her life to protecting endangered species and open spaces in Coachella Valley. The trail is located in the Indio Hills on an active sand dune and home to several endangered species. \nWe will be hiking approximately 3.0+ miles of the loop trail with elevation of 500 feet. Sorry\, no dogs allowed for this event. Bring 2 liters of water\, snacks\, wear closed-toed shoes\, a sun hat and sunscreen. \nRSVP is required. Check-in begins 15 minutes prior to start time. \nNote: we will meet at the Kim Nicol Trailhead parking lot\, 20th Avenue and Corkhill Road\, Desert Edge. View map at UTM coordinates: 33.90392\, -116.43985 \nFor more information contact Friends of the Desert Mountains 760-568-9918 or the Visitor Center at 760-862-9984. \nA suggested non-refundable donation of $5.00 per person is appreciated and encouraged to support our volunteer programs. \nTicket reservations begin 2 weeks prior to the event and will be published at that time. Your optional non-refundable donation is not a ticket to attend. \n 
URL:https://www.desertmountains.org/event/kim-nicol-trail-hike/
LOCATION:Kim Nicol Trailhead\, WH35+8W\, Cathedral City\, CA\, 92241\, United States
ATTACH;FMTTYPE=image/jpeg:https://www.desertmountains.org/wp-content/uploads/2025/12/Kim-Nicol-TH-2.jpg
END:VEVENT
END:VCALENDAR