BEGIN:VCALENDAR
VERSION:2.0
PRODID:-//Desert Mountain - ECPv6.15.20//NONSGML v1.0//EN
CALSCALE:GREGORIAN
METHOD:PUBLISH
X-WR-CALNAME:Desert Mountain
X-ORIGINAL-URL:https://www.desertmountains.org
X-WR-CALDESC:Events for Desert Mountain
REFRESH-INTERVAL;VALUE=DURATION:PT1H
X-Robots-Tag:noindex
X-PUBLISHED-TTL:PT1H
BEGIN:VTIMEZONE
TZID:America/Los_Angeles
BEGIN:DAYLIGHT
TZOFFSETFROM:-0800
TZOFFSETTO:-0700
TZNAME:PDT
DTSTART:20250309T100000
END:DAYLIGHT
BEGIN:STANDARD
TZOFFSETFROM:-0700
TZOFFSETTO:-0800
TZNAME:PST
DTSTART:20251102T090000
END:STANDARD
BEGIN:DAYLIGHT
TZOFFSETFROM:-0800
TZOFFSETTO:-0700
TZNAME:PDT
DTSTART:20260308T100000
END:DAYLIGHT
BEGIN:STANDARD
TZOFFSETFROM:-0700
TZOFFSETTO:-0800
TZNAME:PST
DTSTART:20261101T090000
END:STANDARD
BEGIN:DAYLIGHT
TZOFFSETFROM:-0800
TZOFFSETTO:-0700
TZNAME:PDT
DTSTART:20270314T100000
END:DAYLIGHT
BEGIN:STANDARD
TZOFFSETFROM:-0700
TZOFFSETTO:-0800
TZNAME:PST
DTSTART:20271107T090000
END:STANDARD
END:VTIMEZONE
BEGIN:VEVENT
DTSTART;TZID=America/Los_Angeles:20260318T080000
DTEND;TZID=America/Los_Angeles:20260318T100000
DTSTAMP:20260425T084123
CREATED:20260214T231044Z
LAST-MODIFIED:20260317T040214Z
UID:10001057-1773820800-1773828000@www.desertmountains.org
SUMMARY:Cancelled - Chuckwalla Trail Hike
DESCRIPTION:This trail meanders through the rolling foothills of the Santa Rosa Mountains above Rancho Mirage and Cathedral Canyon. You may see a few wildflowers along the trail. There are many other unique desert plants. You will learn about their adaptations to the desert and summertime survival techniques. Our volunteer docents will share information about the National Monument and some local history. \nThis trail is friendly to dogs on a leash. The distance is 3 miles on a 2 feet wide trail with cobble desert terrain and an elevation gain of 400 feet. Bring 2 liters of water\, snacks\, wear closed-toed shoes\, sun hat and sunscreen. Hiking poles are optional. \nRSVP is required. Check-in begins 15 minutes prior to departure time. \nView map/UTM coordinates: 33.771071\, -116.448379 \nFor more information contact Friends of the Desert Mountains at 760-568-9918 or the Visitor Center at 760-862-9984.
URL:https://www.desertmountains.org/event/chuckwalla-trail-hike-3/
LOCATION:Rancho Mirage City Hall Parking Lot\, 69825 California 111\, Rancho Mirage\, CA\, 92270\, United States
ATTACH;FMTTYPE=image/jpeg:https://www.desertmountains.org/wp-content/uploads/2025/12/chuckwalla-trail-a.jpg
END:VEVENT
END:VCALENDAR