BEGIN:VCALENDAR
VERSION:2.0
PRODID:-//Desert Mountain - ECPv6.15.20//NONSGML v1.0//EN
CALSCALE:GREGORIAN
METHOD:PUBLISH
X-ORIGINAL-URL:https://www.desertmountains.org
X-WR-CALDESC:Events for Desert Mountain
REFRESH-INTERVAL;VALUE=DURATION:PT1H
X-Robots-Tag:noindex
X-PUBLISHED-TTL:PT1H
BEGIN:VTIMEZONE
TZID:America/Los_Angeles
BEGIN:DAYLIGHT
TZOFFSETFROM:-0800
TZOFFSETTO:-0700
TZNAME:PDT
DTSTART:20250309T100000
END:DAYLIGHT
BEGIN:STANDARD
TZOFFSETFROM:-0700
TZOFFSETTO:-0800
TZNAME:PST
DTSTART:20251102T090000
END:STANDARD
BEGIN:DAYLIGHT
TZOFFSETFROM:-0800
TZOFFSETTO:-0700
TZNAME:PDT
DTSTART:20260308T100000
END:DAYLIGHT
BEGIN:STANDARD
TZOFFSETFROM:-0700
TZOFFSETTO:-0800
TZNAME:PST
DTSTART:20261101T090000
END:STANDARD
BEGIN:DAYLIGHT
TZOFFSETFROM:-0800
TZOFFSETTO:-0700
TZNAME:PDT
DTSTART:20270314T100000
END:DAYLIGHT
BEGIN:STANDARD
TZOFFSETFROM:-0700
TZOFFSETTO:-0800
TZNAME:PST
DTSTART:20271107T090000
END:STANDARD
END:VTIMEZONE
BEGIN:VEVENT
DTSTART;TZID=America/Los_Angeles:20260325T100000
DTEND;TZID=America/Los_Angeles:20260325T113000
DTSTAMP:20260425T084306
CREATED:20260214T013424Z
LAST-MODIFIED:20260214T013424Z
UID:10001039-1774432800-1774438200@www.desertmountains.org
SUMMARY:Nature Walk at Blixseth Park
DESCRIPTION:Join our Friends’ volunteer docents for a nature walk in Blixseth Mountain Park. The Park features both native and non-native desert landscape\, a wide walking path with benches for observing desert vistas\, plants\, and mountains. We will share fun facts about desert flora and fauna as well as interesting information about the Native Cahuilla people. \nThis is a leisurely 1.0 mile wide walking path for persons with limited mobility. There is no elevation gain and little shade. This path is friendly to dogs on a leash. Bring 1 liter of water\, a sun hat\, sunscreen and wear close-toed shoes. \nRSVP is required. Check-in begins 15 minutes prior to departure time. \nView map at UTM coordinates: 33.742715\, -116.420995 \nFor more information contact Friends of the Desert Mountains at 760-568-9918 or the Visitor Center at 760-862-9984. \nA suggested non-refundable donation of $5.00 per person is appreciated and encouraged to support our volunteer programs. \nTicket reservations begin 2 weeks prior to the event and will be published at that time. Your optional non-refundable donation is not a ticket to attend.  \n\n 
URL:https://www.desertmountains.org/event/nature-walk-at-blixseth-park-10/
LOCATION:Blixseth Mountain Park\, Mirage Road\, Rancho Mirage\, CA\, 92270\, United States
ATTACH;FMTTYPE=image/jpeg:https://www.desertmountains.org/wp-content/uploads/2024/09/blixsethPark1-scaled.jpg
END:VEVENT
END:VCALENDAR