BEGIN:VCALENDAR
VERSION:2.0
PRODID:-//Desert Mountain - ECPv6.15.20//NONSGML v1.0//EN
CALSCALE:GREGORIAN
METHOD:PUBLISH
X-ORIGINAL-URL:https://www.desertmountains.org
X-WR-CALDESC:Events for Desert Mountain
REFRESH-INTERVAL;VALUE=DURATION:PT1H
X-Robots-Tag:noindex
X-PUBLISHED-TTL:PT1H
BEGIN:VTIMEZONE
TZID:America/Los_Angeles
BEGIN:DAYLIGHT
TZOFFSETFROM:-0800
TZOFFSETTO:-0700
TZNAME:PDT
DTSTART:20250309T100000
END:DAYLIGHT
BEGIN:STANDARD
TZOFFSETFROM:-0700
TZOFFSETTO:-0800
TZNAME:PST
DTSTART:20251102T090000
END:STANDARD
BEGIN:DAYLIGHT
TZOFFSETFROM:-0800
TZOFFSETTO:-0700
TZNAME:PDT
DTSTART:20260308T100000
END:DAYLIGHT
BEGIN:STANDARD
TZOFFSETFROM:-0700
TZOFFSETTO:-0800
TZNAME:PST
DTSTART:20261101T090000
END:STANDARD
BEGIN:DAYLIGHT
TZOFFSETFROM:-0800
TZOFFSETTO:-0700
TZNAME:PDT
DTSTART:20270314T100000
END:DAYLIGHT
BEGIN:STANDARD
TZOFFSETFROM:-0700
TZOFFSETTO:-0800
TZNAME:PST
DTSTART:20271107T090000
END:STANDARD
END:VTIMEZONE
BEGIN:VEVENT
DTSTART;TZID=America/Los_Angeles:20260327T080000
DTEND;TZID=America/Los_Angeles:20260327T113000
DTSTAMP:20260425T084307
CREATED:20260215T000655Z
LAST-MODIFIED:20260325T023117Z
UID:10001062-1774598400-1774611000@www.desertmountains.org
SUMMARY:Bear Creek Wash Hike
DESCRIPTION:Join us for this interpretative hike up the Bear Creek Wash. This hike is rated as easy with 4 miles round-trip and an elevation gain of approximately 325 feet. The trail winds through a sandy wash with uneven terrain. As the wash narrows there will be some rocks and small boulders to hike around and step over. Along the way\, we will discuss the plants that populate the desert wash; how these plants have adapted to these extreme environmental conditions; how the Cahuilla people used these native plants to survive for thousands of years; and the geologic forces that formed these mountains and canyons. During the hike we will have outstanding views of La Quinta Cove and the Santa Rosa Mountains. \nBring 2 liters of water\, snacks\, wear closed-toed shoes\, a sun hat and sunscreen. Sorry\, no dogs allowed on this trail. \nRSVP required. Check-in begins 15 minutes prior to start time. \nPlease Note: we will meet at the Cove Oasis Trailhead parking lot. View map/UTM coordinates: 33.64875\, -116.31708  \nFor more information contact Friends of the Desert Mountains 760-568-9918 or the Visitor Center at 760-862-9984. \nA suggested non-refundable donation of $5.00 per person is appreciated and encouraged to support our volunteer programs. \nTicket reservations begin 2 weeks prior to the event and will be published at that time. Your optional non-refundable donation is not a ticket to attend. \n 
URL:https://www.desertmountains.org/event/bear-creek-wash-hike/
LOCATION:Cove Oasis Trailhead Parking Lot\, Calle Tecate and Avenida Juarez\, La Quinta\, CA\, 92253\, United States
ATTACH;FMTTYPE=image/jpeg:https://www.desertmountains.org/wp-content/uploads/2024/09/BearCreekWash-scaled.jpg
END:VEVENT
BEGIN:VEVENT
DTSTART;TZID=America/Los_Angeles:20260327T100000
DTEND;TZID=America/Los_Angeles:20260327T110000
DTSTAMP:20260425T084307
CREATED:20260214T230112Z
LAST-MODIFIED:20260214T230112Z
UID:10001052-1774605600-1774609200@www.desertmountains.org
SUMMARY:Ed Hastey Garden Walk
DESCRIPTION:Enjoy strolling the Ed Hastey Garden Walk led by Friends’ volunteer docent. It is a great introduction to learn about native plants and animals that inhabit our desert\, and the value of urban conservation. This short\, easy walk is suitable for persons of all ages and abilities with a paved 3-foot-wide path. All topics are open for conversation such as climate change\, ancestors of the Cahuilla\, geology\, and early history of the foothills of the Santa Rosa Mountains. \nSorry\, no dogs are allowed on this trail. Recommend one 1 liter of water per person\, sun hat and sunscreen. \nRSVP required. Check-in 15 minutes prior to start time. \nView UTM/Map coordinates: 33.67149\, -116.40839  \nFor more information contact Friends of the Desert Mountains 760-568-9918 or the Visitor Center at 760-862-9984. \nA suggested non-refundable donation of $5.00 per person is appreciated and encouraged to support our volunteer programs. \nTicket reservations begin 2 weeks prior to the event and will be published at that time. Your optional non-refundable donation is not a ticket to attend.
URL:https://www.desertmountains.org/event/ed-hastey-garden-walk-25/
LOCATION:Santa Rosa & San Jacinto Mountains National Monument Visitor Center\, 51500 Highway 74\, Palm Desert\, CA\, 92260\, United States
ATTACH;FMTTYPE=image/jpeg:https://www.desertmountains.org/wp-content/uploads/2025/11/edhastey.jpeg
END:VEVENT
END:VCALENDAR