BEGIN:VCALENDAR
VERSION:2.0
PRODID:-//Desert Mountain - ECPv6.15.20//NONSGML v1.0//EN
CALSCALE:GREGORIAN
METHOD:PUBLISH
X-ORIGINAL-URL:https://www.desertmountains.org
X-WR-CALDESC:Events for Desert Mountain
REFRESH-INTERVAL;VALUE=DURATION:PT1H
X-Robots-Tag:noindex
X-PUBLISHED-TTL:PT1H
BEGIN:VTIMEZONE
TZID:America/Los_Angeles
BEGIN:DAYLIGHT
TZOFFSETFROM:-0800
TZOFFSETTO:-0700
TZNAME:PDT
DTSTART:20250309T100000
END:DAYLIGHT
BEGIN:STANDARD
TZOFFSETFROM:-0700
TZOFFSETTO:-0800
TZNAME:PST
DTSTART:20251102T090000
END:STANDARD
BEGIN:DAYLIGHT
TZOFFSETFROM:-0800
TZOFFSETTO:-0700
TZNAME:PDT
DTSTART:20260308T100000
END:DAYLIGHT
BEGIN:STANDARD
TZOFFSETFROM:-0700
TZOFFSETTO:-0800
TZNAME:PST
DTSTART:20261101T090000
END:STANDARD
BEGIN:DAYLIGHT
TZOFFSETFROM:-0800
TZOFFSETTO:-0700
TZNAME:PDT
DTSTART:20270314T100000
END:DAYLIGHT
BEGIN:STANDARD
TZOFFSETFROM:-0700
TZOFFSETTO:-0800
TZNAME:PST
DTSTART:20271107T090000
END:STANDARD
END:VTIMEZONE
BEGIN:VEVENT
DTSTART;TZID=America/Los_Angeles:20260329T083000
DTEND;TZID=America/Los_Angeles:20260329T110000
DTSTAMP:20260425T072038
CREATED:20260214T230719Z
LAST-MODIFIED:20260214T230719Z
UID:10001055-1774773000-1774782000@www.desertmountains.org
SUMMARY:Geology of the Coachella Valley: Randall Henderson Interpretative Hike
DESCRIPTION:Hiking the Randall Henderson Trail makes the ideal place to talk about the Geology of the Coachella Valley. From the foothills of the Santa Rosa Mountains\, we have views of the San Bernadino\, San Gorgonio and San Jacinto Mountains. There is evidence of how both fault systems and water have shaped our Valley. A volunteer docent will lead the discussion while hiking the trail. \nHike rating is easy for both the 3 loops/2.5 miles OR the 2 loops/1.5 miles of trail. Elevation gain for the 3 loops is 350 feet. While elevation gain for 2 loops is 250 feet. Sorry no dogs are allowed on this trail. Bring snacks and 2 liters of water per person. Wear close-toed shoes\, sun hat and sunscreen. \nRSVP is required. Check-in begins 15 minutes prior to start time. \nPlease note: We will meet at the Randall Henderson Trailhead parking lot located at the Visitor Center. View map/UTM coordinates directions for trailhead location: 33.670193\, -116.406895  \nFor more information contact Friends of the Desert Mountains 760-568-9918 or the Visitor Center at 760-862-9984. \nA suggested non-refundable donation of $5.00 per person is appreciated and encouraged to support our volunteer programs. \nTicket reservations begin 2 weeks prior to the event and will be published at that time. Your optional non-refundable donation is not a ticket to attend.\n 
URL:https://www.desertmountains.org/event/geology-of-the-coachella-valley-randall-henderson-interpretative-hike-3/
LOCATION:Randall Henderson Trailhead\, 51500 Highway 74\, Palm Desert\, CA\, 92260\, United States
ATTACH;FMTTYPE=image/jpeg:https://www.desertmountains.org/wp-content/uploads/2025/11/Randall-Henderson-2nd-Loop-a-1.jpg
END:VEVENT
END:VCALENDAR