BEGIN:VCALENDAR
VERSION:2.0
PRODID:-//Desert Mountain - ECPv6.15.20//NONSGML v1.0//EN
CALSCALE:GREGORIAN
METHOD:PUBLISH
X-WR-CALNAME:Desert Mountain
X-ORIGINAL-URL:https://www.desertmountains.org
X-WR-CALDESC:Events for Desert Mountain
REFRESH-INTERVAL;VALUE=DURATION:PT1H
X-Robots-Tag:noindex
X-PUBLISHED-TTL:PT1H
BEGIN:VTIMEZONE
TZID:America/Los_Angeles
BEGIN:DAYLIGHT
TZOFFSETFROM:-0800
TZOFFSETTO:-0700
TZNAME:PDT
DTSTART:20250309T100000
END:DAYLIGHT
BEGIN:STANDARD
TZOFFSETFROM:-0700
TZOFFSETTO:-0800
TZNAME:PST
DTSTART:20251102T090000
END:STANDARD
BEGIN:DAYLIGHT
TZOFFSETFROM:-0800
TZOFFSETTO:-0700
TZNAME:PDT
DTSTART:20260308T100000
END:DAYLIGHT
BEGIN:STANDARD
TZOFFSETFROM:-0700
TZOFFSETTO:-0800
TZNAME:PST
DTSTART:20261101T090000
END:STANDARD
BEGIN:DAYLIGHT
TZOFFSETFROM:-0800
TZOFFSETTO:-0700
TZNAME:PDT
DTSTART:20270314T100000
END:DAYLIGHT
BEGIN:STANDARD
TZOFFSETFROM:-0700
TZOFFSETTO:-0800
TZNAME:PST
DTSTART:20271107T090000
END:STANDARD
END:VTIMEZONE
BEGIN:VEVENT
DTSTART;TZID=America/Los_Angeles:20260411T100000
DTEND;TZID=America/Los_Angeles:20260411T120000
DTSTAMP:20260425T071928
CREATED:20260331T231212Z
LAST-MODIFIED:20260331T231452Z
UID:10001105-1775901600-1775908800@www.desertmountains.org
SUMMARY:New Volunteer Orientation
DESCRIPTION:Calling All Nature Lovers & Community Champions! \nAre you passionate about protecting our beautiful desert landscapes? Do you love hiking\, wildlife\, or simply giving back to your community? Friends of the Desert Mountains needs YOU! We’re looking for enthusiastic\, dedicated volunteers to help us preserve the natural wonders of the Coachella Valley. Whether you’re a trail enthusiast\, wildlife watcher\, environmental educator\, or just someone who wants to make a difference\, there’s a place for you here! No experience? No problem! We provide training and a supportive team that shares your love for the desert. \nQuestions? Contact Allison Strong at 760 568-9918 or email astrong@desertmountains.org \nPlease register.
URL:https://www.desertmountains.org/event/new-volunteer-orientation-8/
LOCATION:Santa Rosa & San Jacinto Mountains National Monument Visitor Center\, 51500 Highway 74\, Palm Desert\, CA\, 92260\, United States
ATTACH;FMTTYPE=image/jpeg:https://www.desertmountains.org/wp-content/uploads/2026/02/395fd95cb3ef4299faa8008877929eab-ic3Yk6.tmp_.jpg
END:VEVENT
BEGIN:VEVENT
DTSTART;TZID=America/Los_Angeles:20260411T130000
DTEND;TZID=America/Los_Angeles:20260411T160000
DTSTAMP:20260425T071928
CREATED:20260410T020652Z
LAST-MODIFIED:20260410T021039Z
UID:10001116-1775912400-1775923200@www.desertmountains.org
SUMMARY:Tortoise Chat
DESCRIPTION:Have questions about desert tortoises? Come visit our desert tortoise enclosure and learn about conservation efforts to study and protect our wild desert tortoise population in the Monument. Also\, great opportunity to meet Bowser\, our adopted Mojave desert tortoise who lives on site. \nMeet at the tortoise enclosure any time between 1:00pm – 4:00pm. \nNO RESERVATION REQUIRED. \nFor more information contact Friends of the Desert Mountains 760-568-9918 or the Visitor Center at 760-862-9984. \nSponsored by the Bureau of Land Management in partnership with Friends of the Desert Mountains.
URL:https://www.desertmountains.org/event/tortoise-chat-19/
LOCATION:Santa Rosa & San Jacinto Mountains National Monument Visitor Center\, 51500 Highway 74\, Palm Desert\, CA\, 92260\, United States
ATTACH;FMTTYPE=image/jpeg:https://www.desertmountains.org/wp-content/uploads/2025/11/tortoise2.jpg
END:VEVENT
BEGIN:VEVENT
DTSTART;TZID=America/Los_Angeles:20260411T193000
DTEND;TZID=America/Los_Angeles:20260411T220000
DTSTAMP:20260425T071928
CREATED:20260318T005104Z
LAST-MODIFIED:20260318T005104Z
UID:10001081-1775935800-1775944800@www.desertmountains.org
SUMMARY:Star Party at the Monument
DESCRIPTION:Join members of the Astronomical Society of the Desert for fun “sky tours” and direct observations of the night sky through telescopes and binoculars. \nThis is a family event. Minors must be accompanied by parent or guardian. \nThis event is wheelchair accessible with asphalt surfaces. \nEtiquette: please do not touch equipment unless requested. No white lights near telescope field. \nNOTE: OVERCAST SKIES CANCELS THIS EVENT. \nView map/UTM Coordinates for the Visitor Center: 33.67149\, -116.40839 \nFor more information contact Friends of the Desert Mountains 760-598-9918 or the Visitor Center at 760-862-9984. \nA suggested nonrefundable donation of $5.00 per person is appreciated and encouraged to support our volunteer programs. \nTicket reservations begin 2 weeks prior to the event and will be published at that time. Your optional non-refundable donation is not a ticket to attend. \n 
URL:https://www.desertmountains.org/event/star-party-at-the-monument-21/
LOCATION:Santa Rosa & San Jacinto Mountains National Monument Visitor Center\, 51500 Highway 74\, Palm Desert\, CA\, 92260\, United States
ATTACH;FMTTYPE=image/jpeg:https://www.desertmountains.org/wp-content/uploads/2024/09/starParty-at-Monument-scaled.jpg
END:VEVENT
END:VCALENDAR