BEGIN:VCALENDAR
VERSION:2.0
PRODID:-//Desert Mountain - ECPv6.15.20//NONSGML v1.0//EN
CALSCALE:GREGORIAN
METHOD:PUBLISH
X-ORIGINAL-URL:https://www.desertmountains.org
X-WR-CALDESC:Events for Desert Mountain
REFRESH-INTERVAL;VALUE=DURATION:PT1H
X-Robots-Tag:noindex
X-PUBLISHED-TTL:PT1H
BEGIN:VTIMEZONE
TZID:America/Los_Angeles
BEGIN:DAYLIGHT
TZOFFSETFROM:-0800
TZOFFSETTO:-0700
TZNAME:PDT
DTSTART:20250309T100000
END:DAYLIGHT
BEGIN:STANDARD
TZOFFSETFROM:-0700
TZOFFSETTO:-0800
TZNAME:PST
DTSTART:20251102T090000
END:STANDARD
BEGIN:DAYLIGHT
TZOFFSETFROM:-0800
TZOFFSETTO:-0700
TZNAME:PDT
DTSTART:20260308T100000
END:DAYLIGHT
BEGIN:STANDARD
TZOFFSETFROM:-0700
TZOFFSETTO:-0800
TZNAME:PST
DTSTART:20261101T090000
END:STANDARD
BEGIN:DAYLIGHT
TZOFFSETFROM:-0800
TZOFFSETTO:-0700
TZNAME:PDT
DTSTART:20270314T100000
END:DAYLIGHT
BEGIN:STANDARD
TZOFFSETFROM:-0700
TZOFFSETTO:-0800
TZNAME:PST
DTSTART:20271107T090000
END:STANDARD
END:VTIMEZONE
BEGIN:VEVENT
DTSTART;TZID=America/Los_Angeles:20260417T070000
DTEND;TZID=America/Los_Angeles:20260417T160000
DTSTAMP:20260425T072037
CREATED:20260123T193727Z
LAST-MODIFIED:20260326T225639Z
UID:10001004-1776409200-1776441600@www.desertmountains.org
SUMMARY:Earth Day Birding Bus Tour
DESCRIPTION:Whether you are a beginner or a serious birder\, enjoy spectacular desert and mountain scenery on a guided bus tour to well-known birding and nature hotspots in and around the Coachella Valley. \nWater and snacks will be provided. Bring a sack lunch to enjoy at one of our stops along the way. Before the day is over\, we hope to identify 100 different bird species\, have lots of fun\, and raise money for conservation. Bring binoculars\, water\, a hat\, sunscreen. Please wear close-toed shoes. \nLed by Kurt Leuschner\, Professor of Natural Resources\, College of the Desert. \nFee: $80 per person. RSVP required by Friday\, April 10. Cancellation policy: notice must be received prior to April 10 for ticket refund. \nMeet at 6:45AM for an on-time 7:00AM departure. \nFor more information call 760-568-9918. \n\n\n 
URL:https://www.desertmountains.org/event/earth-day-birding-bus-tour-2/
LOCATION:Sam’s Club Parking Lot\, 34220 Monterey Ave\, Palm Desert\, CA\, 92211\, United States
ATTACH;FMTTYPE=image/jpeg:https://www.desertmountains.org/wp-content/uploads/2026/01/BirdingBus1.5.jpeg
END:VEVENT
END:VCALENDAR