BEGIN:VCALENDAR
VERSION:2.0
PRODID:-//Desert Mountain - ECPv6.15.20//NONSGML v1.0//EN
CALSCALE:GREGORIAN
METHOD:PUBLISH
X-WR-CALNAME:Desert Mountain
X-ORIGINAL-URL:https://www.desertmountains.org
X-WR-CALDESC:Events for Desert Mountain
REFRESH-INTERVAL;VALUE=DURATION:PT1H
X-Robots-Tag:noindex
X-PUBLISHED-TTL:PT1H
BEGIN:VTIMEZONE
TZID:America/Los_Angeles
BEGIN:DAYLIGHT
TZOFFSETFROM:-0800
TZOFFSETTO:-0700
TZNAME:PDT
DTSTART:20250309T100000
END:DAYLIGHT
BEGIN:STANDARD
TZOFFSETFROM:-0700
TZOFFSETTO:-0800
TZNAME:PST
DTSTART:20251102T090000
END:STANDARD
BEGIN:DAYLIGHT
TZOFFSETFROM:-0800
TZOFFSETTO:-0700
TZNAME:PDT
DTSTART:20260308T100000
END:DAYLIGHT
BEGIN:STANDARD
TZOFFSETFROM:-0700
TZOFFSETTO:-0800
TZNAME:PST
DTSTART:20261101T090000
END:STANDARD
BEGIN:DAYLIGHT
TZOFFSETFROM:-0800
TZOFFSETTO:-0700
TZNAME:PDT
DTSTART:20270314T100000
END:DAYLIGHT
BEGIN:STANDARD
TZOFFSETFROM:-0700
TZOFFSETTO:-0800
TZNAME:PST
DTSTART:20271107T090000
END:STANDARD
END:VTIMEZONE
BEGIN:VEVENT
DTSTART;TZID=America/Los_Angeles:20260418T083000
DTEND;TZID=America/Los_Angeles:20260418T160000
DTSTAMP:20260425T071523
CREATED:20260326T171106Z
LAST-MODIFIED:20260410T021134Z
UID:10001100-1776501000-1776528000@www.desertmountains.org
SUMMARY:Tortoise Chat
DESCRIPTION:Have questions about desert tortoises? Come visit our desert tortoise enclosure and learn about conservation efforts to study and protect our wild desert tortoise population in the Monument. Also\, great opportunity to meet Bowser\, our adopted Mojave desert tortoise who lives on site. \nMeet at the tortoise enclosure any time between 8:30am – 11:30am or 1:00pm – 4:00pm. \nNO RESERVATION REQUIRED. \nFor more information contact Friends of the Desert Mountains 760-568-9918 or the Visitor Center at 760-862-9984. \nSponsored by the Bureau of Land Management in partnership with Friends of the Desert Mountains.
URL:https://www.desertmountains.org/event/tortoise-chat-16/
LOCATION:Santa Rosa & San Jacinto Mountains National Monument Visitor Center\, 51500 Highway 74\, Palm Desert\, CA\, 92260\, United States
ATTACH;FMTTYPE=image/jpeg:https://www.desertmountains.org/wp-content/uploads/2025/11/tortoise2.jpg
END:VEVENT
BEGIN:VEVENT
DTSTART;TZID=America/Los_Angeles:20260418T180000
DTEND;TZID=America/Los_Angeles:20260418T210000
DTSTAMP:20260425T071523
CREATED:20260410T020315Z
LAST-MODIFIED:20260410T020315Z
UID:10001115-1776535200-1776546000@www.desertmountains.org
SUMMARY:Out in the Monument: Santa Rosa and San Jacinto Mountains
DESCRIPTION:Join us for a fun\, educational event featuring speakers and activities to celebrate the 25th anniversary of the Santa Rosa and San Jacinto Mountains National Monument! We will have free food\, a silent disco\, scorpion hunting\, and a quiet corner to write postcards and pledges for public lands. \nThere will be LIMITED PUBLIC PARKING for this event. For one night only\, a free shuttle provided by Sunline will cycle between the following stops: \nUniversity of California at San Bernardino College Hub: on Cook and Dinah Shore\nMonterey at College of the Desert: southbound side\nEvent location in the Santa Rosa and San Jacinto Mountains National Monument \nTicket reservations can be made HERE:\n \nView map/UTM Coordinates for the Visitor Center: 33.67149\, -116.40839 \nFor more information contact Friends of the Desert Mountains 760-598-9918 or the Visitor Center at 760-862-9984. \n 
URL:https://www.desertmountains.org/event/out-in-the-monument-santa-rosa-and-san-jacinto-mountains/
LOCATION:Santa Rosa & San Jacinto Mountains National Monument Visitor Center\, 51500 Highway 74\, Palm Desert\, CA\, 92260\, United States
ATTACH;FMTTYPE=image/jpeg:https://www.desertmountains.org/wp-content/uploads/2026/04/OutattheMonument.jpg
END:VEVENT
BEGIN:VEVENT
DTSTART;TZID=America/Los_Angeles:20260418T193000
DTEND;TZID=America/Los_Angeles:20260418T220000
DTSTAMP:20260425T071523
CREATED:20260318T194001Z
LAST-MODIFIED:20260401T151420Z
UID:10001087-1776540600-1776549600@www.desertmountains.org
SUMMARY:Star Party in the Mountains
DESCRIPTION:Join members of the Astronomical Society of the Desert for fun “sky tours” and direct observations of the night sky through telescopes and binoculars. \nThis is a family event. Minors must be accompanied by parent or guardian. \nThis event is wheelchair accessible with asphalt surfaces. \nEtiquette: please do not touch equipment unless requested. No white lights near telescope field. \nNOTE: OVERCAST SKIES AND HIGH WINDS CANCEL THIS EVENT. \nView map & UTM coordinates for the Sawmill Parking Lot: 33.57995\, -116.45056 \nFor more information contact Friends of the Desert Mountains 760-598-9918. RSVP is not required.
URL:https://www.desertmountains.org/event/star-party-in-the-mountains-19/
LOCATION:Sawmill Trailhead Parking Lot\, HGHX+XQG\, Pinyon Pines\, CA
ATTACH;FMTTYPE=image/jpeg:https://www.desertmountains.org/wp-content/uploads/2024/09/star-party-fullmoon-ribbonwood-scaled.jpg
END:VEVENT
END:VCALENDAR