BEGIN:VCALENDAR
VERSION:2.0
PRODID:-//Desert Mountain - ECPv6.15.20//NONSGML v1.0//EN
CALSCALE:GREGORIAN
METHOD:PUBLISH
X-ORIGINAL-URL:https://www.desertmountains.org
X-WR-CALDESC:Events for Desert Mountain
REFRESH-INTERVAL;VALUE=DURATION:PT1H
X-Robots-Tag:noindex
X-PUBLISHED-TTL:PT1H
BEGIN:VTIMEZONE
TZID:America/Los_Angeles
BEGIN:DAYLIGHT
TZOFFSETFROM:-0800
TZOFFSETTO:-0700
TZNAME:PDT
DTSTART:20250309T100000
END:DAYLIGHT
BEGIN:STANDARD
TZOFFSETFROM:-0700
TZOFFSETTO:-0800
TZNAME:PST
DTSTART:20251102T090000
END:STANDARD
BEGIN:DAYLIGHT
TZOFFSETFROM:-0800
TZOFFSETTO:-0700
TZNAME:PDT
DTSTART:20260308T100000
END:DAYLIGHT
BEGIN:STANDARD
TZOFFSETFROM:-0700
TZOFFSETTO:-0800
TZNAME:PST
DTSTART:20261101T090000
END:STANDARD
BEGIN:DAYLIGHT
TZOFFSETFROM:-0800
TZOFFSETTO:-0700
TZNAME:PDT
DTSTART:20270314T100000
END:DAYLIGHT
BEGIN:STANDARD
TZOFFSETFROM:-0700
TZOFFSETTO:-0800
TZNAME:PST
DTSTART:20271107T090000
END:STANDARD
END:VTIMEZONE
BEGIN:VEVENT
DTSTART;TZID=America/Los_Angeles:20260419T050000
DTEND;TZID=America/Los_Angeles:20260425T210000
DTSTAMP:20260425T071623
CREATED:20260320T150154Z
LAST-MODIFIED:20260320T150154Z
UID:10001095-1776574800-1777150800@www.desertmountains.org
SUMMARY:Spring Bioblitz: Santa Rosa & San Jacinto Mountains National Monument
DESCRIPTION:Join us for a week of recording observations in the SRSJM National Monument’s desert\, foothills and mountains.\n\n\nThe Santa Rosa and San Jacinto Mountains is a hotspot for biodiversity with over 3\,100 species. Help us find and document more species by participating in this yearlong bioblitz event to keep identifying new species. \nAnyone can participate by going outside and exploring any of the over 280+ miles of designated trails in the Monument and identifying any plants or animals you see using the iNaturalist app on your phone. Be sure to add the Santa Rosa and San Jacinto Mountains National Monument project to your iNaturalist account to participate. Learn more about iNaturalist here. \nParticipants are encouraged to explore the trails and record as many species as they can using the iNaturalist app. \nParticipants are encouraged to explore the trails and record as many species as they can using the iNaturalist app. There will be one day that week that participants can participate in a special bioblitz event with other participants and local researchers and specialists. Info can be requested by calling the Friends of the Desert Mountains at 760-568-9918 or the Visitor Center (760) 862-9984 a week prior to the start of the event. \nLocation: Special one day event with researchers and specialists is To Be Determined. Otherwise\, participants can explore any of the Monument trails on their own at any time. \nGuides: Various Santa Rosa and San Jacinto Mountains National Monument staff and research partners \nTHE REGISTRATION HERE IS TO PARTICIPATE IN THE WEEK-LONG EVENT. REGISTRATION FOR A DAY OUT WITH OUR RESEARCHERS WILL BE POSTED THE WEEK PRIOR. \nWe will send an email to registered participants to advise when sign-ups are ready for this special research activity. Space will be limited\, so sign up ASAP after receiving notice. This is a free event. \nSponsored by the Bureau of Land Management and the U.S. Forest Service in collaboration with the Friends of the Desert Mountains.
URL:https://www.desertmountains.org/event/spring-bioblitz-santa-rosa-san-jacinto-mountains-national-monument-2/
LOCATION:Santa Rosa & San Jacinto Mountains National Monument\, 51500 Highway 74\, Palm Desert\, CA\, 92260\, United States
ATTACH;FMTTYPE=image/jpeg:https://www.desertmountains.org/wp-content/uploads/2026/03/01599efacd510e5710ac5530a9d7d374-HYvIfr.tmp_.jpg
END:VEVENT
BEGIN:VEVENT
DTSTART;TZID=America/Los_Angeles:20260420T080000
DTEND;TZID=America/Los_Angeles:20260420T100000
DTSTAMP:20260425T071623
CREATED:20260318T194140Z
LAST-MODIFIED:20260403T200307Z
UID:10001088-1776672000-1776679200@www.desertmountains.org
SUMMARY:Birding Walk-About\, Desert Willow
DESCRIPTION:Grab your binoculars and join a Friends’ volunteer docent birding expert to look for our feathered desert residents. In this unique urban area\, we are still able to find a little native desert environment surrounded by local trees and shrubs that many of our feathered friends call home. As you walk the perimeter of an open desert property adjacent to the golf course\, you will find approximately 25-30 different species on your 1-mile walk-about. This is truly a “jewel in the desert” location to be enjoyed. \nBring your binoculars\, 1 liter of water\, a sun hat\, sunscreen and wear close-toed shoes. Sorry\, no dogs are allowed for this event. \nRSVP required. Check-in begins 15 minutes prior to start time. \nNote: We will meet in the parking lot on the right side of Desert Willow Drive just before entering the golf club. View UTM/Map coordinates: 33.76560\, -116.36554  \nFor more information contact Friends of the Desert Mountains 760-568-9918. \nA suggested non-refundable donation of $5.00 per person is appreciated and encouraged to support our volunteer programs. \n   \n 
URL:https://www.desertmountains.org/event/birding-walk-about-desert-willow-43/
LOCATION:Desert Willow Golf Resort\, 38-995 Desert Willow Drive\, Palm Desert\, CA\, 92260\, United States
ATTACH;FMTTYPE=image/jpeg:https://www.desertmountains.org/wp-content/uploads/2025/11/bird-2.jpg
END:VEVENT
END:VCALENDAR