BEGIN:VCALENDAR
VERSION:2.0
PRODID:-//Desert Mountain - ECPv6.15.20//NONSGML v1.0//EN
CALSCALE:GREGORIAN
METHOD:PUBLISH
X-ORIGINAL-URL:https://www.desertmountains.org
X-WR-CALDESC:Events for Desert Mountain
REFRESH-INTERVAL;VALUE=DURATION:PT1H
X-Robots-Tag:noindex
X-PUBLISHED-TTL:PT1H
BEGIN:VTIMEZONE
TZID:America/Los_Angeles
BEGIN:DAYLIGHT
TZOFFSETFROM:-0800
TZOFFSETTO:-0700
TZNAME:PDT
DTSTART:20250309T100000
END:DAYLIGHT
BEGIN:STANDARD
TZOFFSETFROM:-0700
TZOFFSETTO:-0800
TZNAME:PST
DTSTART:20251102T090000
END:STANDARD
BEGIN:DAYLIGHT
TZOFFSETFROM:-0800
TZOFFSETTO:-0700
TZNAME:PDT
DTSTART:20260308T100000
END:DAYLIGHT
BEGIN:STANDARD
TZOFFSETFROM:-0700
TZOFFSETTO:-0800
TZNAME:PST
DTSTART:20261101T090000
END:STANDARD
BEGIN:DAYLIGHT
TZOFFSETFROM:-0800
TZOFFSETTO:-0700
TZNAME:PDT
DTSTART:20270314T100000
END:DAYLIGHT
BEGIN:STANDARD
TZOFFSETFROM:-0700
TZOFFSETTO:-0800
TZNAME:PST
DTSTART:20271107T090000
END:STANDARD
END:VTIMEZONE
BEGIN:VEVENT
DTSTART;TZID=America/Los_Angeles:20260523T201500
DTEND;TZID=America/Los_Angeles:20260523T211500
DTSTAMP:20260425T083627
CREATED:20260402T033200Z
LAST-MODIFIED:20260402T033200Z
UID:10001113-1779567300-1779570900@www.desertmountains.org
SUMMARY:Monument Night Adventures
DESCRIPTION:Discover how the desert comes alive after dark! Do you know which animals change colors when you use a blacklight? \nUsing blacklights\, a Friends’ volunteer docent will begin a short walk on uneven cobbled desert terrain in the basin below the dike/levy looking for scorpions and other nocturnal creatures that inhabit our desert. \nThis is a family friendly event. Minors must be accompanied by a parent or guardian. Bring water\, wear closed-toed shoes and a black light if you have one. If not\, we will have a few black lights to share. Sorry\, no dogs allowed on this trail. \nRSVP is required\, check-in 15 minutes prior to start time. Ticket reservations begin 14 days prior to the event. A suggested non-refundable donation of $5.00 per person is appreciated and encouraged to support our volunteer programs. \nFor more information contact Friends of the Desert Mountains at 760-568-9918. \nPlease note: We will meet at the Art Smith Trailhead parking lot located just past the driveway for the Visitor Center approximately 100 feet on the southwest side of Highway 74. \nView map at coordinates: 33.667957\, -116.407666 \n\n\nTicket reservations begin 2 weeks prior to the event and will be published at that time.
URL:https://www.desertmountains.org/event/monument-night-adventures-3/
LOCATION:Art Smith Trailhead\, MH9R+7Q\, Palm Desert\, CA\, 92260\, United States
ATTACH;FMTTYPE=image/jpeg:https://www.desertmountains.org/wp-content/uploads/2025/03/ef1c96809c9886be9d30d1f80858b590-MJTLjI.tmp_.jpg
END:VEVENT
BEGIN:VEVENT
DTSTART;TZID=America/Los_Angeles:20260523T201500
DTEND;TZID=America/Los_Angeles:20260523T220000
DTSTAMP:20260425T083627
CREATED:20260402T033330Z
LAST-MODIFIED:20260402T033330Z
UID:10001114-1779567300-1779573600@www.desertmountains.org
SUMMARY:Night Sky Viewing Stars and Planets
DESCRIPTION:Friends of the Desert Mountains volunteer astronomers will be setting up their telescopes and are inviting you to stop by any time while they are there to view the ever-changing display of fascinating objects to see — stars\, constellations\, bright planets\, moon and sometimes meteors. \nThis is a family friendly event. Minors must be accompanied by parent or guardian. Bring water and wear closed-toed shoes. \nRSVP is required. Ticket reservations begin 14 days prior to the event. A suggested non-refundable donation of $5.00 per person is appreciated and encouraged to support our volunteer programs. \nNOTE: CHECK WEATHER BEFORE DEPARTING\, THIS EVENT WILL BE CANCELLED FOR HEAVY CLOUD COVER\, WIND OR RAIN. \nFor more information contact Friends of the Desert Mountains at 760-568-9918. \nWe will meet at the Art Smith Trailhead parking lot located just past the driveway for the Visitor Center approximately 100 feet on the southwest side of Highway 74. \nView map at coordinates: 33.667957\, -116.407666 \n\n\nTicket reservations begin 2 weeks prior to the event and will be published at that time.
URL:https://www.desertmountains.org/event/night-sky-viewing-stars-and-planets-7/
LOCATION:Art Smith Trailhead\, MH9R+7Q\, Palm Desert\, CA\, 92260\, United States
ATTACH;FMTTYPE=image/jpeg:https://www.desertmountains.org/wp-content/uploads/2025/03/e1a064b479260a532fdae3c06e14cbee-znOLWp.tmp_.jpg
END:VEVENT
END:VCALENDAR