BEGIN:VCALENDAR
VERSION:2.0
PRODID:-//Desert Mountain - ECPv6.15.20//NONSGML v1.0//EN
CALSCALE:GREGORIAN
METHOD:PUBLISH
X-ORIGINAL-URL:https://www.desertmountains.org
X-WR-CALDESC:Events for Desert Mountain
REFRESH-INTERVAL;VALUE=DURATION:PT1H
X-Robots-Tag:noindex
X-PUBLISHED-TTL:PT1H
BEGIN:VTIMEZONE
TZID:UTC
BEGIN:STANDARD
TZOFFSETFROM:+0000
TZOFFSETTO:+0000
TZNAME:UTC
DTSTART:20240101T000000
END:STANDARD
END:VTIMEZONE
BEGIN:VTIMEZONE
TZID:America/Los_Angeles
BEGIN:DAYLIGHT
TZOFFSETFROM:-0800
TZOFFSETTO:-0700
TZNAME:PDT
DTSTART:20240310T100000
END:DAYLIGHT
BEGIN:STANDARD
TZOFFSETFROM:-0700
TZOFFSETTO:-0800
TZNAME:PST
DTSTART:20241103T090000
END:STANDARD
BEGIN:DAYLIGHT
TZOFFSETFROM:-0800
TZOFFSETTO:-0700
TZNAME:PDT
DTSTART:20250309T100000
END:DAYLIGHT
BEGIN:STANDARD
TZOFFSETFROM:-0700
TZOFFSETTO:-0800
TZNAME:PST
DTSTART:20251102T090000
END:STANDARD
BEGIN:DAYLIGHT
TZOFFSETFROM:-0800
TZOFFSETTO:-0700
TZNAME:PDT
DTSTART:20260308T100000
END:DAYLIGHT
BEGIN:STANDARD
TZOFFSETFROM:-0700
TZOFFSETTO:-0800
TZNAME:PST
DTSTART:20261101T090000
END:STANDARD
END:VTIMEZONE
BEGIN:VEVENT
DTSTART;TZID=UTC:20250906T083000
DTEND;TZID=UTC:20250906T093000
DTSTAMP:20260425T155958
CREATED:20250725T004439Z
LAST-MODIFIED:20250824T043727Z
UID:10000607-1757147400-1757151000@www.desertmountains.org
SUMMARY:Tortoise Chat
DESCRIPTION:Have questions about desert tortoises? Come visit our desert tortoise enclosure and learn about conservation efforts to study and protect our wild desert tortoise population in the Monument. Also\, great opportunity to meet Bowser\, our adopted Mojave desert tortoise who lives on site. \nMeet at the tortoise enclosure any time between 8:30am – 9:30am. (Note: times may be reduced due to heat.) \nNO RESERVATION REQUIRED. \nFor more information call the Visitor Center at 760-862-9984. \nSponsored by the Bureau of Land Management in partnership with Friends of the Desert Mountains.
URL:https://www.desertmountains.org/event/tortoise-chat-3-3/2025-09-06/
LOCATION:Santa Rosa & San Jacinto Mountains National Monument\, 51500 Highway 74\, Palm Desert\, CA\, 92260\, United States
ATTACH;FMTTYPE=image/jpeg:https://www.desertmountains.org/wp-content/uploads/2025/04/tortoise-talk1.jpg
END:VEVENT
BEGIN:VEVENT
DTSTART;TZID=UTC:20250907T083000
DTEND;TZID=UTC:20250907T093000
DTSTAMP:20260425T155958
CREATED:20250427T074933Z
LAST-MODIFIED:20250824T043503Z
UID:10000615-1757233800-1757237400@www.desertmountains.org
SUMMARY:Tortoise Chat
DESCRIPTION:Have questions about desert tortoises? Come visit our desert tortoise enclosure and learn about conservation efforts to study and protect our wild desert tortoise population in the Monument. Also\, great opportunity to meet Bowser\, our adopted Mojave desert tortoise who lives on site. \nMeet at the tortoise enclosure any time between 8:30am – 9:30am. (Note: times may be reduced due to heat.) \nNO RESERVATION REQUIRED. \nFor more information call the Visitor Center at 760-862-9984. \nSponsored by the Bureau of Land Management in partnership with Friends of the Desert Mountains.
URL:https://www.desertmountains.org/event/tortoise-chat-4/2025-09-07/
LOCATION:Santa Rosa & San Jacinto Mountains National Monument\, 51500 Highway 74\, Palm Desert\, CA\, 92260\, United States
ATTACH;FMTTYPE=image/jpeg:https://www.desertmountains.org/wp-content/uploads/2025/04/tortoise-talk2.jpg
END:VEVENT
BEGIN:VEVENT
DTSTART;TZID=UTC:20250913T083000
DTEND;TZID=UTC:20250913T093000
DTSTAMP:20260425T155958
CREATED:20250911T005608Z
LAST-MODIFIED:20250911T005608Z
UID:10000608-1757752200-1757755800@www.desertmountains.org
SUMMARY:Tortoise Chat
DESCRIPTION:Have questions about desert tortoises? Come visit our desert tortoise enclosure and learn about conservation efforts to study and protect our wild desert tortoise population in the Monument. Also\, great opportunity to meet Bowser\, our adopted Mojave desert tortoise who lives on site. \nMeet at the tortoise enclosure any time between 8:30am – 9:30am. (Note: times may be reduced due to heat.) \nNO RESERVATION REQUIRED. \nFor more information call the Visitor Center at 760-862-9984. \nSponsored by the Bureau of Land Management in partnership with Friends of the Desert Mountains.
URL:https://www.desertmountains.org/event/tortoise-chat-3-3-2/2025-09-13/
LOCATION:Santa Rosa & San Jacinto Mountains National Monument\, 51500 Highway 74\, Palm Desert\, CA\, 92260\, United States
ATTACH;FMTTYPE=image/jpeg:https://www.desertmountains.org/wp-content/uploads/2025/04/tortoise-talk1.jpg
END:VEVENT
BEGIN:VEVENT
DTSTART;TZID=America/Los_Angeles:20250913T193000
DTEND;TZID=America/Los_Angeles:20250913T223000
DTSTAMP:20260425T155958
CREATED:20250323T234350Z
LAST-MODIFIED:20250323T234350Z
UID:10000542-1757791800-1757802600@www.desertmountains.org
SUMMARY:Monument Night Adventures 7:30p Group
DESCRIPTION:Night hike-\n\n\nDiscover how the desert comes alive after dark! Do you know which animals change colors when you use a blacklight? \nUsing blacklights\, a Friends’ volunteer docent will begin a short walk on uneven cobbled desert terrain in the basin below the dike/levy looking for scorpions and other nocturnal creatures that inhabit our desert. \nThis is a family friendly event. Minors must be accompanied by a parent or guardian. Bring water\, wear closed-toed shoes and a black light if you have one. If not\, we will have a few black lights to share. Sorry\, no dogs allowed on this trail. \nRSVP is required\, check-in 15 minutes prior to start time. Ticket reservations begin 14 days prior to the event. A suggested non-refundable donation of $5.00 per person is appreciated and encouraged to support our volunteer programs. \nFor more information contact Friends of the Desert Mountains at 760-568-9918. \nPlease note: We will meet at the Art Smith Trailhead parking lot located just past the driveway for the Visitor Center approximately 100 feet on the southwest side of Highway 74. \nView map at coordinates: 33.667957\, -116.407666
URL:https://www.desertmountains.org/event/monument-night-adventures-730p-group/
LOCATION:Art Smith Trailhead\, MH9R+7Q\, Palm Desert\, CA\, 92260\, United States
ATTACH;FMTTYPE=image/jpeg:https://www.desertmountains.org/wp-content/uploads/2025/03/ef1c96809c9886be9d30d1f80858b590-MJTLjI.tmp_.jpg
END:VEVENT
BEGIN:VEVENT
DTSTART;TZID=America/Los_Angeles:20250913T193000
DTEND;TZID=America/Los_Angeles:20250913T223000
DTSTAMP:20260425T155958
CREATED:20250323T234352Z
LAST-MODIFIED:20250323T234352Z
UID:10000543-1757791800-1757802600@www.desertmountains.org
SUMMARY:Night Sky Viewing Stars and Planets
DESCRIPTION:Night event-\n\n\nFriends of the Desert Mountains volunteer astronomers will be setting up their telescopes and are inviting you to stop by any time while they are there to view the ever-changing display of fascinating objects to see — stars\, constellations\, bright planets\, moon and sometimes meteors. \nThis is a family friendly event. Minors must be accompanied by parent or guardian. Bring water and wear closed-toed shoes. \nRSVP is required. Ticket reservations begin 14 days prior to the event. A suggested non-refundable donation of $5.00 per person is appreciated and encouraged to support our volunteer programs. \nNOTE: CHECK WEATHER BEFORE DEPARTING\, THIS EVENT WILL BE CANCELLED FOR HEAVY CLOUD COVER\, WIND OR RAIN. \nFor more information contact Friends of the Desert Mountains at 760-568-9918. \nWe will meet at the Art Smith Trailhead parking lot located just past the driveway for the Visitor Center approximately 100 feet on the southwest side of Highway 74. \nView map at coordinates: 33.667957\, -116.407666
URL:https://www.desertmountains.org/event/night-sky-viewing-stars-and-planets-5/
LOCATION:Art Smith Trailhead\, MH9R+7Q\, Palm Desert\, CA\, 92260\, United States
ATTACH;FMTTYPE=image/jpeg:https://www.desertmountains.org/wp-content/uploads/2025/03/e1a064b479260a532fdae3c06e14cbee-znOLWp.tmp_.jpg
END:VEVENT
BEGIN:VEVENT
DTSTART;TZID=UTC:20250914T083000
DTEND;TZID=UTC:20250914T093000
DTSTAMP:20260425T155958
CREATED:20250913T021739Z
LAST-MODIFIED:20250913T021739Z
UID:10000616-1757838600-1757842200@www.desertmountains.org
SUMMARY:Tortoise Chat - CANCELLED
DESCRIPTION:VISITOR CENTER IS CLOSED THIS DAY. \nHave questions about desert tortoises? Come visit our desert tortoise enclosure and learn about conservation efforts to study and protect our wild desert tortoise population in the Monument. Also\, great opportunity to meet Bowser\, our adopted Mojave desert tortoise who lives on site. \nMeet at the tortoise enclosure any time between 8:30am – 9:30am. (Note: times may be reduced due to heat.) \nNO RESERVATION REQUIRED. \nFor more information call the Visitor Center at 760-862-9984. \nSponsored by the Bureau of Land Management in partnership with Friends of the Desert Mountains.
URL:https://www.desertmountains.org/event/tortoise-chat-4-2-2/
LOCATION:Santa Rosa & San Jacinto Mountains National Monument\, 51500 Highway 74\, Palm Desert\, CA\, 92260\, United States
ATTACH;FMTTYPE=image/jpeg:https://www.desertmountains.org/wp-content/uploads/2025/04/tortoise-talk2.jpg
END:VEVENT
BEGIN:VEVENT
DTSTART;TZID=UTC:20250920T083000
DTEND;TZID=UTC:20250920T093000
DTSTAMP:20260425T155958
CREATED:20250911T005608Z
LAST-MODIFIED:20250911T005608Z
UID:10000609-1758357000-1758360600@www.desertmountains.org
SUMMARY:Tortoise Chat
DESCRIPTION:Have questions about desert tortoises? Come visit our desert tortoise enclosure and learn about conservation efforts to study and protect our wild desert tortoise population in the Monument. Also\, great opportunity to meet Bowser\, our adopted Mojave desert tortoise who lives on site. \nMeet at the tortoise enclosure any time between 8:30am – 9:30am. (Note: times may be reduced due to heat.) \nNO RESERVATION REQUIRED. \nFor more information call the Visitor Center at 760-862-9984. \nSponsored by the Bureau of Land Management in partnership with Friends of the Desert Mountains.
URL:https://www.desertmountains.org/event/tortoise-chat-3-3-2/2025-09-20/
LOCATION:Santa Rosa & San Jacinto Mountains National Monument\, 51500 Highway 74\, Palm Desert\, CA\, 92260\, United States
ATTACH;FMTTYPE=image/jpeg:https://www.desertmountains.org/wp-content/uploads/2025/04/tortoise-talk1.jpg
END:VEVENT
BEGIN:VEVENT
DTSTART;TZID=UTC:20250920T190000
DTEND;TZID=UTC:20250920T220000
DTSTAMP:20260425T155958
CREATED:20241128T221841Z
LAST-MODIFIED:20250916T081822Z
UID:10000166-1758394800-1758405600@www.desertmountains.org
SUMMARY:Star Party in the Mountains
DESCRIPTION:Join members of the Astronomical Society of the Desert for fun “sky tours” and direct observations of the night sky through telescopes and binoculars. \nThis is a family event. Minors must be accompanied by parent or guardian. \nThis event is wheelchair accessible with asphalt surfaces. \nFor more information call 760-862-9984. RSVP is not required. \nEtiquette: please do not touch equipment unless requested. No white lights near telescope field. \nNOTE: OVERCAST SKIES AND HIGH WINDS CANCEL THIS EVENT. \nView map & UTM coordinates for the Sawmill Parking Lot: 33.57995\, -116.45056
URL:https://www.desertmountains.org/event/star-party-in-the-mountains-12/
LOCATION:Sawmill Trailhead Parking Lot\, HGHX+XQG\, Pinyon Pines\, CA
ATTACH;FMTTYPE=image/jpeg:https://www.desertmountains.org/wp-content/uploads/2024/09/star-party-fullmoon-ribbonwood-scaled.jpg
END:VEVENT
BEGIN:VEVENT
DTSTART;TZID=UTC:20250921T083000
DTEND;TZID=UTC:20250921T093000
DTSTAMP:20260425T155958
CREATED:20250911T005752Z
LAST-MODIFIED:20250911T005752Z
UID:10000617-1758443400-1758447000@www.desertmountains.org
SUMMARY:Tortoise Chat
DESCRIPTION:Have questions about desert tortoises? Come visit our desert tortoise enclosure and learn about conservation efforts to study and protect our wild desert tortoise population in the Monument. Also\, great opportunity to meet Bowser\, our adopted Mojave desert tortoise who lives on site. \nMeet at the tortoise enclosure any time between 8:30am – 9:30am. (Note: times may be reduced due to heat.) \nNO RESERVATION REQUIRED. \nFor more information call the Visitor Center at 760-862-9984. \nSponsored by the Bureau of Land Management in partnership with Friends of the Desert Mountains.
URL:https://www.desertmountains.org/event/tortoise-chat-4-2/2025-09-21/
LOCATION:Santa Rosa & San Jacinto Mountains National Monument\, 51500 Highway 74\, Palm Desert\, CA\, 92260\, United States
ATTACH;FMTTYPE=image/jpeg:https://www.desertmountains.org/wp-content/uploads/2025/04/tortoise-talk2.jpg
END:VEVENT
BEGIN:VEVENT
DTSTART;TZID=UTC:20250927T083000
DTEND;TZID=UTC:20250927T093000
DTSTAMP:20260425T155958
CREATED:20250911T005608Z
LAST-MODIFIED:20250911T005608Z
UID:10000564-1758961800-1758965400@www.desertmountains.org
SUMMARY:Tortoise Chat
DESCRIPTION:Have questions about desert tortoises? Come visit our desert tortoise enclosure and learn about conservation efforts to study and protect our wild desert tortoise population in the Monument. Also\, great opportunity to meet Bowser\, our adopted Mojave desert tortoise who lives on site. \nMeet at the tortoise enclosure any time between 8:30am – 9:30am. (Note: times may be reduced due to heat.) \nNO RESERVATION REQUIRED. \nFor more information call the Visitor Center at 760-862-9984. \nSponsored by the Bureau of Land Management in partnership with Friends of the Desert Mountains.
URL:https://www.desertmountains.org/event/tortoise-chat-3-3-2/2025-09-27/
LOCATION:Santa Rosa & San Jacinto Mountains National Monument\, 51500 Highway 74\, Palm Desert\, CA\, 92260\, United States
ATTACH;FMTTYPE=image/jpeg:https://www.desertmountains.org/wp-content/uploads/2025/04/tortoise-talk1.jpg
END:VEVENT
BEGIN:VEVENT
DTSTART;TZID=America/Los_Angeles:20250927T183000
DTEND;TZID=America/Los_Angeles:20250927T220000
DTSTAMP:20260425T155958
CREATED:20241129T033112Z
LAST-MODIFIED:20250928T024010Z
UID:10000205-1758997800-1759010400@www.desertmountains.org
SUMMARY:CANCELLED: Star Party at the Monument
DESCRIPTION:DUE TO WEATHER CONDITIONS\, THIS EVENT HAS BEEN CANCELLED. \nJoin members of the Astronomical Society of the Desert for fun “sky tours” and direct observations of the night sky through telescopes and binoculars. \nThis is a family event. Minors must be accompanied by parent or guardian. \nThis event is wheelchair accessible with asphalt surfaces. \nFor more information call 760-862-9984. \nEtiquette: please do not touch equipment unless requested. No white lights near telescope field. \nNOTE: OVERCAST SKIES CANCELS THIS EVENT. \nRegistration begins 14 days prior to the event. A suggested nonrefundable donation of $5.00 per person is appreciated and encouraged to support our volunteer programs. \nView map/UTM Coordinates for the Visitor Center: 33.67149\, -116.40839
URL:https://www.desertmountains.org/event/star-party-at-the-monument-9/
LOCATION:Santa Rosa & San Jacinto Mountains National Monument Visitor Center\, 51500 Highway 74\, Palm Desert\, CA\, 92260\, United States
ATTACH;FMTTYPE=image/jpeg:https://www.desertmountains.org/wp-content/uploads/2024/11/03f8c33ffa9659e6772084884c314010-ahlHel.tmp_.jpg
END:VEVENT
BEGIN:VEVENT
DTSTART;TZID=UTC:20250928T083000
DTEND;TZID=UTC:20250928T093000
DTSTAMP:20260425T155958
CREATED:20250911T005752Z
LAST-MODIFIED:20250911T005752Z
UID:10000618-1759048200-1759051800@www.desertmountains.org
SUMMARY:Tortoise Chat
DESCRIPTION:Have questions about desert tortoises? Come visit our desert tortoise enclosure and learn about conservation efforts to study and protect our wild desert tortoise population in the Monument. Also\, great opportunity to meet Bowser\, our adopted Mojave desert tortoise who lives on site. \nMeet at the tortoise enclosure any time between 8:30am – 9:30am. (Note: times may be reduced due to heat.) \nNO RESERVATION REQUIRED. \nFor more information call the Visitor Center at 760-862-9984. \nSponsored by the Bureau of Land Management in partnership with Friends of the Desert Mountains.
URL:https://www.desertmountains.org/event/tortoise-chat-4-2/2025-09-28/
LOCATION:Santa Rosa & San Jacinto Mountains National Monument\, 51500 Highway 74\, Palm Desert\, CA\, 92260\, United States
ATTACH;FMTTYPE=image/jpeg:https://www.desertmountains.org/wp-content/uploads/2025/04/tortoise-talk2.jpg
END:VEVENT
END:VCALENDAR